BEGIN:VCALENDAR
PRODID:-//nuDatenautomaten//framework iCal4j //DE
VERSION:2.0
CALSCALE:GREGORIAN
BEGIN:VTIMEZONE
TZID:Europe/Berlin
LAST-MODIFIED:20260306T231828Z
TZURL:https://www.tzurl.org/zoneinfo/Europe/Berlin
X-LIC-LOCATION:Europe/Berlin
X-PROLEPTIC-TZNAME:LMT
BEGIN:STANDARD
TZNAME:CET
TZOFFSETFROM:+005328
TZOFFSETTO:+0100
DTSTART:18930401T000000
END:STANDARD
BEGIN:DAYLIGHT
TZNAME:CEST
TZOFFSETFROM:+0100
TZOFFSETTO:+0200
DTSTART:19160430T230000
RDATE:19400401T020000
RDATE:19430329T020000
RDATE:19460414T020000
RDATE:19470406T030000
RDATE:19480418T020000
RDATE:19490410T020000
RDATE:19800406T020000
END:DAYLIGHT
BEGIN:STANDARD
TZNAME:CET
TZOFFSETFROM:+0200
TZOFFSETTO:+0100
DTSTART:19161001T010000
RDATE:19421102T030000
RDATE:19431004T030000
RDATE:19441002T030000
RDATE:19451118T030000
RDATE:19461007T030000
END:STANDARD
BEGIN:DAYLIGHT
TZNAME:CEST
TZOFFSETFROM:+0100
TZOFFSETTO:+0200
DTSTART:19170416T020000
RRULE:FREQ=YEARLY;UNTIL=19180415T010000Z;BYMONTH=4;BYDAY=3MO
END:DAYLIGHT
BEGIN:STANDARD
TZNAME:CET
TZOFFSETFROM:+0200
TZOFFSETTO:+0100
DTSTART:19170917T030000
RRULE:FREQ=YEARLY;UNTIL=19180916T010000Z;BYMONTH=9;BYDAY=3MO
END:STANDARD
BEGIN:DAYLIGHT
TZNAME:CEST
TZOFFSETFROM:+0100
TZOFFSETTO:+0200
DTSTART:19440403T020000
RRULE:FREQ=YEARLY;UNTIL=19450402T010000Z;BYMONTH=4;BYDAY=1MO
END:DAYLIGHT
BEGIN:DAYLIGHT
TZNAME:CEMT
TZOFFSETFROM:+0200
TZOFFSETTO:+0300
DTSTART:19450524T020000
RDATE:19470511T030000
END:DAYLIGHT
BEGIN:DAYLIGHT
TZNAME:CEST
TZOFFSETFROM:+0300
TZOFFSETTO:+0200
DTSTART:19450924T030000
RDATE:19470629T030000
END:DAYLIGHT
BEGIN:STANDARD
TZNAME:CET
TZOFFSETFROM:+0100
TZOFFSETTO:+0100
DTSTART:19460101T000000
RDATE:19800101T000000
END:STANDARD
BEGIN:STANDARD
TZNAME:CET
TZOFFSETFROM:+0200
TZOFFSETTO:+0100
DTSTART:19471005T030000
RRULE:FREQ=YEARLY;UNTIL=19491002T010000Z;BYMONTH=10;BYDAY=1SU
END:STANDARD
BEGIN:STANDARD
TZNAME:CET
TZOFFSETFROM:+0200
TZOFFSETTO:+0100
DTSTART:19800928T030000
RRULE:FREQ=YEARLY;UNTIL=19950924T010000Z;BYMONTH=9;BYDAY=-1SU
END:STANDARD
BEGIN:DAYLIGHT
TZNAME:CEST
TZOFFSETFROM:+0100
TZOFFSETTO:+0200
DTSTART:19810329T020000
RRULE:FREQ=YEARLY;BYMONTH=3;BYDAY=-1SU
END:DAYLIGHT
BEGIN:STANDARD
TZNAME:CET
TZOFFSETFROM:+0200
TZOFFSETTO:+0100
DTSTART:19961027T030000
RRULE:FREQ=YEARLY;BYMONTH=10;BYDAY=-1SU
END:STANDARD
END:VTIMEZONE
BEGIN:VEVENT
DTSTAMP:20260424T084031Z
DTSTART;TZID=Europe/Berlin:20250908T193000
DTEND;TZID=Europe/Berlin:20250908T223000
SUMMARY:HE 4. Liga Gr. 2 Münsingen III vs Ostermundigen VII (5)
UID:a7d3c402-0221-430f-8f5f-251f960dd5ec
STATUS:CONFIRMED
LAST-MODIFIED:20250918T140915Z
DESCRIPTION:4. Liga Herren Gruppe 2\nBegegnungs-Nr: 5\nHeim: Münsingen III\nGast: Ostermundigen VII\n\nAdresse: Turnhallenweg 8\, 3110 Münsingen\n
LOCATION:Turnhallenweg 8\, 3110 Münsingen
CATEGORIES:Saison 2025/26
END:VEVENT
BEGIN:VEVENT
DTSTAMP:20260424T084031Z
DTSTART;TZID=Europe/Berlin:20251208T193000
DTEND;TZID=Europe/Berlin:20251208T223000
SUMMARY:HE 4. Liga Gr. 2 Münsingen III vs Thun IV (28)
UID:1ef141dc-37e2-47f7-8a9e-db777a19baa5
STATUS:CONFIRMED
LAST-MODIFIED:20251216T120527Z
DESCRIPTION:4. Liga Herren Gruppe 2\nBegegnungs-Nr: 28\nHeim: Münsingen III\nGast: Thun IV\n\nAdresse: Turnhallenweg 8\, 3110 Münsingen\n
LOCATION:Turnhallenweg 8\, 3110 Münsingen
CATEGORIES:Saison 2025/26
END:VEVENT
BEGIN:VEVENT
DTSTAMP:20260424T084031Z
DTSTART;TZID=Europe/Berlin:20251127T200000
DTEND;TZID=Europe/Berlin:20251127T230000
SUMMARY:HE 4. Liga Gr. 2 Münsingen III vs Stettlen (24)
UID:d2c0bc47-d67b-45dd-b6df-5162259c8828
STATUS:CONFIRMED
LAST-MODIFIED:20251207T172842Z
DESCRIPTION:4. Liga Herren Gruppe 2\nBegegnungs-Nr: 24\nHeim: Münsingen III\nGast: Stettlen\n\nAdresse: Turnhallenweg 8\, 3110 Münsingen\n
LOCATION:Turnhallenweg 8\, 3110 Münsingen
CATEGORIES:Saison 2025/26
END:VEVENT
BEGIN:VEVENT
DTSTAMP:20260424T084031Z
DTSTART;TZID=Europe/Berlin:20251105T200000
DTEND;TZID=Europe/Berlin:20251105T230000
SUMMARY:HE 4. Liga Gr. 2 Münsingen III vs Wohlensee III (15)
UID:15d4aece-b505-4d48-9517-5f773197ad34
STATUS:CONFIRMED
LAST-MODIFIED:20251115T173619Z
DESCRIPTION:4. Liga Herren Gruppe 2\nBegegnungs-Nr: 15\nHeim: Münsingen III\nGast: Wohlensee III\n\nAdresse: Turnhallenweg 8\, 3110 Münsingen\n
LOCATION:Turnhallenweg 8\, 3110 Münsingen
CATEGORIES:Saison 2025/26
END:VEVENT
BEGIN:VEVENT
DTSTAMP:20260424T084031Z
DTSTART;TZID=Europe/Berlin:20260302T193000
DTEND;TZID=Europe/Berlin:20260302T223000
SUMMARY:HE 4. Liga Gr. 2 Münsingen III vs Bern VII (19)
UID:0ce1f44d-db17-4c1d-8334-8b61ecb7f774
STATUS:CONFIRMED
LAST-MODIFIED:20260308T175154Z
DESCRIPTION:4. Liga Herren Gruppe 2\nBegegnungs-Nr: 19\nHeim: Münsingen III\nGast: Bern VII\n\nAdresse: Turnhallenweg 8\, 3110 Münsingen\n
LOCATION:Turnhallenweg 8\, 3110 Münsingen
CATEGORIES:Saison 2025/26
END:VEVENT
BEGIN:VEVENT
DTSTAMP:20260424T084031Z
DTSTART;TZID=Europe/Berlin:20260202T193000
DTEND;TZID=Europe/Berlin:20260202T223000
SUMMARY:HE 4. Liga Gr. 2 Münsingen III vs Langnau III (10)
UID:69aabed3-d349-483d-9b72-36b62d0b0406
STATUS:CONFIRMED
LAST-MODIFIED:20260218T065749Z
DESCRIPTION:4. Liga Herren Gruppe 2\nBegegnungs-Nr: 10\nHeim: Münsingen III\nGast: Langnau III\n\nAdresse: Turnhallenweg 8\, 3110 Münsingen\n
LOCATION:Turnhallenweg 8\, 3110 Münsingen
CATEGORIES:Saison 2025/26
END:VEVENT
BEGIN:VEVENT
DTSTAMP:20260424T084031Z
DTSTART;TZID=Europe/Berlin:20260112T193000
DTEND;TZID=Europe/Berlin:20260112T223000
SUMMARY:HE 4. Liga Gr. 2 Münsingen III vs Tiefenau (4)
UID:78309f56-8c41-453e-bb14-2d6e2bb5d1a9
STATUS:CONFIRMED
LAST-MODIFIED:20260125T001604Z
DESCRIPTION:4. Liga Herren Gruppe 2\nBegegnungs-Nr: 4\nHeim: Münsingen III\nGast: Tiefenau\n\nAdresse: Turnhallenweg 8\, 3110 Münsingen\n
LOCATION:Turnhallenweg 8\, 3110 Münsingen
CATEGORIES:Saison 2025/26
END:VEVENT
BEGIN:VEVENT
DTSTAMP:20260424T084031Z
DTSTART;TZID=Europe/Berlin:20250904T194500
DTEND;TZID=Europe/Berlin:20250904T224500
SUMMARY:HE 4. Liga Gr. 2 Tiefenau vs Münsingen III (4)
UID:123841d9-041c-4b4d-b745-00906615eb42
STATUS:CONFIRMED
LAST-MODIFIED:20250907T200118Z
DESCRIPTION:4. Liga Herren Gruppe 2\nBegegnungs-Nr: 4\nHeim: Tiefenau\nGast: Münsingen III\n\nAdresse: Studerstrasse 56\, 3004 Bern\n
LOCATION:Studerstrasse 56\, 3004 Bern
CATEGORIES:Saison 2025/26
END:VEVENT
BEGIN:VEVENT
DTSTAMP:20260424T084031Z
DTSTART;TZID=Europe/Berlin:20251112T193000
DTEND;TZID=Europe/Berlin:20251112T223000
SUMMARY:HE 4. Liga Gr. 2 Bern VII vs Münsingen III (19)
UID:a9aef07b-9f96-4eae-8a6c-601553a10fee
STATUS:CONFIRMED
LAST-MODIFIED:20251115T173712Z
DESCRIPTION:4. Liga Herren Gruppe 2\nBegegnungs-Nr: 19\nHeim: Bern VII\nGast: Münsingen III\n\nAdresse: Papiermühlestrasse 81\, 3014 Bern\n
LOCATION:Papiermühlestrasse 81\, 3014 Bern
CATEGORIES:Saison 2025/26
END:VEVENT
BEGIN:VEVENT
DTSTAMP:20260424T084031Z
DTSTART;TZID=Europe/Berlin:20251008T200000
DTEND;TZID=Europe/Berlin:20251008T230000
SUMMARY:HE 4. Liga Gr. 2 Langnau III vs Münsingen III (10)
UID:e42d69d0-bde4-4911-b02d-f316762b1194
STATUS:CONFIRMED
LAST-MODIFIED:20251009T193635Z
DESCRIPTION:4. Liga Herren Gruppe 2\nBegegnungs-Nr: 10\nHeim: Langnau III\nGast: Münsingen III\n\nAdresse: Bleicheweg 11\, 3550 Langnau\n
LOCATION:Bleicheweg 11\, 3550 Langnau
CATEGORIES:Saison 2025/26
END:VEVENT
BEGIN:VEVENT
DTSTAMP:20260424T084031Z
DTSTART;TZID=Europe/Berlin:20260311T194500
DTEND;TZID=Europe/Berlin:20260311T224500
SUMMARY:HE 4. Liga Gr. 2 Stettlen vs Münsingen III (24)
UID:df695ee2-18ba-4217-afda-30ad1f7d566a
STATUS:CONFIRMED
LAST-MODIFIED:20260315T230118Z
DESCRIPTION:4. Liga Herren Gruppe 2\nBegegnungs-Nr: 24\nHeim: Stettlen\nGast: Münsingen III\n\nAdresse: Bernstrasse 45\, 3066 Stettlen\n
LOCATION:Bernstrasse 45\, 3066 Stettlen
CATEGORIES:Saison 2025/26
END:VEVENT
BEGIN:VEVENT
DTSTAMP:20260424T084031Z
DTSTART;TZID=Europe/Berlin:20260225T194500
DTEND;TZID=Europe/Berlin:20260225T224500
SUMMARY:HE 4. Liga Gr. 2 Wohlensee III vs Münsingen III (15)
UID:9c743179-68d9-48f2-8a19-986ab0b8136b
STATUS:CONFIRMED
LAST-MODIFIED:20260302T144642Z
DESCRIPTION:4. Liga Herren Gruppe 2\nBegegnungs-Nr: 15\nHeim: Wohlensee III\nGast: Münsingen III\n\nAdresse: Kappelenring 36 a\, 3032 Hinterkappelen\n
LOCATION:Kappelenring 36 a\, 3032 Hinterkappelen
CATEGORIES:Saison 2025/26
END:VEVENT
BEGIN:VEVENT
DTSTAMP:20260424T084031Z
DTSTART;TZID=Europe/Berlin:20260323T000000
DTEND;TZID=Europe/Berlin:20260323T030000
SUMMARY:HE 4. Liga Gr. 2 Thun IV vs Münsingen III (28)
UID:4c1257c3-aaad-4e40-a9fd-ba698c727f7b
STATUS:CONFIRMED
LAST-MODIFIED:20260409T123924Z
DESCRIPTION:4. Liga Herren Gruppe 2\nBegegnungs-Nr: 28\nHeim: Thun IV\nGast: Münsingen III\n
LOCATION:
CATEGORIES:Saison 2025/26
END:VEVENT
BEGIN:VEVENT
DTSTAMP:20260424T084031Z
DTSTART;TZID=Europe/Berlin:20260123T194500
DTEND;TZID=Europe/Berlin:20260123T224500
SUMMARY:HE 4. Liga Gr. 2 Ostermundigen VII vs Münsingen III (5)
UID:5ca4d212-52fe-4f5e-b3e2-742a0aeeb679
STATUS:CONFIRMED
LAST-MODIFIED:20260125T001714Z
DESCRIPTION:4. Liga Herren Gruppe 2\nBegegnungs-Nr: 5\nHeim: Ostermundigen VII\nGast: Münsingen III\n\nAdresse: Dennigkofenweg 169\, 3072 Ostermundigen\n
LOCATION:Dennigkofenweg 169\, 3072 Ostermundigen
CATEGORIES:Saison 2025/26
END:VEVENT
END:VCALENDAR
