BEGIN:VCALENDAR
PRODID:-//nuDatenautomaten//framework iCal4j //DE
VERSION:2.0
CALSCALE:GREGORIAN
BEGIN:VTIMEZONE
TZID:Europe/Berlin
LAST-MODIFIED:20260306T231828Z
TZURL:https://www.tzurl.org/zoneinfo/Europe/Berlin
X-LIC-LOCATION:Europe/Berlin
X-PROLEPTIC-TZNAME:LMT
BEGIN:STANDARD
TZNAME:CET
TZOFFSETFROM:+005328
TZOFFSETTO:+0100
DTSTART:18930401T000000
END:STANDARD
BEGIN:DAYLIGHT
TZNAME:CEST
TZOFFSETFROM:+0100
TZOFFSETTO:+0200
DTSTART:19160430T230000
RDATE:19400401T020000
RDATE:19430329T020000
RDATE:19460414T020000
RDATE:19470406T030000
RDATE:19480418T020000
RDATE:19490410T020000
RDATE:19800406T020000
END:DAYLIGHT
BEGIN:STANDARD
TZNAME:CET
TZOFFSETFROM:+0200
TZOFFSETTO:+0100
DTSTART:19161001T010000
RDATE:19421102T030000
RDATE:19431004T030000
RDATE:19441002T030000
RDATE:19451118T030000
RDATE:19461007T030000
END:STANDARD
BEGIN:DAYLIGHT
TZNAME:CEST
TZOFFSETFROM:+0100
TZOFFSETTO:+0200
DTSTART:19170416T020000
RRULE:FREQ=YEARLY;UNTIL=19180415T010000Z;BYMONTH=4;BYDAY=3MO
END:DAYLIGHT
BEGIN:STANDARD
TZNAME:CET
TZOFFSETFROM:+0200
TZOFFSETTO:+0100
DTSTART:19170917T030000
RRULE:FREQ=YEARLY;UNTIL=19180916T010000Z;BYMONTH=9;BYDAY=3MO
END:STANDARD
BEGIN:DAYLIGHT
TZNAME:CEST
TZOFFSETFROM:+0100
TZOFFSETTO:+0200
DTSTART:19440403T020000
RRULE:FREQ=YEARLY;UNTIL=19450402T010000Z;BYMONTH=4;BYDAY=1MO
END:DAYLIGHT
BEGIN:DAYLIGHT
TZNAME:CEMT
TZOFFSETFROM:+0200
TZOFFSETTO:+0300
DTSTART:19450524T020000
RDATE:19470511T030000
END:DAYLIGHT
BEGIN:DAYLIGHT
TZNAME:CEST
TZOFFSETFROM:+0300
TZOFFSETTO:+0200
DTSTART:19450924T030000
RDATE:19470629T030000
END:DAYLIGHT
BEGIN:STANDARD
TZNAME:CET
TZOFFSETFROM:+0100
TZOFFSETTO:+0100
DTSTART:19460101T000000
RDATE:19800101T000000
END:STANDARD
BEGIN:STANDARD
TZNAME:CET
TZOFFSETFROM:+0200
TZOFFSETTO:+0100
DTSTART:19471005T030000
RRULE:FREQ=YEARLY;UNTIL=19491002T010000Z;BYMONTH=10;BYDAY=1SU
END:STANDARD
BEGIN:STANDARD
TZNAME:CET
TZOFFSETFROM:+0200
TZOFFSETTO:+0100
DTSTART:19800928T030000
RRULE:FREQ=YEARLY;UNTIL=19950924T010000Z;BYMONTH=9;BYDAY=-1SU
END:STANDARD
BEGIN:DAYLIGHT
TZNAME:CEST
TZOFFSETFROM:+0100
TZOFFSETTO:+0200
DTSTART:19810329T020000
RRULE:FREQ=YEARLY;BYMONTH=3;BYDAY=-1SU
END:DAYLIGHT
BEGIN:STANDARD
TZNAME:CET
TZOFFSETFROM:+0200
TZOFFSETTO:+0100
DTSTART:19961027T030000
RRULE:FREQ=YEARLY;BYMONTH=10;BYDAY=-1SU
END:STANDARD
END:VTIMEZONE
BEGIN:VEVENT
DTSTAMP:20260424T165459Z
DTSTART;TZID=Europe/Berlin:20250827T194500
DTEND;TZID=Europe/Berlin:20250827T224500
SUMMARY:HE 4. Liga Gr. 4 Wohlen vs Döttingen IV (0)
UID:834414f3-a61f-40d5-a8e1-371e327e647c
STATUS:CONFIRMED
LAST-MODIFIED:20250905T121437Z
DESCRIPTION:4. Liga Herren Gruppe 4\nBegegnungs-Nr: 0\nHeim: Wohlen\nGast: Döttingen IV\n\nAdresse: Hofmattenweg 17\, 5610 Wohlen\, bei verschlossener Tür Klingel Halle 3 betätigen (links neben Türen)\n
LOCATION:Hofmattenweg 17\, 5610 Wohlen\, bei verschlossener Tür Klingel Halle 3 betätigen (links neben Türen)
CATEGORIES:Saison 2025/26
END:VEVENT
BEGIN:VEVENT
DTSTAMP:20260424T165459Z
DTSTART;TZID=Europe/Berlin:20251022T194500
DTEND;TZID=Europe/Berlin:20251022T224500
SUMMARY:HE 4. Liga Gr. 4 Wohlen vs Baden-Wettingen V (0)
UID:881a2e0b-7ec3-431b-95a2-da63d9e7fa61
STATUS:CONFIRMED
LAST-MODIFIED:20251029T095436Z
DESCRIPTION:4. Liga Herren Gruppe 4\nBegegnungs-Nr: 0\nHeim: Wohlen\nGast: Baden-Wettingen V\n\nAdresse: Hofmattenweg 17\, 5610 Wohlen\, bei verschlossener Tür Klingel Halle 3 betätigen (links neben Türen)\n
LOCATION:Hofmattenweg 17\, 5610 Wohlen\, bei verschlossener Tür Klingel Halle 3 betätigen (links neben Türen)
CATEGORIES:Saison 2025/26
END:VEVENT
BEGIN:VEVENT
DTSTAMP:20260424T165459Z
DTSTART;TZID=Europe/Berlin:20251112T194500
DTEND;TZID=Europe/Berlin:20251112T224500
SUMMARY:HE 4. Liga Gr. 4 Wohlen vs Oberrohrdorf (0)
UID:fd108e77-606f-467d-8ca2-f6a4566db0b2
STATUS:CONFIRMED
LAST-MODIFIED:20251114T140717Z
DESCRIPTION:4. Liga Herren Gruppe 4\nBegegnungs-Nr: 0\nHeim: Wohlen\nGast: Oberrohrdorf\n\nAdresse: Hofmattenweg 17\, 5610 Wohlen\, bei verschlossener Tür Klingel Halle 3 betätigen (links neben Türen)\n
LOCATION:Hofmattenweg 17\, 5610 Wohlen\, bei verschlossener Tür Klingel Halle 3 betätigen (links neben Türen)
CATEGORIES:Saison 2025/26
END:VEVENT
BEGIN:VEVENT
DTSTAMP:20260424T165459Z
DTSTART;TZID=Europe/Berlin:20251210T194500
DTEND;TZID=Europe/Berlin:20251210T224500
SUMMARY:HE 4. Liga Gr. 4 Wohlen vs Muri (0)
UID:12fce193-6f87-461b-bbfd-041c14dd7c6b
STATUS:CONFIRMED
LAST-MODIFIED:20251211T112039Z
DESCRIPTION:4. Liga Herren Gruppe 4\nBegegnungs-Nr: 0\nHeim: Wohlen\nGast: Muri\n\nAdresse: Hofmattenweg 17\, 5610 Wohlen\, bei verschlossener Tür Klingel Halle 3 betätigen (links neben Türen)\n
LOCATION:Hofmattenweg 17\, 5610 Wohlen\, bei verschlossener Tür Klingel Halle 3 betätigen (links neben Türen)
CATEGORIES:Saison 2025/26
END:VEVENT
BEGIN:VEVENT
DTSTAMP:20260424T165459Z
DTSTART;TZID=Europe/Berlin:20260401T194500
DTEND;TZID=Europe/Berlin:20260401T224500
SUMMARY:HE 4. Liga Gr. 4 Wohlen vs Bremgarten VI (0)
UID:61437c26-2a1f-44fb-8230-0146871943aa
STATUS:CONFIRMED
LAST-MODIFIED:20260416T093828Z
DESCRIPTION:4. Liga Herren Gruppe 4\nBegegnungs-Nr: 0\nHeim: Wohlen\nGast: Bremgarten VI\n\nAdresse: Hofmattenweg 17\, 5610 Wohlen\, bei verschlossener Tür Klingel Halle 3 betätigen (links neben Türen)\n
LOCATION:Hofmattenweg 17\, 5610 Wohlen\, bei verschlossener Tür Klingel Halle 3 betätigen (links neben Türen)
CATEGORIES:Saison 2025/26
END:VEVENT
BEGIN:VEVENT
DTSTAMP:20260424T165459Z
DTSTART;TZID=Europe/Berlin:20260121T194500
DTEND;TZID=Europe/Berlin:20260121T224500
SUMMARY:HE 4. Liga Gr. 4 Wohlen vs Frick IV (0)
UID:3ca00b01-85f0-4543-beda-a66737cb8037
STATUS:CONFIRMED
LAST-MODIFIED:20260123T081657Z
DESCRIPTION:4. Liga Herren Gruppe 4\nBegegnungs-Nr: 0\nHeim: Wohlen\nGast: Frick IV\n\nAdresse: Hofmattenweg 17\, 5610 Wohlen\, bei verschlossener Tür Klingel Halle 3 betätigen (links neben Türen)\n
LOCATION:Hofmattenweg 17\, 5610 Wohlen\, bei verschlossener Tür Klingel Halle 3 betätigen (links neben Türen)
CATEGORIES:Saison 2025/26
END:VEVENT
BEGIN:VEVENT
DTSTAMP:20260424T165459Z
DTSTART;TZID=Europe/Berlin:20260325T194500
DTEND;TZID=Europe/Berlin:20260325T224500
SUMMARY:HE 4. Liga Gr. 4 Wohlen vs Brugg III (0)
UID:f74c3374-cbad-40a6-9dba-68054a3d7551
STATUS:CONFIRMED
LAST-MODIFIED:20260416T093811Z
DESCRIPTION:4. Liga Herren Gruppe 4\nBegegnungs-Nr: 0\nHeim: Wohlen\nGast: Brugg III\n\nAdresse: Hofmattenweg 17\, 5610 Wohlen\, bei verschlossener Tür Klingel Halle 3 betätigen (links neben Türen)\n
LOCATION:Hofmattenweg 17\, 5610 Wohlen\, bei verschlossener Tür Klingel Halle 3 betätigen (links neben Türen)
CATEGORIES:Saison 2025/26
END:VEVENT
BEGIN:VEVENT
DTSTAMP:20260424T165459Z
DTSTART;TZID=Europe/Berlin:20250828T200000
DTEND;TZID=Europe/Berlin:20250828T230000
SUMMARY:HE 4. Liga Gr. 4 Muri vs Wohlen (0)
UID:82ee066f-32b8-46a8-9b21-165b66633ad5
STATUS:CONFIRMED
LAST-MODIFIED:20250905T121450Z
DESCRIPTION:4. Liga Herren Gruppe 4\nBegegnungs-Nr: 0\nHeim: Muri\nGast: Wohlen\n\nAdresse: Badweiherstrasse\, 5630 Muri AG\n
LOCATION:Badweiherstrasse\, 5630 Muri AG
CATEGORIES:Saison 2025/26
END:VEVENT
BEGIN:VEVENT
DTSTAMP:20260424T165459Z
DTSTART;TZID=Europe/Berlin:20251003T200000
DTEND;TZID=Europe/Berlin:20251003T230000
SUMMARY:HE 4. Liga Gr. 4 Frick IV vs Wohlen (0)
UID:f0df6ecb-6999-46ae-a006-7c40250e575a
STATUS:CONFIRMED
LAST-MODIFIED:20251008T102121Z
DESCRIPTION:4. Liga Herren Gruppe 4\nBegegnungs-Nr: 0\nHeim: Frick IV\nGast: Wohlen\n\nAdresse: Schulstrasse 51\, 5070 Frick\n
LOCATION:Schulstrasse 51\, 5070 Frick
CATEGORIES:Saison 2025/26
END:VEVENT
BEGIN:VEVENT
DTSTAMP:20260424T165459Z
DTSTART;TZID=Europe/Berlin:20251118T194500
DTEND;TZID=Europe/Berlin:20251118T224500
SUMMARY:HE 4. Liga Gr. 4 Brugg III vs Wohlen (0)
UID:9d64b34e-5a41-4275-aded-d8ca8705dc7d
STATUS:CONFIRMED
LAST-MODIFIED:20251120T083333Z
DESCRIPTION:4. Liga Herren Gruppe 4\nBegegnungs-Nr: 0\nHeim: Brugg III\nGast: Wohlen\n\nAdresse: Sommerhaldenstrasse 29\, 5200 Brugg/Lauffohr\n
LOCATION:Sommerhaldenstrasse 29\, 5200 Brugg/Lauffohr
CATEGORIES:Saison 2025/26
END:VEVENT
BEGIN:VEVENT
DTSTAMP:20260424T165459Z
DTSTART;TZID=Europe/Berlin:20251209T201500
DTEND;TZID=Europe/Berlin:20251209T231500
SUMMARY:HE 4. Liga Gr. 4 Bremgarten VI vs Wohlen (0)
UID:03bc9176-2c1c-42ad-af65-f7b91552dd1f
STATUS:CONFIRMED
LAST-MODIFIED:20251211T112028Z
DESCRIPTION:4. Liga Herren Gruppe 4\nBegegnungs-Nr: 0\nHeim: Bremgarten VI\nGast: Wohlen\n\nAdresse: Badstrasse 3\, 5620 Bremgarten\n
LOCATION:Badstrasse 3\, 5620 Bremgarten
CATEGORIES:Saison 2025/26
END:VEVENT
BEGIN:VEVENT
DTSTAMP:20260424T165459Z
DTSTART;TZID=Europe/Berlin:20260223T201500
DTEND;TZID=Europe/Berlin:20260223T231500
SUMMARY:HE 4. Liga Gr. 4 Oberrohrdorf vs Wohlen (0)
UID:c773b4c4-b399-4b63-9fec-a3f37d7d582f
STATUS:CONFIRMED
LAST-MODIFIED:20260224T074549Z
DESCRIPTION:4. Liga Herren Gruppe 4\nBegegnungs-Nr: 0\nHeim: Oberrohrdorf\nGast: Wohlen\n\nAdresse: Hinterbächlistrasse\, 5452 Oberrohrdorf\n
LOCATION:Hinterbächlistrasse\, 5452 Oberrohrdorf
CATEGORIES:Saison 2025/26
END:VEVENT
BEGIN:VEVENT
DTSTAMP:20260424T165459Z
DTSTART;TZID=Europe/Berlin:20260112T201500
DTEND;TZID=Europe/Berlin:20260112T231500
SUMMARY:HE 4. Liga Gr. 4 Döttingen IV vs Wohlen (0)
UID:31dde86e-59b4-4875-805b-93e480e3cbeb
STATUS:CONFIRMED
LAST-MODIFIED:20260115T094808Z
DESCRIPTION:4. Liga Herren Gruppe 4\nBegegnungs-Nr: 0\nHeim: Döttingen IV\nGast: Wohlen\n\nAdresse: Im Bogen\, Chilbert 25\, 5312 Döttingen\n
LOCATION:Im Bogen\, Chilbert 25\, 5312 Döttingen
CATEGORIES:Saison 2025/26
END:VEVENT
BEGIN:VEVENT
DTSTAMP:20260424T165459Z
DTSTART;TZID=Europe/Berlin:20260216T194500
DTEND;TZID=Europe/Berlin:20260216T224500
SUMMARY:HE 4. Liga Gr. 4 Baden-Wettingen V vs Wohlen (0)
UID:dbe0078d-1bcb-425b-bb21-05e4aaefe958
STATUS:CONFIRMED
LAST-MODIFIED:20260218T071433Z
DESCRIPTION:4. Liga Herren Gruppe 4\nBegegnungs-Nr: 0\nHeim: Baden-Wettingen V\nGast: Wohlen\n\nAdresse: Wiesenstrasse 32 (Parkhaus Schmiede Fabrikstrasse)\, 5400 Baden\n
LOCATION:Wiesenstrasse 32 (Parkhaus Schmiede Fabrikstrasse)\, 5400 Baden
CATEGORIES:Saison 2025/26
END:VEVENT
END:VCALENDAR
