BEGIN:VCALENDAR
PRODID:-//nuDatenautomaten//framework iCal4j //DE
VERSION:2.0
CALSCALE:GREGORIAN
BEGIN:VTIMEZONE
TZID:Europe/Berlin
LAST-MODIFIED:20260306T231828Z
TZURL:https://www.tzurl.org/zoneinfo/Europe/Berlin
X-LIC-LOCATION:Europe/Berlin
X-PROLEPTIC-TZNAME:LMT
BEGIN:STANDARD
TZNAME:CET
TZOFFSETFROM:+005328
TZOFFSETTO:+0100
DTSTART:18930401T000000
END:STANDARD
BEGIN:DAYLIGHT
TZNAME:CEST
TZOFFSETFROM:+0100
TZOFFSETTO:+0200
DTSTART:19160430T230000
RDATE:19400401T020000
RDATE:19430329T020000
RDATE:19460414T020000
RDATE:19470406T030000
RDATE:19480418T020000
RDATE:19490410T020000
RDATE:19800406T020000
END:DAYLIGHT
BEGIN:STANDARD
TZNAME:CET
TZOFFSETFROM:+0200
TZOFFSETTO:+0100
DTSTART:19161001T010000
RDATE:19421102T030000
RDATE:19431004T030000
RDATE:19441002T030000
RDATE:19451118T030000
RDATE:19461007T030000
END:STANDARD
BEGIN:DAYLIGHT
TZNAME:CEST
TZOFFSETFROM:+0100
TZOFFSETTO:+0200
DTSTART:19170416T020000
RRULE:FREQ=YEARLY;UNTIL=19180415T010000Z;BYMONTH=4;BYDAY=3MO
END:DAYLIGHT
BEGIN:STANDARD
TZNAME:CET
TZOFFSETFROM:+0200
TZOFFSETTO:+0100
DTSTART:19170917T030000
RRULE:FREQ=YEARLY;UNTIL=19180916T010000Z;BYMONTH=9;BYDAY=3MO
END:STANDARD
BEGIN:DAYLIGHT
TZNAME:CEST
TZOFFSETFROM:+0100
TZOFFSETTO:+0200
DTSTART:19440403T020000
RRULE:FREQ=YEARLY;UNTIL=19450402T010000Z;BYMONTH=4;BYDAY=1MO
END:DAYLIGHT
BEGIN:DAYLIGHT
TZNAME:CEMT
TZOFFSETFROM:+0200
TZOFFSETTO:+0300
DTSTART:19450524T020000
RDATE:19470511T030000
END:DAYLIGHT
BEGIN:DAYLIGHT
TZNAME:CEST
TZOFFSETFROM:+0300
TZOFFSETTO:+0200
DTSTART:19450924T030000
RDATE:19470629T030000
END:DAYLIGHT
BEGIN:STANDARD
TZNAME:CET
TZOFFSETFROM:+0100
TZOFFSETTO:+0100
DTSTART:19460101T000000
RDATE:19800101T000000
END:STANDARD
BEGIN:STANDARD
TZNAME:CET
TZOFFSETFROM:+0200
TZOFFSETTO:+0100
DTSTART:19471005T030000
RRULE:FREQ=YEARLY;UNTIL=19491002T010000Z;BYMONTH=10;BYDAY=1SU
END:STANDARD
BEGIN:STANDARD
TZNAME:CET
TZOFFSETFROM:+0200
TZOFFSETTO:+0100
DTSTART:19800928T030000
RRULE:FREQ=YEARLY;UNTIL=19950924T010000Z;BYMONTH=9;BYDAY=-1SU
END:STANDARD
BEGIN:DAYLIGHT
TZNAME:CEST
TZOFFSETFROM:+0100
TZOFFSETTO:+0200
DTSTART:19810329T020000
RRULE:FREQ=YEARLY;BYMONTH=3;BYDAY=-1SU
END:DAYLIGHT
BEGIN:STANDARD
TZNAME:CET
TZOFFSETFROM:+0200
TZOFFSETTO:+0100
DTSTART:19961027T030000
RRULE:FREQ=YEARLY;BYMONTH=10;BYDAY=-1SU
END:STANDARD
END:VTIMEZONE
BEGIN:VEVENT
DTSTAMP:20260424T083901Z
DTSTART;TZID=Europe/Berlin:20260105T200000
DTEND;TZID=Europe/Berlin:20260105T230000
SUMMARY:HE 4. Liga Gr. 8 Wolfhalden II vs Flums III (0)
UID:3f38fa91-09b5-4e53-b506-29ced7bf88f0
STATUS:CONFIRMED
LAST-MODIFIED:20260112T095204Z
DESCRIPTION:4. Liga Herren Gruppe 8\nBegegnungs-Nr: 0\nHeim: Wolfhalden II\nGast: Flums III\n\nAdresse: -\, 9427 Wolfhalden\n
LOCATION:-\, 9427 Wolfhalden
CATEGORIES:Saison 2025/26
END:VEVENT
BEGIN:VEVENT
DTSTAMP:20260424T083901Z
DTSTART;TZID=Europe/Berlin:20260126T200000
DTEND;TZID=Europe/Berlin:20260126T230000
SUMMARY:HE 4. Liga Gr. 8 Wolfhalden II vs Wolfhalden (0)
UID:783230f2-a3ba-4e6d-a18d-096cc9fedae6
STATUS:CONFIRMED
LAST-MODIFIED:20260127T155430Z
DESCRIPTION:4. Liga Herren Gruppe 8\nBegegnungs-Nr: 0\nHeim: Wolfhalden II\nGast: Wolfhalden\n\nAdresse: -\, 9427 Wolfhalden\n
LOCATION:-\, 9427 Wolfhalden
CATEGORIES:Saison 2025/26
END:VEVENT
BEGIN:VEVENT
DTSTAMP:20260424T083901Z
DTSTART;TZID=Europe/Berlin:20260309T200000
DTEND;TZID=Europe/Berlin:20260309T230000
SUMMARY:HE 4. Liga Gr. 8 Wolfhalden II vs Ruggell (0)
UID:eb2f3455-7956-4ca9-b4ed-950c25bde97c
STATUS:CONFIRMED
LAST-MODIFIED:20260317T135551Z
DESCRIPTION:4. Liga Herren Gruppe 8\nBegegnungs-Nr: 0\nHeim: Wolfhalden II\nGast: Ruggell\n\nAdresse: -\, 9427 Wolfhalden\n
LOCATION:-\, 9427 Wolfhalden
CATEGORIES:Saison 2025/26
END:VEVENT
BEGIN:VEVENT
DTSTAMP:20260424T083901Z
DTSTART;TZID=Europe/Berlin:20250901T200000
DTEND;TZID=Europe/Berlin:20250901T230000
SUMMARY:HE 4. Liga Gr. 8 Wolfhalden II vs Chur IV (0)
UID:909a0627-0493-4385-b659-b20f05cb9f5b
STATUS:CONFIRMED
LAST-MODIFIED:20250902T092902Z
DESCRIPTION:4. Liga Herren Gruppe 8\nBegegnungs-Nr: 0\nHeim: Wolfhalden II\nGast: Chur IV\n\nAdresse: -\, 9427 Wolfhalden\n
LOCATION:-\, 9427 Wolfhalden
CATEGORIES:Saison 2025/26
END:VEVENT
BEGIN:VEVENT
DTSTAMP:20260424T083901Z
DTSTART;TZID=Europe/Berlin:20250922T200000
DTEND;TZID=Europe/Berlin:20250922T230000
SUMMARY:HE 4. Liga Gr. 8 Wolfhalden II vs Triesen III (0)
UID:9eff00e9-c45c-49b2-82ba-d8917c01bba5
STATUS:CONFIRMED
LAST-MODIFIED:20251007T060222Z
DESCRIPTION:4. Liga Herren Gruppe 8\nBegegnungs-Nr: 0\nHeim: Wolfhalden II\nGast: Triesen III\n\nAdresse: -\, 9427 Wolfhalden\n
LOCATION:-\, 9427 Wolfhalden
CATEGORIES:Saison 2025/26
END:VEVENT
BEGIN:VEVENT
DTSTAMP:20260424T083901Z
DTSTART;TZID=Europe/Berlin:20251103T200000
DTEND;TZID=Europe/Berlin:20251103T230000
SUMMARY:HE 4. Liga Gr. 8 Wolfhalden II vs Oberriet II (0)
UID:731b2d5d-a334-4908-9b61-d661db52934e
STATUS:CONFIRMED
LAST-MODIFIED:20251107T153212Z
DESCRIPTION:4. Liga Herren Gruppe 8\nBegegnungs-Nr: 0\nHeim: Wolfhalden II\nGast: Oberriet II\n\nAdresse: -\, 9427 Wolfhalden\n
LOCATION:-\, 9427 Wolfhalden
CATEGORIES:Saison 2025/26
END:VEVENT
BEGIN:VEVENT
DTSTAMP:20260424T083901Z
DTSTART;TZID=Europe/Berlin:20251201T200000
DTEND;TZID=Europe/Berlin:20251201T230000
SUMMARY:HE 4. Liga Gr. 8 Wolfhalden II vs Chur V (0)
UID:c4d3c5f8-5429-40ff-b47b-0fbe454af5af
STATUS:CONFIRMED
LAST-MODIFIED:20251210T085155Z
DESCRIPTION:4. Liga Herren Gruppe 8\nBegegnungs-Nr: 0\nHeim: Wolfhalden II\nGast: Chur V\n\nAdresse: -\, 9427 Wolfhalden\n
LOCATION:-\, 9427 Wolfhalden
CATEGORIES:Saison 2025/26
END:VEVENT
BEGIN:VEVENT
DTSTAMP:20260424T083901Z
DTSTART;TZID=Europe/Berlin:20260122T200000
DTEND;TZID=Europe/Berlin:20260122T230000
SUMMARY:HE 4. Liga Gr. 8 Chur IV vs Wolfhalden II (0)
UID:694b8785-12e2-4b5e-8441-ffa08d15243e
STATUS:CONFIRMED
LAST-MODIFIED:20260127T155337Z
DESCRIPTION:4. Liga Herren Gruppe 8\nBegegnungs-Nr: 0\nHeim: Chur IV\nGast: Wolfhalden II\n\nAdresse: Sandstr. 35\, 7000 Chur\n
LOCATION:Sandstr. 35\, 7000 Chur
CATEGORIES:Saison 2025/26
END:VEVENT
BEGIN:VEVENT
DTSTAMP:20260424T083901Z
DTSTART;TZID=Europe/Berlin:20260306T194500
DTEND;TZID=Europe/Berlin:20260306T224500
SUMMARY:HE 4. Liga Gr. 8 Triesen III vs Wolfhalden II (0)
UID:cd835640-5675-4d2c-aaff-3f580df60771
STATUS:CONFIRMED
LAST-MODIFIED:20260317T135455Z
DESCRIPTION:4. Liga Herren Gruppe 8\nBegegnungs-Nr: 0\nHeim: Triesen III\nGast: Wolfhalden II\n\nAdresse: Gässle 12\, 9495 Triesen\n
LOCATION:Gässle 12\, 9495 Triesen
CATEGORIES:Saison 2025/26
END:VEVENT
BEGIN:VEVENT
DTSTAMP:20260424T083901Z
DTSTART;TZID=Europe/Berlin:20260325T201500
DTEND;TZID=Europe/Berlin:20260325T231500
SUMMARY:HE 4. Liga Gr. 8 Oberriet II vs Wolfhalden II (0)
UID:df85304e-f5df-422e-ac29-db3f9ede41d1
STATUS:CONFIRMED
LAST-MODIFIED:20260326T152813Z
DESCRIPTION:4. Liga Herren Gruppe 8\nBegegnungs-Nr: 0\nHeim: Oberriet II\nGast: Wolfhalden II\n\nAdresse: Neugutstrasse 2\, 9463 Oberriet SG\n
LOCATION:Neugutstrasse 2\, 9463 Oberriet SG
CATEGORIES:Saison 2025/26
END:VEVENT
BEGIN:VEVENT
DTSTAMP:20260424T083901Z
DTSTART;TZID=Europe/Berlin:20260319T200000
DTEND;TZID=Europe/Berlin:20260319T230000
SUMMARY:HE 4. Liga Gr. 8 Chur V vs Wolfhalden II (0)
UID:bf91a2a8-c9b6-4899-a873-0f5a330b3559
STATUS:CONFIRMED
LAST-MODIFIED:20260326T152750Z
DESCRIPTION:4. Liga Herren Gruppe 8\nBegegnungs-Nr: 0\nHeim: Chur V\nGast: Wolfhalden II\n\nAdresse: Sandstr. 35\, 7000 Chur\n
LOCATION:Sandstr. 35\, 7000 Chur
CATEGORIES:Saison 2025/26
END:VEVENT
BEGIN:VEVENT
DTSTAMP:20260424T083901Z
DTSTART;TZID=Europe/Berlin:20250827T201500
DTEND;TZID=Europe/Berlin:20250827T231500
SUMMARY:HE 4. Liga Gr. 8 Flums III vs Wolfhalden II (0)
UID:31270949-f84c-4221-8ff2-bd7fad715504
STATUS:CONFIRMED
LAST-MODIFIED:20250829T143624Z
DESCRIPTION:4. Liga Herren Gruppe 8\nBegegnungs-Nr: 0\nHeim: Flums III\nGast: Wolfhalden II\n\nAdresse: Bahnhofstrasse 23\, 8890 Flums\n
LOCATION:Bahnhofstrasse 23\, 8890 Flums
CATEGORIES:Saison 2025/26
END:VEVENT
BEGIN:VEVENT
DTSTAMP:20260424T083901Z
DTSTART;TZID=Europe/Berlin:20250915T200000
DTEND;TZID=Europe/Berlin:20250915T230000
SUMMARY:HE 4. Liga Gr. 8 Wolfhalden vs Wolfhalden II (0)
UID:55d4082b-87d9-41cb-a73e-1d1954ed043c
STATUS:CONFIRMED
LAST-MODIFIED:20250916T092602Z
DESCRIPTION:4. Liga Herren Gruppe 8\nBegegnungs-Nr: 0\nHeim: Wolfhalden\nGast: Wolfhalden II\n\nAdresse: -\, 9427 Wolfhalden\n
LOCATION:-\, 9427 Wolfhalden
CATEGORIES:Saison 2025/26
END:VEVENT
BEGIN:VEVENT
DTSTAMP:20260424T083901Z
DTSTART;TZID=Europe/Berlin:20251030T200000
DTEND;TZID=Europe/Berlin:20251030T230000
SUMMARY:HE 4. Liga Gr. 8 Ruggell vs Wolfhalden II (0)
UID:8de2b103-94be-45bb-a54a-148f29d95c9d
STATUS:CONFIRMED
LAST-MODIFIED:20251031T143732Z
DESCRIPTION:4. Liga Herren Gruppe 8\nBegegnungs-Nr: 0\nHeim: Ruggell\nGast: Wolfhalden II\n\nAdresse: Nellengasse 40\, 9491 Ruggell\n
LOCATION:Nellengasse 40\, 9491 Ruggell
CATEGORIES:Saison 2025/26
END:VEVENT
END:VCALENDAR
