BEGIN:VCALENDAR
PRODID:-//nuDatenautomaten//framework iCal4j //DE
VERSION:2.0
CALSCALE:GREGORIAN
BEGIN:VTIMEZONE
TZID:Europe/Berlin
LAST-MODIFIED:20260306T231828Z
TZURL:https://www.tzurl.org/zoneinfo/Europe/Berlin
X-LIC-LOCATION:Europe/Berlin
X-PROLEPTIC-TZNAME:LMT
BEGIN:STANDARD
TZNAME:CET
TZOFFSETFROM:+005328
TZOFFSETTO:+0100
DTSTART:18930401T000000
END:STANDARD
BEGIN:DAYLIGHT
TZNAME:CEST
TZOFFSETFROM:+0100
TZOFFSETTO:+0200
DTSTART:19160430T230000
RDATE:19400401T020000
RDATE:19430329T020000
RDATE:19460414T020000
RDATE:19470406T030000
RDATE:19480418T020000
RDATE:19490410T020000
RDATE:19800406T020000
END:DAYLIGHT
BEGIN:STANDARD
TZNAME:CET
TZOFFSETFROM:+0200
TZOFFSETTO:+0100
DTSTART:19161001T010000
RDATE:19421102T030000
RDATE:19431004T030000
RDATE:19441002T030000
RDATE:19451118T030000
RDATE:19461007T030000
END:STANDARD
BEGIN:DAYLIGHT
TZNAME:CEST
TZOFFSETFROM:+0100
TZOFFSETTO:+0200
DTSTART:19170416T020000
RRULE:FREQ=YEARLY;UNTIL=19180415T010000Z;BYMONTH=4;BYDAY=3MO
END:DAYLIGHT
BEGIN:STANDARD
TZNAME:CET
TZOFFSETFROM:+0200
TZOFFSETTO:+0100
DTSTART:19170917T030000
RRULE:FREQ=YEARLY;UNTIL=19180916T010000Z;BYMONTH=9;BYDAY=3MO
END:STANDARD
BEGIN:DAYLIGHT
TZNAME:CEST
TZOFFSETFROM:+0100
TZOFFSETTO:+0200
DTSTART:19440403T020000
RRULE:FREQ=YEARLY;UNTIL=19450402T010000Z;BYMONTH=4;BYDAY=1MO
END:DAYLIGHT
BEGIN:DAYLIGHT
TZNAME:CEMT
TZOFFSETFROM:+0200
TZOFFSETTO:+0300
DTSTART:19450524T020000
RDATE:19470511T030000
END:DAYLIGHT
BEGIN:DAYLIGHT
TZNAME:CEST
TZOFFSETFROM:+0300
TZOFFSETTO:+0200
DTSTART:19450924T030000
RDATE:19470629T030000
END:DAYLIGHT
BEGIN:STANDARD
TZNAME:CET
TZOFFSETFROM:+0100
TZOFFSETTO:+0100
DTSTART:19460101T000000
RDATE:19800101T000000
END:STANDARD
BEGIN:STANDARD
TZNAME:CET
TZOFFSETFROM:+0200
TZOFFSETTO:+0100
DTSTART:19471005T030000
RRULE:FREQ=YEARLY;UNTIL=19491002T010000Z;BYMONTH=10;BYDAY=1SU
END:STANDARD
BEGIN:STANDARD
TZNAME:CET
TZOFFSETFROM:+0200
TZOFFSETTO:+0100
DTSTART:19800928T030000
RRULE:FREQ=YEARLY;UNTIL=19950924T010000Z;BYMONTH=9;BYDAY=-1SU
END:STANDARD
BEGIN:DAYLIGHT
TZNAME:CEST
TZOFFSETFROM:+0100
TZOFFSETTO:+0200
DTSTART:19810329T020000
RRULE:FREQ=YEARLY;BYMONTH=3;BYDAY=-1SU
END:DAYLIGHT
BEGIN:STANDARD
TZNAME:CET
TZOFFSETFROM:+0200
TZOFFSETTO:+0100
DTSTART:19961027T030000
RRULE:FREQ=YEARLY;BYMONTH=10;BYDAY=-1SU
END:STANDARD
END:VTIMEZONE
BEGIN:VEVENT
DTSTAMP:20260424T181717Z
DTSTART;TZID=Europe/Berlin:20260306T201500
DTEND;TZID=Europe/Berlin:20260306T231500
SUMMARY:HE 4. Liga Gr. 4 Urdorf II vs Kloten II (0)
UID:0b2bd184-075f-4678-8b08-4f28d67d5e8d
STATUS:CONFIRMED
LAST-MODIFIED:20260313T130906Z
DESCRIPTION:4. Liga Herren Gruppe 4\nBegegnungs-Nr: 0\nHeim: Urdorf II\nGast: Kloten II\n\nAdresse: Weihermattstrasse 50\, 8902 Urdorf\n
LOCATION:Weihermattstrasse 50\, 8902 Urdorf
CATEGORIES:Saison 2025/26
END:VEVENT
BEGIN:VEVENT
DTSTAMP:20260424T181717Z
DTSTART;TZID=Europe/Berlin:20260313T201500
DTEND;TZID=Europe/Berlin:20260313T231500
SUMMARY:HE 4. Liga Gr. 4 Urdorf II vs Dietikon-Weiningen II (0)
UID:19bdd4c7-556e-4df3-ba9a-5cfbb51697a5
STATUS:CONFIRMED
LAST-MODIFIED:20260317T134652Z
DESCRIPTION:4. Liga Herren Gruppe 4\nBegegnungs-Nr: 0\nHeim: Urdorf II\nGast: Dietikon-Weiningen II\n\nAdresse: Weihermattstrasse 50\, 8902 Urdorf\n
LOCATION:Weihermattstrasse 50\, 8902 Urdorf
CATEGORIES:Saison 2025/26
END:VEVENT
BEGIN:VEVENT
DTSTAMP:20260424T181717Z
DTSTART;TZID=Europe/Berlin:20250910T201500
DTEND;TZID=Europe/Berlin:20250910T231500
SUMMARY:HE 4. Liga Gr. 4 Urdorf II vs Bülach IV (0)
UID:c9278820-07f8-4932-ae66-4b1f05b6ae30
STATUS:CONFIRMED
LAST-MODIFIED:20250915T083802Z
DESCRIPTION:4. Liga Herren Gruppe 4\nBegegnungs-Nr: 0\nHeim: Urdorf II\nGast: Bülach IV\n\nAdresse: Weihermattstrasse 50\, 8902 Urdorf\n
LOCATION:Weihermattstrasse 50\, 8902 Urdorf
CATEGORIES:Saison 2025/26
END:VEVENT
BEGIN:VEVENT
DTSTAMP:20260424T181717Z
DTSTART;TZID=Europe/Berlin:20250929T201500
DTEND;TZID=Europe/Berlin:20250929T231500
SUMMARY:HE 4. Liga Gr. 4 Urdorf II vs Zürich-Affoltern VI (0)
UID:40ab1107-f021-4247-810a-8aea4390aab0
STATUS:CONFIRMED
LAST-MODIFIED:20250930T123221Z
DESCRIPTION:4. Liga Herren Gruppe 4\nBegegnungs-Nr: 0\nHeim: Urdorf II\nGast: Zürich-Affoltern VI\n\nAdresse: Weihermattstrasse 50\, 8902 Urdorf\n
LOCATION:Weihermattstrasse 50\, 8902 Urdorf
CATEGORIES:Saison 2025/26
END:VEVENT
BEGIN:VEVENT
DTSTAMP:20260424T181717Z
DTSTART;TZID=Europe/Berlin:20251205T201500
DTEND;TZID=Europe/Berlin:20251205T231500
SUMMARY:HE 4. Liga Gr. 4 Urdorf II vs Niederhasli V (0)
UID:ee22bb39-d050-4d78-85ab-81860ed1abd8
STATUS:CONFIRMED
LAST-MODIFIED:20251216T102225Z
DESCRIPTION:4. Liga Herren Gruppe 4\nBegegnungs-Nr: 0\nHeim: Urdorf II\nGast: Niederhasli V\n\nAdresse: Weihermattstrasse 50\, 8902 Urdorf\n
LOCATION:Weihermattstrasse 50\, 8902 Urdorf
CATEGORIES:Saison 2025/26
END:VEVENT
BEGIN:VEVENT
DTSTAMP:20260424T181717Z
DTSTART;TZID=Europe/Berlin:20251107T201500
DTEND;TZID=Europe/Berlin:20251107T231500
SUMMARY:HE 4. Liga Gr. 4 Urdorf II vs Buchs Zürich II (0)
UID:cc6faa85-4e6b-4d94-b73f-ca7e016f89ff
STATUS:CONFIRMED
LAST-MODIFIED:20251115T102809Z
DESCRIPTION:4. Liga Herren Gruppe 4\nBegegnungs-Nr: 0\nHeim: Urdorf II\nGast: Buchs Zürich II\n\nAdresse: Weihermattstrasse 50\, 8902 Urdorf\n
LOCATION:Weihermattstrasse 50\, 8902 Urdorf
CATEGORIES:Saison 2025/26
END:VEVENT
BEGIN:VEVENT
DTSTAMP:20260424T181717Z
DTSTART;TZID=Europe/Berlin:20260123T201500
DTEND;TZID=Europe/Berlin:20260123T231500
SUMMARY:HE 4. Liga Gr. 4 Urdorf II vs Embrachertal II (0)
UID:8bbc5cae-8606-4a8e-a4a4-18175c16b64c
STATUS:CONFIRMED
LAST-MODIFIED:20260127T145638Z
DESCRIPTION:4. Liga Herren Gruppe 4\nBegegnungs-Nr: 0\nHeim: Urdorf II\nGast: Embrachertal II\n\nAdresse: Weihermattstrasse 50\, 8902 Urdorf\n
LOCATION:Weihermattstrasse 50\, 8902 Urdorf
CATEGORIES:Saison 2025/26
END:VEVENT
BEGIN:VEVENT
DTSTAMP:20260424T181717Z
DTSTART;TZID=Europe/Berlin:20260327T201500
DTEND;TZID=Europe/Berlin:20260327T231500
SUMMARY:HE 4. Liga Gr. 4 Buchs Zürich II vs Urdorf II (0)
UID:c2a48133-72cf-405a-b8f8-683cf3d7137e
STATUS:CONFIRMED
LAST-MODIFIED:20260401T123436Z
DESCRIPTION:4. Liga Herren Gruppe 4\nBegegnungs-Nr: 0\nHeim: Buchs Zürich II\nGast: Urdorf II\n\nAdresse: Drisglerstrasse 3\, 8107 Buchs ZH\n
LOCATION:Drisglerstrasse 3\, 8107 Buchs ZH
CATEGORIES:Saison 2025/26
END:VEVENT
BEGIN:VEVENT
DTSTAMP:20260424T181717Z
DTSTART;TZID=Europe/Berlin:20260417T193000
DTEND;TZID=Europe/Berlin:20260417T223000
SUMMARY:HE 4. Liga Gr. 4 Niederhasli V vs Urdorf II (0)
UID:536a33d2-c833-430b-af3b-e3b0bbb0a34f
STATUS:CONFIRMED
LAST-MODIFIED:20260420T122918Z
DESCRIPTION:4. Liga Herren Gruppe 4\nBegegnungs-Nr: 0\nHeim: Niederhasli V\nGast: Urdorf II\n\nAdresse: Dorfstrasse 22\, 8155 Niederhasli\n
LOCATION:Dorfstrasse 22\, 8155 Niederhasli
CATEGORIES:Saison 2025/26
END:VEVENT
BEGIN:VEVENT
DTSTAMP:20260424T181717Z
DTSTART;TZID=Europe/Berlin:20250904T200000
DTEND;TZID=Europe/Berlin:20250904T230000
SUMMARY:HE 4. Liga Gr. 4 Embrachertal II vs Urdorf II (0)
UID:d77100e0-6dae-45ad-bd3d-cbcf9739d658
STATUS:CONFIRMED
LAST-MODIFIED:20250905T124053Z
DESCRIPTION:4. Liga Herren Gruppe 4\nBegegnungs-Nr: 0\nHeim: Embrachertal II\nGast: Urdorf II\n\nAdresse: Schützenhausstrasse 20\, 8424 Embrach\n
LOCATION:Schützenhausstrasse 20\, 8424 Embrach
CATEGORIES:Saison 2025/26
END:VEVENT
BEGIN:VEVENT
DTSTAMP:20260424T181717Z
DTSTART;TZID=Europe/Berlin:20250924T193000
DTEND;TZID=Europe/Berlin:20250924T223000
SUMMARY:HE 4. Liga Gr. 4 Kloten II vs Urdorf II (0)
UID:ae204b21-1854-497d-829c-e88805a73dff
STATUS:CONFIRMED
LAST-MODIFIED:20250926T131303Z
DESCRIPTION:4. Liga Herren Gruppe 4\nBegegnungs-Nr: 0\nHeim: Kloten II\nGast: Urdorf II\n\nAdresse: Schluefweg 10\, 8302 Kloten\n
LOCATION:Schluefweg 10\, 8302 Kloten
CATEGORIES:Saison 2025/26
END:VEVENT
BEGIN:VEVENT
DTSTAMP:20260424T181717Z
DTSTART;TZID=Europe/Berlin:20251031T200000
DTEND;TZID=Europe/Berlin:20251031T230000
SUMMARY:HE 4. Liga Gr. 4 Dietikon-Weiningen II vs Urdorf II (0)
UID:36980084-b498-4206-b01a-abdca3161160
STATUS:CONFIRMED
LAST-MODIFIED:20251107T144815Z
DESCRIPTION:4. Liga Herren Gruppe 4\nBegegnungs-Nr: 0\nHeim: Dietikon-Weiningen II\nGast: Urdorf II\n\nAdresse: Bohnackerstrasse 5\, 8953 Dietikon\n
LOCATION:Bohnackerstrasse 5\, 8953 Dietikon
CATEGORIES:Saison 2025/26
END:VEVENT
BEGIN:VEVENT
DTSTAMP:20260424T181717Z
DTSTART;TZID=Europe/Berlin:20260109T193000
DTEND;TZID=Europe/Berlin:20260109T223000
SUMMARY:HE 4. Liga Gr. 4 Bülach IV vs Urdorf II (0)
UID:2364bae1-93ce-495c-99f4-884e4da20402
STATUS:CONFIRMED
LAST-MODIFIED:20260112T091757Z
DESCRIPTION:4. Liga Herren Gruppe 4\nBegegnungs-Nr: 0\nHeim: Bülach IV\nGast: Urdorf II\n\nAdresse: Schwerzgruebstrasse 28\, 8180 Bülach\n
LOCATION:Schwerzgruebstrasse 28\, 8180 Bülach
CATEGORIES:Saison 2025/26
END:VEVENT
BEGIN:VEVENT
DTSTAMP:20260424T181717Z
DTSTART;TZID=Europe/Berlin:20260128T194500
DTEND;TZID=Europe/Berlin:20260128T224500
SUMMARY:HE 4. Liga Gr. 4 Zürich-Affoltern VI vs Urdorf II (0)
UID:9b8de564-1507-48f2-98c5-f260c3884c74
STATUS:CONFIRMED
LAST-MODIFIED:20260130T082039Z
DESCRIPTION:4. Liga Herren Gruppe 4\nBegegnungs-Nr: 0\nHeim: Zürich-Affoltern VI\nGast: Urdorf II\n\nAdresse: Fronwaldstr.115\, 8046 Zürich\n
LOCATION:Fronwaldstr.115\, 8046 Zürich
CATEGORIES:Saison 2025/26
END:VEVENT
END:VCALENDAR
