BEGIN:VCALENDAR
PRODID:-//nuDatenautomaten//framework iCal4j //DE
VERSION:2.0
CALSCALE:GREGORIAN
BEGIN:VTIMEZONE
TZID:Europe/Berlin
LAST-MODIFIED:20260306T231828Z
TZURL:https://www.tzurl.org/zoneinfo/Europe/Berlin
X-LIC-LOCATION:Europe/Berlin
X-PROLEPTIC-TZNAME:LMT
BEGIN:STANDARD
TZNAME:CET
TZOFFSETFROM:+005328
TZOFFSETTO:+0100
DTSTART:18930401T000000
END:STANDARD
BEGIN:DAYLIGHT
TZNAME:CEST
TZOFFSETFROM:+0100
TZOFFSETTO:+0200
DTSTART:19160430T230000
RDATE:19400401T020000
RDATE:19430329T020000
RDATE:19460414T020000
RDATE:19470406T030000
RDATE:19480418T020000
RDATE:19490410T020000
RDATE:19800406T020000
END:DAYLIGHT
BEGIN:STANDARD
TZNAME:CET
TZOFFSETFROM:+0200
TZOFFSETTO:+0100
DTSTART:19161001T010000
RDATE:19421102T030000
RDATE:19431004T030000
RDATE:19441002T030000
RDATE:19451118T030000
RDATE:19461007T030000
END:STANDARD
BEGIN:DAYLIGHT
TZNAME:CEST
TZOFFSETFROM:+0100
TZOFFSETTO:+0200
DTSTART:19170416T020000
RRULE:FREQ=YEARLY;UNTIL=19180415T010000Z;BYMONTH=4;BYDAY=3MO
END:DAYLIGHT
BEGIN:STANDARD
TZNAME:CET
TZOFFSETFROM:+0200
TZOFFSETTO:+0100
DTSTART:19170917T030000
RRULE:FREQ=YEARLY;UNTIL=19180916T010000Z;BYMONTH=9;BYDAY=3MO
END:STANDARD
BEGIN:DAYLIGHT
TZNAME:CEST
TZOFFSETFROM:+0100
TZOFFSETTO:+0200
DTSTART:19440403T020000
RRULE:FREQ=YEARLY;UNTIL=19450402T010000Z;BYMONTH=4;BYDAY=1MO
END:DAYLIGHT
BEGIN:DAYLIGHT
TZNAME:CEMT
TZOFFSETFROM:+0200
TZOFFSETTO:+0300
DTSTART:19450524T020000
RDATE:19470511T030000
END:DAYLIGHT
BEGIN:DAYLIGHT
TZNAME:CEST
TZOFFSETFROM:+0300
TZOFFSETTO:+0200
DTSTART:19450924T030000
RDATE:19470629T030000
END:DAYLIGHT
BEGIN:STANDARD
TZNAME:CET
TZOFFSETFROM:+0100
TZOFFSETTO:+0100
DTSTART:19460101T000000
RDATE:19800101T000000
END:STANDARD
BEGIN:STANDARD
TZNAME:CET
TZOFFSETFROM:+0200
TZOFFSETTO:+0100
DTSTART:19471005T030000
RRULE:FREQ=YEARLY;UNTIL=19491002T010000Z;BYMONTH=10;BYDAY=1SU
END:STANDARD
BEGIN:STANDARD
TZNAME:CET
TZOFFSETFROM:+0200
TZOFFSETTO:+0100
DTSTART:19800928T030000
RRULE:FREQ=YEARLY;UNTIL=19950924T010000Z;BYMONTH=9;BYDAY=-1SU
END:STANDARD
BEGIN:DAYLIGHT
TZNAME:CEST
TZOFFSETFROM:+0100
TZOFFSETTO:+0200
DTSTART:19810329T020000
RRULE:FREQ=YEARLY;BYMONTH=3;BYDAY=-1SU
END:DAYLIGHT
BEGIN:STANDARD
TZNAME:CET
TZOFFSETFROM:+0200
TZOFFSETTO:+0100
DTSTART:19961027T030000
RRULE:FREQ=YEARLY;BYMONTH=10;BYDAY=-1SU
END:STANDARD
END:VTIMEZONE
BEGIN:VEVENT
DTSTAMP:20260424T062030Z
DTSTART;TZID=Europe/Berlin:20250918T200000
DTEND;TZID=Europe/Berlin:20250918T230000
SUMMARY:ME L6 Gr 2\, Tours 1&2 Montreux-Riviera II vs Collombey/Muraz V (0)
UID:d0875dfe-b3c1-42bf-861f-a6f64b5b8ffe
STATUS:CONFIRMED
LAST-MODIFIED:20250923T100527Z
DESCRIPTION:6ème ligue Hommes Groupe 2\, Tours 1&2\nBegegnungs-Nr: 0\nHeim: Montreux-Riviera II\nGast: Collombey/Muraz V\n\nAdresse: Rue de la Gare 33\, 1820 Montreux\n
LOCATION:Rue de la Gare 33\, 1820 Montreux
CATEGORIES:Saison 2025/26
END:VEVENT
BEGIN:VEVENT
DTSTAMP:20260424T062030Z
DTSTART;TZID=Europe/Berlin:20251106T200000
DTEND;TZID=Europe/Berlin:20251106T230000
SUMMARY:ME L6 Gr 2\, Tours 1&2 Montreux-Riviera II vs Aigle III (0)
UID:1371d7e8-250d-4548-9185-477726b89e86
STATUS:CONFIRMED
LAST-MODIFIED:20251109T122805Z
DESCRIPTION:6ème ligue Hommes Groupe 2\, Tours 1&2\nBegegnungs-Nr: 0\nHeim: Montreux-Riviera II\nGast: Aigle III\n\nAdresse: Rue de la Gare 33\, 1820 Montreux\n
LOCATION:Rue de la Gare 33\, 1820 Montreux
CATEGORIES:Saison 2025/26
END:VEVENT
BEGIN:VEVENT
DTSTAMP:20260424T062030Z
DTSTART;TZID=Europe/Berlin:20251127T200000
DTEND;TZID=Europe/Berlin:20251127T230000
SUMMARY:ME L6 Gr 2\, Tours 1&2 Montreux-Riviera II vs Aigle II (0)
UID:ee6baacb-e129-40fb-abaa-a83a5fb4b292
STATUS:CONFIRMED
LAST-MODIFIED:20251128T204048Z
DESCRIPTION:6ème ligue Hommes Groupe 2\, Tours 1&2\nBegegnungs-Nr: 0\nHeim: Montreux-Riviera II\nGast: Aigle II\n\nAdresse: Rue de la Gare 33\, 1820 Montreux\n
LOCATION:Rue de la Gare 33\, 1820 Montreux
CATEGORIES:Saison 2025/26
END:VEVENT
BEGIN:VEVENT
DTSTAMP:20260424T062030Z
DTSTART;TZID=Europe/Berlin:20251211T200000
DTEND;TZID=Europe/Berlin:20251211T230000
SUMMARY:ME L6 Gr 2\, Tours 1&2 Montreux-Riviera II vs Martigny VI (0)
UID:a9db8394-d684-405b-b115-cf7cb90f2d7f
STATUS:CONFIRMED
LAST-MODIFIED:20251213T095145Z
DESCRIPTION:6ème ligue Hommes Groupe 2\, Tours 1&2\nBegegnungs-Nr: 0\nHeim: Montreux-Riviera II\nGast: Martigny VI\n\nAdresse: Rue de la Gare 33\, 1820 Montreux\n
LOCATION:Rue de la Gare 33\, 1820 Montreux
CATEGORIES:Saison 2025/26
END:VEVENT
BEGIN:VEVENT
DTSTAMP:20260424T062030Z
DTSTART;TZID=Europe/Berlin:20250904T200000
DTEND;TZID=Europe/Berlin:20250904T230000
SUMMARY:ME L6 Gr 2\, Tours 1&2 Montreux-Riviera II vs Yvorne II (0)
UID:ec2f8c5f-94ef-40ae-8e01-a84a2596507b
STATUS:CONFIRMED
LAST-MODIFIED:20250910T230812Z
DESCRIPTION:6ème ligue Hommes Groupe 2\, Tours 1&2\nBegegnungs-Nr: 0\nHeim: Montreux-Riviera II\nGast: Yvorne II\n\nAdresse: Rue de la Gare 33\, 1820 Montreux\n
LOCATION:Rue de la Gare 33\, 1820 Montreux
CATEGORIES:Saison 2025/26
END:VEVENT
BEGIN:VEVENT
DTSTAMP:20260424T062030Z
DTSTART;TZID=Europe/Berlin:20260212T200000
DTEND;TZID=Europe/Berlin:20260212T230000
SUMMARY:ME L6 Gr 2\, Tours 3&4 Montreux-Riviera II vs Aigle II (0)
UID:0aff5d81-6ea5-40f1-99ac-ff3ee80f6383
STATUS:CONFIRMED
LAST-MODIFIED:20260214T170657Z
DESCRIPTION:6ème ligue Hommes Groupe 2\, Tours 3&4\nBegegnungs-Nr: 0\nHeim: Montreux-Riviera II\nGast: Aigle II\n\nAdresse: Rue de la Gare 33\, 1820 Montreux\n
LOCATION:Rue de la Gare 33\, 1820 Montreux
CATEGORIES:Saison 2025/26
END:VEVENT
BEGIN:VEVENT
DTSTAMP:20260424T062030Z
DTSTART;TZID=Europe/Berlin:20260226T200000
DTEND;TZID=Europe/Berlin:20260226T230000
SUMMARY:ME L6 Gr 2\, Tours 3&4 Montreux-Riviera II vs Dorénaz (0)
UID:e49dc06b-941e-4a17-a395-591529cf4b09
STATUS:CONFIRMED
LAST-MODIFIED:20260301T135015Z
DESCRIPTION:6ème ligue Hommes Groupe 2\, Tours 3&4\nBegegnungs-Nr: 0\nHeim: Montreux-Riviera II\nGast: Dorénaz\n\nAdresse: Rue de la Gare 33\, 1820 Montreux\n
LOCATION:Rue de la Gare 33\, 1820 Montreux
CATEGORIES:Saison 2025/26
END:VEVENT
BEGIN:VEVENT
DTSTAMP:20260424T062030Z
DTSTART;TZID=Europe/Berlin:20260312T200000
DTEND;TZID=Europe/Berlin:20260312T230000
SUMMARY:ME L6 Gr 2\, Tours 3&4 Montreux-Riviera II vs Salvan (0)
UID:cc81fc4a-8227-4c4a-a63d-3baad29d801f
STATUS:CONFIRMED
LAST-MODIFIED:20260318T000126Z
DESCRIPTION:6ème ligue Hommes Groupe 2\, Tours 3&4\nBegegnungs-Nr: 0\nHeim: Montreux-Riviera II\nGast: Salvan\n\nAdresse: Rue de la Gare 33\, 1820 Montreux\n
LOCATION:Rue de la Gare 33\, 1820 Montreux
CATEGORIES:Saison 2025/26
END:VEVENT
BEGIN:VEVENT
DTSTAMP:20260424T062030Z
DTSTART;TZID=Europe/Berlin:20260409T200000
DTEND;TZID=Europe/Berlin:20260409T230000
SUMMARY:ME L6 Gr 2\, Tours 3&4 Montreux-Riviera II vs Yvorne II (0)
UID:d28d6d80-88ed-4b4d-af8f-03ba8992603a
STATUS:CONFIRMED
LAST-MODIFIED:20260413T093933Z
DESCRIPTION:6ème ligue Hommes Groupe 2\, Tours 3&4\nBegegnungs-Nr: 0\nHeim: Montreux-Riviera II\nGast: Yvorne II\n\nAdresse: Rue de la Gare 33\, 1820 Montreux\n
LOCATION:Rue de la Gare 33\, 1820 Montreux
CATEGORIES:Saison 2025/26
END:VEVENT
BEGIN:VEVENT
DTSTAMP:20260424T062030Z
DTSTART;TZID=Europe/Berlin:20260122T200000
DTEND;TZID=Europe/Berlin:20260122T230000
SUMMARY:ME L6 Gr 2\, Tours 3&4 Montreux-Riviera II vs Aigle III (0)
UID:5df621e6-3190-4324-bab0-7c39954e6dcf
STATUS:CONFIRMED
LAST-MODIFIED:20260125T124107Z
DESCRIPTION:6ème ligue Hommes Groupe 2\, Tours 3&4\nBegegnungs-Nr: 0\nHeim: Montreux-Riviera II\nGast: Aigle III\n\nAdresse: Rue de la Gare 33\, 1820 Montreux\n
LOCATION:Rue de la Gare 33\, 1820 Montreux
CATEGORIES:Saison 2025/26
END:VEVENT
BEGIN:VEVENT
DTSTAMP:20260424T062030Z
DTSTART;TZID=Europe/Berlin:20250912T200000
DTEND;TZID=Europe/Berlin:20250912T230000
SUMMARY:ME L6 Gr 2\, Tours 1&2 Aigle III vs Montreux-Riviera II (0)
UID:1accc8cf-8559-47ee-9559-c3aa2cea929d
STATUS:CONFIRMED
LAST-MODIFIED:20250916T220855Z
DESCRIPTION:6ème ligue Hommes Groupe 2\, Tours 1&2\nBegegnungs-Nr: 0\nHeim: Aigle III\nGast: Montreux-Riviera II\n\nAdresse: Rue du Collège 12\, 1860 Aigle\n
LOCATION:Rue du Collège 12\, 1860 Aigle
CATEGORIES:Saison 2025/26
END:VEVENT
BEGIN:VEVENT
DTSTAMP:20260424T062030Z
DTSTART;TZID=Europe/Berlin:20251001T200000
DTEND;TZID=Europe/Berlin:20251001T230000
SUMMARY:ME L6 Gr 2\, Tours 1&2 Aigle II vs Montreux-Riviera II (0)
UID:92604a21-cd1e-47f6-a9ab-6ce9d952826f
STATUS:CONFIRMED
LAST-MODIFIED:20251009T103109Z
DESCRIPTION:6ème ligue Hommes Groupe 2\, Tours 1&2\nBegegnungs-Nr: 0\nHeim: Aigle II\nGast: Montreux-Riviera II\n\nAdresse: Rue du Collège 12\, 1860 Aigle\n
LOCATION:Rue du Collège 12\, 1860 Aigle
CATEGORIES:Saison 2025/26
END:VEVENT
BEGIN:VEVENT
DTSTAMP:20260424T062030Z
DTSTART;TZID=Europe/Berlin:20251010T193000
DTEND;TZID=Europe/Berlin:20251010T223000
SUMMARY:ME L6 Gr 2\, Tours 1&2 Martigny VI vs Montreux-Riviera II (0)
UID:8ac61785-c0f2-4360-995d-7327df284cab
STATUS:CONFIRMED
LAST-MODIFIED:20251011T112417Z
DESCRIPTION:6ème ligue Hommes Groupe 2\, Tours 1&2\nBegegnungs-Nr: 0\nHeim: Martigny VI\nGast: Montreux-Riviera II\n\nAdresse: Rue des Ecoles 9\, 1920 Martigny\n
LOCATION:Rue des Ecoles 9\, 1920 Martigny
CATEGORIES:Saison 2025/26
END:VEVENT
BEGIN:VEVENT
DTSTAMP:20260424T062030Z
DTSTART;TZID=Europe/Berlin:20251029T194500
DTEND;TZID=Europe/Berlin:20251029T224500
SUMMARY:ME L6 Gr 2\, Tours 1&2 Yvorne II vs Montreux-Riviera II (0)
UID:1f1b18f3-0bcb-40db-bbd4-cd483fe12366
STATUS:CONFIRMED
LAST-MODIFIED:20251103T123822Z
DESCRIPTION:6ème ligue Hommes Groupe 2\, Tours 1&2\nBegegnungs-Nr: 0\nHeim: Yvorne II\nGast: Montreux-Riviera II\n\nAdresse: Les Maisons Neuves 38\, 1853 Yvorne\n
LOCATION:Les Maisons Neuves 38\, 1853 Yvorne
CATEGORIES:Saison 2025/26
END:VEVENT
BEGIN:VEVENT
DTSTAMP:20260424T062030Z
DTSTART;TZID=Europe/Berlin:20251117T194500
DTEND;TZID=Europe/Berlin:20251117T224500
SUMMARY:ME L6 Gr 2\, Tours 1&2 Collombey/Muraz V vs Montreux-Riviera II (0)
UID:19098d44-6e73-4995-8d7f-59e82317d0a8
STATUS:CONFIRMED
LAST-MODIFIED:20251119T171533Z
DESCRIPTION:6ème ligue Hommes Groupe 2\, Tours 1&2\nBegegnungs-Nr: 0\nHeim: Collombey/Muraz V\nGast: Montreux-Riviera II\n\nAdresse: Route du Montagnier 81\, 1868 Collombey\n
LOCATION:Route du Montagnier 81\, 1868 Collombey
CATEGORIES:Saison 2025/26
END:VEVENT
BEGIN:VEVENT
DTSTAMP:20260424T062030Z
DTSTART;TZID=Europe/Berlin:20260204T194500
DTEND;TZID=Europe/Berlin:20260204T224500
SUMMARY:ME L6 Gr 2\, Tours 3&4 Yvorne II vs Montreux-Riviera II (0)
UID:ccf7ee3b-70a9-4d87-bc3b-ffe12223175c
STATUS:CONFIRMED
LAST-MODIFIED:20260206T183956Z
DESCRIPTION:6ème ligue Hommes Groupe 2\, Tours 3&4\nBegegnungs-Nr: 0\nHeim: Yvorne II\nGast: Montreux-Riviera II\n\nAdresse: Les Maisons Neuves 38\, 1853 Yvorne\n
LOCATION:Les Maisons Neuves 38\, 1853 Yvorne
CATEGORIES:Saison 2025/26
END:VEVENT
BEGIN:VEVENT
DTSTAMP:20260424T062030Z
DTSTART;TZID=Europe/Berlin:20260327T200000
DTEND;TZID=Europe/Berlin:20260327T230000
SUMMARY:ME L6 Gr 2\, Tours 3&4 Aigle III vs Montreux-Riviera II (0)
UID:5dfb1091-332c-4871-9136-ffa7b4b57372
STATUS:CONFIRMED
LAST-MODIFIED:20260401T092523Z
DESCRIPTION:6ème ligue Hommes Groupe 2\, Tours 3&4\nBegegnungs-Nr: 0\nHeim: Aigle III\nGast: Montreux-Riviera II\n\nAdresse: Rue du Collège 12\, 1860 Aigle\n
LOCATION:Rue du Collège 12\, 1860 Aigle
CATEGORIES:Saison 2025/26
END:VEVENT
BEGIN:VEVENT
DTSTAMP:20260424T062030Z
DTSTART;TZID=Europe/Berlin:20260422T200000
DTEND;TZID=Europe/Berlin:20260422T230000
SUMMARY:ME L6 Gr 2\, Tours 3&4 Aigle II vs Montreux-Riviera II (0)
UID:278a3d3d-9ec2-4d4a-b9ce-27f7ad85cbf5
STATUS:CONFIRMED
DESCRIPTION:6ème ligue Hommes Groupe 2\, Tours 3&4\nBegegnungs-Nr: 0\nHeim: Aigle II\nGast: Montreux-Riviera II\n\nAdresse: Rue du Collège 12\, 1860 Aigle\n
LOCATION:Rue du Collège 12\, 1860 Aigle
CATEGORIES:Saison 2025/26
END:VEVENT
BEGIN:VEVENT
DTSTAMP:20260424T062030Z
DTSTART;TZID=Europe/Berlin:20260430T200000
DTEND;TZID=Europe/Berlin:20260430T230000
SUMMARY:ME L6 Gr 2\, Tours 3&4 Dorénaz vs Montreux-Riviera II (0)
UID:d68f789d-f5d6-4edc-9fdc-1d247a663153
STATUS:CONFIRMED
DESCRIPTION:6ème ligue Hommes Groupe 2\, Tours 3&4\nBegegnungs-Nr: 0\nHeim: Dorénaz\nGast: Montreux-Riviera II\n\nAdresse: Place du téléphérique\, 1905 Dorénaz\n
LOCATION:Place du téléphérique\, 1905 Dorénaz
CATEGORIES:Saison 2025/26
END:VEVENT
BEGIN:VEVENT
DTSTAMP:20260424T062030Z
DTSTART;TZID=Europe/Berlin:20260128T193000
DTEND;TZID=Europe/Berlin:20260128T223000
SUMMARY:ME L6 Gr 2\, Tours 3&4 Salvan vs Montreux-Riviera II (0)
UID:1d6b5401-906f-48a1-8cfa-4bf7618a732b
STATUS:CONFIRMED
LAST-MODIFIED:20260130T173040Z
DESCRIPTION:6ème ligue Hommes Groupe 2\, Tours 3&4\nBegegnungs-Nr: 0\nHeim: Salvan\nGast: Montreux-Riviera II\n\nAdresse: Le Carre 8\, 1922 Salvan\n
LOCATION:Le Carre 8\, 1922 Salvan
CATEGORIES:Saison 2025/26
END:VEVENT
END:VCALENDAR
