BEGIN:VCALENDAR
PRODID:-//nuDatenautomaten//framework iCal4j //DE
VERSION:2.0
CALSCALE:GREGORIAN
BEGIN:VTIMEZONE
TZID:Europe/Berlin
LAST-MODIFIED:20260306T231828Z
TZURL:https://www.tzurl.org/zoneinfo/Europe/Berlin
X-LIC-LOCATION:Europe/Berlin
X-PROLEPTIC-TZNAME:LMT
BEGIN:STANDARD
TZNAME:CET
TZOFFSETFROM:+005328
TZOFFSETTO:+0100
DTSTART:18930401T000000
END:STANDARD
BEGIN:DAYLIGHT
TZNAME:CEST
TZOFFSETFROM:+0100
TZOFFSETTO:+0200
DTSTART:19160430T230000
RDATE:19400401T020000
RDATE:19430329T020000
RDATE:19460414T020000
RDATE:19470406T030000
RDATE:19480418T020000
RDATE:19490410T020000
RDATE:19800406T020000
END:DAYLIGHT
BEGIN:STANDARD
TZNAME:CET
TZOFFSETFROM:+0200
TZOFFSETTO:+0100
DTSTART:19161001T010000
RDATE:19421102T030000
RDATE:19431004T030000
RDATE:19441002T030000
RDATE:19451118T030000
RDATE:19461007T030000
END:STANDARD
BEGIN:DAYLIGHT
TZNAME:CEST
TZOFFSETFROM:+0100
TZOFFSETTO:+0200
DTSTART:19170416T020000
RRULE:FREQ=YEARLY;UNTIL=19180415T010000Z;BYMONTH=4;BYDAY=3MO
END:DAYLIGHT
BEGIN:STANDARD
TZNAME:CET
TZOFFSETFROM:+0200
TZOFFSETTO:+0100
DTSTART:19170917T030000
RRULE:FREQ=YEARLY;UNTIL=19180916T010000Z;BYMONTH=9;BYDAY=3MO
END:STANDARD
BEGIN:DAYLIGHT
TZNAME:CEST
TZOFFSETFROM:+0100
TZOFFSETTO:+0200
DTSTART:19440403T020000
RRULE:FREQ=YEARLY;UNTIL=19450402T010000Z;BYMONTH=4;BYDAY=1MO
END:DAYLIGHT
BEGIN:DAYLIGHT
TZNAME:CEMT
TZOFFSETFROM:+0200
TZOFFSETTO:+0300
DTSTART:19450524T020000
RDATE:19470511T030000
END:DAYLIGHT
BEGIN:DAYLIGHT
TZNAME:CEST
TZOFFSETFROM:+0300
TZOFFSETTO:+0200
DTSTART:19450924T030000
RDATE:19470629T030000
END:DAYLIGHT
BEGIN:STANDARD
TZNAME:CET
TZOFFSETFROM:+0100
TZOFFSETTO:+0100
DTSTART:19460101T000000
RDATE:19800101T000000
END:STANDARD
BEGIN:STANDARD
TZNAME:CET
TZOFFSETFROM:+0200
TZOFFSETTO:+0100
DTSTART:19471005T030000
RRULE:FREQ=YEARLY;UNTIL=19491002T010000Z;BYMONTH=10;BYDAY=1SU
END:STANDARD
BEGIN:STANDARD
TZNAME:CET
TZOFFSETFROM:+0200
TZOFFSETTO:+0100
DTSTART:19800928T030000
RRULE:FREQ=YEARLY;UNTIL=19950924T010000Z;BYMONTH=9;BYDAY=-1SU
END:STANDARD
BEGIN:DAYLIGHT
TZNAME:CEST
TZOFFSETFROM:+0100
TZOFFSETTO:+0200
DTSTART:19810329T020000
RRULE:FREQ=YEARLY;BYMONTH=3;BYDAY=-1SU
END:DAYLIGHT
BEGIN:STANDARD
TZNAME:CET
TZOFFSETFROM:+0200
TZOFFSETTO:+0100
DTSTART:19961027T030000
RRULE:FREQ=YEARLY;BYMONTH=10;BYDAY=-1SU
END:STANDARD
END:VTIMEZONE
BEGIN:VEVENT
DTSTAMP:20260424T150248Z
DTSTART;TZID=Europe/Berlin:20260307T153000
DTEND;TZID=Europe/Berlin:20260307T183000
SUMMARY:DA NLB Gr. 2 Uster II vs Kloten (12)
UID:0b664476-fe38-4aea-99e1-fb7e43934701
STATUS:CONFIRMED
LAST-MODIFIED:20260310T065229Z
DESCRIPTION:Damen Nationalliga B Gruppe 2\nBegegnungs-Nr: 12\nHeim: Uster II\nGast: Kloten\n\nAdresse: Wilstrasse 30 / Zürcherstrasse\, 8610 Uster\n
LOCATION:Wilstrasse 30 / Zürcherstrasse\, 8610 Uster
CATEGORIES:Saison 2025/26
END:VEVENT
BEGIN:VEVENT
DTSTAMP:20260424T150248Z
DTSTART;TZID=Europe/Berlin:20251026T153000
DTEND;TZID=Europe/Berlin:20251026T183000
SUMMARY:DA NLB Gr. 2 Uster II vs Wetzikon (9)
UID:16aea445-87a3-4a7d-8052-68f11aef75c0
STATUS:CONFIRMED
LAST-MODIFIED:20251029T082746Z
DESCRIPTION:Damen Nationalliga B Gruppe 2\nBegegnungs-Nr: 9\nHeim: Uster II\nGast: Wetzikon\n\nAdresse: Wilstrasse 30 / Zürcherstrasse\, 8610 Uster\n
LOCATION:Wilstrasse 30 / Zürcherstrasse\, 8610 Uster
CATEGORIES:Saison 2025/26
END:VEVENT
BEGIN:VEVENT
DTSTAMP:20260424T150248Z
DTSTART;TZID=Europe/Berlin:20260308T113000
DTEND;TZID=Europe/Berlin:20260308T143000
SUMMARY:DA NLB Gr. 2 Uster II vs Bremgarten (15)
UID:869b7fe6-68f7-42a8-9585-fb63d411a678
STATUS:CONFIRMED
LAST-MODIFIED:20260310T065317Z
DESCRIPTION:Damen Nationalliga B Gruppe 2\nBegegnungs-Nr: 15\nHeim: Uster II\nGast: Bremgarten\n\nAdresse: Wilstrasse 30 / Zürcherstrasse\, 8610 Uster\n
LOCATION:Wilstrasse 30 / Zürcherstrasse\, 8610 Uster
CATEGORIES:Saison 2025/26
END:VEVENT
BEGIN:VEVENT
DTSTAMP:20260424T150248Z
DTSTART;TZID=Europe/Berlin:20260110T140000
DTEND;TZID=Europe/Berlin:20260110T170000
SUMMARY:DA NLB Gr. 2 Uster II vs Wädenswil (1)
UID:0b4561e9-b10e-4235-963e-0e6241c09e3d
STATUS:CONFIRMED
LAST-MODIFIED:20260113T064536Z
DESCRIPTION:Damen Nationalliga B Gruppe 2\nBegegnungs-Nr: 1\nHeim: Uster II\nGast: Wädenswil\n\nAdresse: Wilstrasse 30 / Zürcherstrasse\, 8610 Uster\n
LOCATION:Wilstrasse 30 / Zürcherstrasse\, 8610 Uster
CATEGORIES:Saison 2025/26
END:VEVENT
BEGIN:VEVENT
DTSTAMP:20260424T150248Z
DTSTART;TZID=Europe/Berlin:20260131T134500
DTEND;TZID=Europe/Berlin:20260131T164500
SUMMARY:DA NLB Gr. 2 Uster II vs Young Stars ZH II (5)
UID:3c673ece-07f8-4f86-9990-29a2dba0f6cf
STATUS:CONFIRMED
LAST-MODIFIED:20260203T082127Z
DESCRIPTION:Damen Nationalliga B Gruppe 2\nBegegnungs-Nr: 5\nHeim: Uster II\nGast: Young Stars ZH II\n\nAdresse: Wilstrasse 30 / Zürcherstrasse\, 8610 Uster\n
LOCATION:Wilstrasse 30 / Zürcherstrasse\, 8610 Uster
CATEGORIES:Saison 2025/26
END:VEVENT
BEGIN:VEVENT
DTSTAMP:20260424T150248Z
DTSTART;TZID=Europe/Berlin:20250914T160000
DTEND;TZID=Europe/Berlin:20250914T190000
SUMMARY:DA NLB Gr. 2 Wädenswil vs Uster II (1)
UID:9609b80f-52ba-4afb-a764-dace6fb65ea0
STATUS:CONFIRMED
LAST-MODIFIED:20250918T112001Z
DESCRIPTION:Damen Nationalliga B Gruppe 2\nBegegnungs-Nr: 1\nHeim: Wädenswil\nGast: Uster II\n\nAdresse: Fuhrstrasse 16b\, 8820 Wädenswil\n
LOCATION:Fuhrstrasse 16b\, 8820 Wädenswil
CATEGORIES:Saison 2025/26
END:VEVENT
BEGIN:VEVENT
DTSTAMP:20260424T150248Z
DTSTART;TZID=Europe/Berlin:20251206T143000
DTEND;TZID=Europe/Berlin:20251206T173000
SUMMARY:DA NLB Gr. 2 Bremgarten vs Uster II (15)
UID:ba8081ac-f03c-4a17-bd36-1057ae2477d2
STATUS:CONFIRMED
LAST-MODIFIED:20251209T095046Z
DESCRIPTION:Damen Nationalliga B Gruppe 2\nBegegnungs-Nr: 15\nHeim: Bremgarten\nGast: Uster II\n\nAdresse: Badstrasse 3\, 5620 Bremgarten\n
LOCATION:Badstrasse 3\, 5620 Bremgarten
CATEGORIES:Saison 2025/26
END:VEVENT
BEGIN:VEVENT
DTSTAMP:20260424T150248Z
DTSTART;TZID=Europe/Berlin:20250927T160000
DTEND;TZID=Europe/Berlin:20250927T190000
SUMMARY:DA NLB Gr. 2 Young Stars ZH II vs Uster II (5)
UID:de813aac-a04b-4375-95b6-e2cd2e9fd7e0
STATUS:CONFIRMED
LAST-MODIFIED:20251009T194304Z
DESCRIPTION:Damen Nationalliga B Gruppe 2\nBegegnungs-Nr: 5\nHeim: Young Stars ZH II\nGast: Uster II\n\nAdresse: Seefeldstrasse 93\, 8008 Zürich\n
LOCATION:Seefeldstrasse 93\, 8008 Zürich
CATEGORIES:Saison 2025/26
END:VEVENT
BEGIN:VEVENT
DTSTAMP:20260424T150248Z
DTSTART;TZID=Europe/Berlin:20251108T143000
DTEND;TZID=Europe/Berlin:20251108T173000
SUMMARY:DA NLB Gr. 2 Kloten vs Uster II (12)
UID:61c3ec66-a154-4c8a-880b-7d19841fde1d
STATUS:CONFIRMED
LAST-MODIFIED:20251110T080854Z
DESCRIPTION:Damen Nationalliga B Gruppe 2\nBegegnungs-Nr: 12\nHeim: Kloten\nGast: Uster II\n\nAdresse: Schluefweg 10\, 8302 Kloten\n
LOCATION:Schluefweg 10\, 8302 Kloten
CATEGORIES:Saison 2025/26
END:VEVENT
BEGIN:VEVENT
DTSTAMP:20260424T150248Z
DTSTART;TZID=Europe/Berlin:20260221T130000
DTEND;TZID=Europe/Berlin:20260221T160000
SUMMARY:DA NLB Gr. 2 Wetzikon vs Uster II (9)
UID:dad259a1-6830-4718-b101-c19264d25dc1
STATUS:CONFIRMED
LAST-MODIFIED:20260223T153841Z
DESCRIPTION:Damen Nationalliga B Gruppe 2\nBegegnungs-Nr: 9\nHeim: Wetzikon\nGast: Uster II\n\nAdresse: Bühlstrasse 26\, 8620 Wetzikon\n
LOCATION:Bühlstrasse 26\, 8620 Wetzikon
CATEGORIES:Saison 2025/26
END:VEVENT
END:VCALENDAR
