BEGIN:VCALENDAR
PRODID:-//nuDatenautomaten//framework iCal4j //DE
VERSION:2.0
CALSCALE:GREGORIAN
BEGIN:VTIMEZONE
TZID:Europe/Berlin
LAST-MODIFIED:20260306T231828Z
TZURL:https://www.tzurl.org/zoneinfo/Europe/Berlin
X-LIC-LOCATION:Europe/Berlin
X-PROLEPTIC-TZNAME:LMT
BEGIN:STANDARD
TZNAME:CET
TZOFFSETFROM:+005328
TZOFFSETTO:+0100
DTSTART:18930401T000000
END:STANDARD
BEGIN:DAYLIGHT
TZNAME:CEST
TZOFFSETFROM:+0100
TZOFFSETTO:+0200
DTSTART:19160430T230000
RDATE:19400401T020000
RDATE:19430329T020000
RDATE:19460414T020000
RDATE:19470406T030000
RDATE:19480418T020000
RDATE:19490410T020000
RDATE:19800406T020000
END:DAYLIGHT
BEGIN:STANDARD
TZNAME:CET
TZOFFSETFROM:+0200
TZOFFSETTO:+0100
DTSTART:19161001T010000
RDATE:19421102T030000
RDATE:19431004T030000
RDATE:19441002T030000
RDATE:19451118T030000
RDATE:19461007T030000
END:STANDARD
BEGIN:DAYLIGHT
TZNAME:CEST
TZOFFSETFROM:+0100
TZOFFSETTO:+0200
DTSTART:19170416T020000
RRULE:FREQ=YEARLY;UNTIL=19180415T010000Z;BYMONTH=4;BYDAY=3MO
END:DAYLIGHT
BEGIN:STANDARD
TZNAME:CET
TZOFFSETFROM:+0200
TZOFFSETTO:+0100
DTSTART:19170917T030000
RRULE:FREQ=YEARLY;UNTIL=19180916T010000Z;BYMONTH=9;BYDAY=3MO
END:STANDARD
BEGIN:DAYLIGHT
TZNAME:CEST
TZOFFSETFROM:+0100
TZOFFSETTO:+0200
DTSTART:19440403T020000
RRULE:FREQ=YEARLY;UNTIL=19450402T010000Z;BYMONTH=4;BYDAY=1MO
END:DAYLIGHT
BEGIN:DAYLIGHT
TZNAME:CEMT
TZOFFSETFROM:+0200
TZOFFSETTO:+0300
DTSTART:19450524T020000
RDATE:19470511T030000
END:DAYLIGHT
BEGIN:DAYLIGHT
TZNAME:CEST
TZOFFSETFROM:+0300
TZOFFSETTO:+0200
DTSTART:19450924T030000
RDATE:19470629T030000
END:DAYLIGHT
BEGIN:STANDARD
TZNAME:CET
TZOFFSETFROM:+0100
TZOFFSETTO:+0100
DTSTART:19460101T000000
RDATE:19800101T000000
END:STANDARD
BEGIN:STANDARD
TZNAME:CET
TZOFFSETFROM:+0200
TZOFFSETTO:+0100
DTSTART:19471005T030000
RRULE:FREQ=YEARLY;UNTIL=19491002T010000Z;BYMONTH=10;BYDAY=1SU
END:STANDARD
BEGIN:STANDARD
TZNAME:CET
TZOFFSETFROM:+0200
TZOFFSETTO:+0100
DTSTART:19800928T030000
RRULE:FREQ=YEARLY;UNTIL=19950924T010000Z;BYMONTH=9;BYDAY=-1SU
END:STANDARD
BEGIN:DAYLIGHT
TZNAME:CEST
TZOFFSETFROM:+0100
TZOFFSETTO:+0200
DTSTART:19810329T020000
RRULE:FREQ=YEARLY;BYMONTH=3;BYDAY=-1SU
END:DAYLIGHT
BEGIN:STANDARD
TZNAME:CET
TZOFFSETFROM:+0200
TZOFFSETTO:+0100
DTSTART:19961027T030000
RRULE:FREQ=YEARLY;BYMONTH=10;BYDAY=-1SU
END:STANDARD
END:VTIMEZONE
BEGIN:VEVENT
DTSTAMP:20260424T084018Z
DTSTART;TZID=Europe/Berlin:20250910T200000
DTEND;TZID=Europe/Berlin:20250910T230000
SUMMARY:HE 3. Liga Gr. 1 Münsingen vs Belp II (7)
UID:8a83c7ca-b1d8-4de8-9254-716776e27297
STATUS:CONFIRMED
LAST-MODIFIED:20250918T141157Z
DESCRIPTION:3. Liga Herren Gruppe 1\nBegegnungs-Nr: 7\nHeim: Münsingen\nGast: Belp II\n\nAdresse: Turnhallenweg 8\, 3110 Münsingen\n
LOCATION:Turnhallenweg 8\, 3110 Münsingen
CATEGORIES:Saison 2025/26
END:VEVENT
BEGIN:VEVENT
DTSTAMP:20260424T084018Z
DTSTART;TZID=Europe/Berlin:20260119T193000
DTEND;TZID=Europe/Berlin:20260119T223000
SUMMARY:HE 3. Liga Gr. 1 Münsingen vs bls Spiez (27)
UID:e73ddee9-985a-4430-a789-49896abc51e5
STATUS:CONFIRMED
LAST-MODIFIED:20260125T000421Z
DESCRIPTION:3. Liga Herren Gruppe 1\nBegegnungs-Nr: 27\nHeim: Münsingen\nGast: bls Spiez\n\nAdresse: Turnhallenweg 8\, 3110 Münsingen\n
LOCATION:Turnhallenweg 8\, 3110 Münsingen
CATEGORIES:Saison 2025/26
END:VEVENT
BEGIN:VEVENT
DTSTAMP:20260424T084018Z
DTSTART;TZID=Europe/Berlin:20251106T200000
DTEND;TZID=Europe/Berlin:20251106T230000
SUMMARY:HE 3. Liga Gr. 1 Münsingen vs Interlaken (19)
UID:bb0a1262-7d12-452a-b2ae-4a67aaeae0a9
STATUS:CONFIRMED
LAST-MODIFIED:20251115T171504Z
DESCRIPTION:3. Liga Herren Gruppe 1\nBegegnungs-Nr: 19\nHeim: Münsingen\nGast: Interlaken\n\nAdresse: Turnhallenweg 8\, 3110 Münsingen\n
LOCATION:Turnhallenweg 8\, 3110 Münsingen
CATEGORIES:Saison 2025/26
END:VEVENT
BEGIN:VEVENT
DTSTAMP:20260424T084018Z
DTSTART;TZID=Europe/Berlin:20251027T193000
DTEND;TZID=Europe/Berlin:20251027T223000
SUMMARY:HE 3. Liga Gr. 1 Münsingen vs Ostermundigen V (13)
UID:8f1d7fb5-1f6e-47be-8659-fca9b6314d2f
STATUS:CONFIRMED
LAST-MODIFIED:20251029T220753Z
DESCRIPTION:3. Liga Herren Gruppe 1\nBegegnungs-Nr: 13\nHeim: Münsingen\nGast: Ostermundigen V\n\nAdresse: Turnhallenweg 8\, 3110 Münsingen\n
LOCATION:Turnhallenweg 8\, 3110 Münsingen
CATEGORIES:Saison 2025/26
END:VEVENT
BEGIN:VEVENT
DTSTAMP:20260424T084018Z
DTSTART;TZID=Europe/Berlin:20260309T193000
DTEND;TZID=Europe/Berlin:20260309T223000
SUMMARY:HE 3. Liga Gr. 1 Münsingen vs Royal Bern II (23)
UID:0c7a0937-4141-415a-b940-2f019abde2d9
STATUS:CONFIRMED
LAST-MODIFIED:20260315T225827Z
DESCRIPTION:3. Liga Herren Gruppe 1\nBegegnungs-Nr: 23\nHeim: Münsingen\nGast: Royal Bern II\n\nAdresse: Turnhallenweg 8\, 3110 Münsingen\n
LOCATION:Turnhallenweg 8\, 3110 Münsingen
CATEGORIES:Saison 2025/26
END:VEVENT
BEGIN:VEVENT
DTSTAMP:20260424T084018Z
DTSTART;TZID=Europe/Berlin:20260202T193000
DTEND;TZID=Europe/Berlin:20260202T223000
SUMMARY:HE 3. Liga Gr. 1 Münsingen vs Bern V (2)
UID:cad12ee2-99ae-43f0-abe2-a213fb7e86da
STATUS:CONFIRMED
LAST-MODIFIED:20260217T212728Z
DESCRIPTION:3. Liga Herren Gruppe 1\nBegegnungs-Nr: 2\nHeim: Münsingen\nGast: Bern V\n\nAdresse: Turnhallenweg 8\, 3110 Münsingen\n
LOCATION:Turnhallenweg 8\, 3110 Münsingen
CATEGORIES:Saison 2025/26
END:VEVENT
BEGIN:VEVENT
DTSTAMP:20260424T084018Z
DTSTART;TZID=Europe/Berlin:20260209T193000
DTEND;TZID=Europe/Berlin:20260209T223000
SUMMARY:HE 3. Liga Gr. 1 Münsingen vs Heimberg IV (12)
UID:4449a13c-9b2b-4ff7-a688-a8c262b23462
STATUS:CONFIRMED
LAST-MODIFIED:20260217T212858Z
DESCRIPTION:3. Liga Herren Gruppe 1\nBegegnungs-Nr: 12\nHeim: Münsingen\nGast: Heimberg IV\n\nAdresse: Turnhallenweg 8\, 3110 Münsingen\n
LOCATION:Turnhallenweg 8\, 3110 Münsingen
CATEGORIES:Saison 2025/26
END:VEVENT
BEGIN:VEVENT
DTSTAMP:20260424T084018Z
DTSTART;TZID=Europe/Berlin:20251217T194500
DTEND;TZID=Europe/Berlin:20251217T224500
SUMMARY:HE 3. Liga Gr. 1 Royal Bern II vs Münsingen (23)
UID:0a447373-5665-40b2-a8d2-53cc6a4d05a7
STATUS:CONFIRMED
LAST-MODIFIED:20251218T122041Z
DESCRIPTION:3. Liga Herren Gruppe 1\nBegegnungs-Nr: 23\nHeim: Royal Bern II\nGast: Münsingen\n\nAdresse: Dändlikerweg 60\, 3014 Bern\n
LOCATION:Dändlikerweg 60\, 3014 Bern
CATEGORIES:Saison 2025/26
END:VEVENT
BEGIN:VEVENT
DTSTAMP:20260424T084018Z
DTSTART;TZID=Europe/Berlin:20250901T193000
DTEND;TZID=Europe/Berlin:20250901T223000
SUMMARY:HE 3. Liga Gr. 1 Bern V vs Münsingen (2)
UID:8e06a5d7-1a60-4288-ac73-af95a573099c
STATUS:CONFIRMED
LAST-MODIFIED:20250907T200211Z
DESCRIPTION:3. Liga Herren Gruppe 1\nBegegnungs-Nr: 2\nHeim: Bern V\nGast: Münsingen\n\nAdresse: Mädergutstrasse 58\, 3018 Bern\n
LOCATION:Mädergutstrasse 58\, 3018 Bern
CATEGORIES:Saison 2025/26
END:VEVENT
BEGIN:VEVENT
DTSTAMP:20260424T084018Z
DTSTART;TZID=Europe/Berlin:20251016T194500
DTEND;TZID=Europe/Berlin:20251016T224500
SUMMARY:HE 3. Liga Gr. 1 Heimberg IV vs Münsingen (12)
UID:c62be824-b7fd-4944-ad74-66b883938a52
STATUS:CONFIRMED
LAST-MODIFIED:20251020T114245Z
DESCRIPTION:3. Liga Herren Gruppe 1\nBegegnungs-Nr: 12\nHeim: Heimberg IV\nGast: Münsingen\n\nAdresse: Niesenstrasse 38\, 3627 Heimberg\n
LOCATION:Niesenstrasse 38\, 3627 Heimberg
CATEGORIES:Saison 2025/26
END:VEVENT
BEGIN:VEVENT
DTSTAMP:20260424T084018Z
DTSTART;TZID=Europe/Berlin:20260331T194500
DTEND;TZID=Europe/Berlin:20260331T224500
SUMMARY:HE 3. Liga Gr. 1 bls Spiez vs Münsingen (27)
UID:31d1ec6b-c4b1-4a62-9ccf-0237904b5cc2
STATUS:CONFIRMED
LAST-MODIFIED:20260409T123744Z
DESCRIPTION:3. Liga Herren Gruppe 1\nBegegnungs-Nr: 27\nHeim: bls Spiez\nGast: Münsingen\n\nAdresse: Hofachernweg 19 / Oberlandstr. 89\, 3700 Spiez\n
LOCATION:Hofachernweg 19 / Oberlandstr. 89\, 3700 Spiez
CATEGORIES:Saison 2025/26
END:VEVENT
BEGIN:VEVENT
DTSTAMP:20260424T084018Z
DTSTART;TZID=Europe/Berlin:20260320T200000
DTEND;TZID=Europe/Berlin:20260320T230000
SUMMARY:HE 3. Liga Gr. 1 Interlaken vs Münsingen (19)
UID:b9de2cb5-27e5-4f9d-933c-80f3adce0aaa
STATUS:CONFIRMED
LAST-MODIFIED:20260327T143339Z
DESCRIPTION:3. Liga Herren Gruppe 1\nBegegnungs-Nr: 19\nHeim: Interlaken\nGast: Münsingen\n\nAdresse: Burgweg 239R\, 3852 Ringgenberg\n
LOCATION:Burgweg 239R\, 3852 Ringgenberg
CATEGORIES:Saison 2025/26
END:VEVENT
BEGIN:VEVENT
DTSTAMP:20260424T084018Z
DTSTART;TZID=Europe/Berlin:20260127T193000
DTEND;TZID=Europe/Berlin:20260127T223000
SUMMARY:HE 3. Liga Gr. 1 Ostermundigen V vs Münsingen (13)
UID:425a6bad-b82b-47eb-b8e9-a1121b5f7d48
STATUS:CONFIRMED
LAST-MODIFIED:20260217T212647Z
DESCRIPTION:3. Liga Herren Gruppe 1\nBegegnungs-Nr: 13\nHeim: Ostermundigen V\nGast: Münsingen\n\nAdresse: Dennigkofenweg 169\, 3072 Ostermundigen\n
LOCATION:Dennigkofenweg 169\, 3072 Ostermundigen
CATEGORIES:Saison 2025/26
END:VEVENT
BEGIN:VEVENT
DTSTAMP:20260424T084018Z
DTSTART;TZID=Europe/Berlin:20260121T193000
DTEND;TZID=Europe/Berlin:20260121T223000
SUMMARY:HE 3. Liga Gr. 1 Belp II vs Münsingen (7)
UID:49273700-bebb-4184-b963-e3c0dfb8e959
STATUS:CONFIRMED
LAST-MODIFIED:20260125T000437Z
DESCRIPTION:3. Liga Herren Gruppe 1\nBegegnungs-Nr: 7\nHeim: Belp II\nGast: Münsingen\n\nAdresse: Neumattstrasse 39\, 3123 Belp\n
LOCATION:Neumattstrasse 39\, 3123 Belp
CATEGORIES:Saison 2025/26
END:VEVENT
END:VCALENDAR
