BEGIN:VCALENDAR
PRODID:-//nuDatenautomaten//framework iCal4j //DE
VERSION:2.0
CALSCALE:GREGORIAN
BEGIN:VTIMEZONE
TZID:Europe/Berlin
LAST-MODIFIED:20260306T231828Z
TZURL:https://www.tzurl.org/zoneinfo/Europe/Berlin
X-LIC-LOCATION:Europe/Berlin
X-PROLEPTIC-TZNAME:LMT
BEGIN:STANDARD
TZNAME:CET
TZOFFSETFROM:+005328
TZOFFSETTO:+0100
DTSTART:18930401T000000
END:STANDARD
BEGIN:DAYLIGHT
TZNAME:CEST
TZOFFSETFROM:+0100
TZOFFSETTO:+0200
DTSTART:19160430T230000
RDATE:19400401T020000
RDATE:19430329T020000
RDATE:19460414T020000
RDATE:19470406T030000
RDATE:19480418T020000
RDATE:19490410T020000
RDATE:19800406T020000
END:DAYLIGHT
BEGIN:STANDARD
TZNAME:CET
TZOFFSETFROM:+0200
TZOFFSETTO:+0100
DTSTART:19161001T010000
RDATE:19421102T030000
RDATE:19431004T030000
RDATE:19441002T030000
RDATE:19451118T030000
RDATE:19461007T030000
END:STANDARD
BEGIN:DAYLIGHT
TZNAME:CEST
TZOFFSETFROM:+0100
TZOFFSETTO:+0200
DTSTART:19170416T020000
RRULE:FREQ=YEARLY;UNTIL=19180415T010000Z;BYMONTH=4;BYDAY=3MO
END:DAYLIGHT
BEGIN:STANDARD
TZNAME:CET
TZOFFSETFROM:+0200
TZOFFSETTO:+0100
DTSTART:19170917T030000
RRULE:FREQ=YEARLY;UNTIL=19180916T010000Z;BYMONTH=9;BYDAY=3MO
END:STANDARD
BEGIN:DAYLIGHT
TZNAME:CEST
TZOFFSETFROM:+0100
TZOFFSETTO:+0200
DTSTART:19440403T020000
RRULE:FREQ=YEARLY;UNTIL=19450402T010000Z;BYMONTH=4;BYDAY=1MO
END:DAYLIGHT
BEGIN:DAYLIGHT
TZNAME:CEMT
TZOFFSETFROM:+0200
TZOFFSETTO:+0300
DTSTART:19450524T020000
RDATE:19470511T030000
END:DAYLIGHT
BEGIN:DAYLIGHT
TZNAME:CEST
TZOFFSETFROM:+0300
TZOFFSETTO:+0200
DTSTART:19450924T030000
RDATE:19470629T030000
END:DAYLIGHT
BEGIN:STANDARD
TZNAME:CET
TZOFFSETFROM:+0100
TZOFFSETTO:+0100
DTSTART:19460101T000000
RDATE:19800101T000000
END:STANDARD
BEGIN:STANDARD
TZNAME:CET
TZOFFSETFROM:+0200
TZOFFSETTO:+0100
DTSTART:19471005T030000
RRULE:FREQ=YEARLY;UNTIL=19491002T010000Z;BYMONTH=10;BYDAY=1SU
END:STANDARD
BEGIN:STANDARD
TZNAME:CET
TZOFFSETFROM:+0200
TZOFFSETTO:+0100
DTSTART:19800928T030000
RRULE:FREQ=YEARLY;UNTIL=19950924T010000Z;BYMONTH=9;BYDAY=-1SU
END:STANDARD
BEGIN:DAYLIGHT
TZNAME:CEST
TZOFFSETFROM:+0100
TZOFFSETTO:+0200
DTSTART:19810329T020000
RRULE:FREQ=YEARLY;BYMONTH=3;BYDAY=-1SU
END:DAYLIGHT
BEGIN:STANDARD
TZNAME:CET
TZOFFSETFROM:+0200
TZOFFSETTO:+0100
DTSTART:19961027T030000
RRULE:FREQ=YEARLY;BYMONTH=10;BYDAY=-1SU
END:STANDARD
END:VTIMEZONE
BEGIN:VEVENT
DTSTAMP:20260424T062005Z
DTSTART;TZID=Europe/Berlin:20250902T193000
DTEND;TZID=Europe/Berlin:20250902T223000
SUMMARY:ME L4 Gr 2\, Tours 1&2 Romont-Villaz II vs Mézières II (0)
UID:9e0b0474-f609-41f5-bb05-f62f7016ab67
STATUS:CONFIRMED
LAST-MODIFIED:20250903T213016Z
DESCRIPTION:4ème ligue Hommes Groupe 2\, Tours 1&2\nBegegnungs-Nr: 0\nHeim: Romont-Villaz II\nGast: Mézières II\n\nAdresse: Route de la Gare 5\, 1690 Villaz-St-Pierre\n
LOCATION:Route de la Gare 5\, 1690 Villaz-St-Pierre
CATEGORIES:Saison 2025/26
END:VEVENT
BEGIN:VEVENT
DTSTAMP:20260424T062005Z
DTSTART;TZID=Europe/Berlin:20250923T193000
DTEND;TZID=Europe/Berlin:20250923T223000
SUMMARY:ME L4 Gr 2\, Tours 1&2 Romont-Villaz II vs Aigle (0)
UID:9d1a1142-91ca-4402-b033-6dcf71cee5bd
STATUS:CONFIRMED
LAST-MODIFIED:20250925T094209Z
DESCRIPTION:4ème ligue Hommes Groupe 2\, Tours 1&2\nBegegnungs-Nr: 0\nHeim: Romont-Villaz II\nGast: Aigle\n\nAdresse: Route de la Gare 5\, 1690 Villaz-St-Pierre\n
LOCATION:Route de la Gare 5\, 1690 Villaz-St-Pierre
CATEGORIES:Saison 2025/26
END:VEVENT
BEGIN:VEVENT
DTSTAMP:20260424T062005Z
DTSTART;TZID=Europe/Berlin:20251104T193000
DTEND;TZID=Europe/Berlin:20251104T223000
SUMMARY:ME L4 Gr 2\, Tours 1&2 Romont-Villaz II vs Chexbres II (0)
UID:cff387f2-3a63-45a1-b640-a9b5298cf0e5
STATUS:CONFIRMED
LAST-MODIFIED:20251105T152508Z
DESCRIPTION:4ème ligue Hommes Groupe 2\, Tours 1&2\nBegegnungs-Nr: 0\nHeim: Romont-Villaz II\nGast: Chexbres II\n\nAdresse: Route de la Gare 5\, 1690 Villaz-St-Pierre\n
LOCATION:Route de la Gare 5\, 1690 Villaz-St-Pierre
CATEGORIES:Saison 2025/26
END:VEVENT
BEGIN:VEVENT
DTSTAMP:20260424T062005Z
DTSTART;TZID=Europe/Berlin:20251111T193000
DTEND;TZID=Europe/Berlin:20251111T223000
SUMMARY:ME L4 Gr 2\, Tours 1&2 Romont-Villaz II vs Bulle IV (0)
UID:2e2e3e15-2da0-4631-bab9-c494915e0ef0
STATUS:CONFIRMED
LAST-MODIFIED:20251113T092655Z
DESCRIPTION:4ème ligue Hommes Groupe 2\, Tours 1&2\nBegegnungs-Nr: 0\nHeim: Romont-Villaz II\nGast: Bulle IV\n\nAdresse: Route de la Gare 5\, 1690 Villaz-St-Pierre\n
LOCATION:Route de la Gare 5\, 1690 Villaz-St-Pierre
CATEGORIES:Saison 2025/26
END:VEVENT
BEGIN:VEVENT
DTSTAMP:20260424T062005Z
DTSTART;TZID=Europe/Berlin:20251209T193000
DTEND;TZID=Europe/Berlin:20251209T223000
SUMMARY:ME L4 Gr 2\, Tours 1&2 Romont-Villaz II vs Martigny III (0)
UID:a999cb22-99a6-4207-8d68-a8105f77f7df
STATUS:CONFIRMED
LAST-MODIFIED:20251211T060501Z
DESCRIPTION:4ème ligue Hommes Groupe 2\, Tours 1&2\nBegegnungs-Nr: 0\nHeim: Romont-Villaz II\nGast: Martigny III\n\nAdresse: Route de la Gare 5\, 1690 Villaz-St-Pierre\n
LOCATION:Route de la Gare 5\, 1690 Villaz-St-Pierre
CATEGORIES:Saison 2025/26
END:VEVENT
BEGIN:VEVENT
DTSTAMP:20260424T062005Z
DTSTART;TZID=Europe/Berlin:20260113T193000
DTEND;TZID=Europe/Berlin:20260113T223000
SUMMARY:ME L4 Gr 4\, Tours 3&4 Romont-Villaz II vs Romont-Villaz (0)
UID:0d43818d-71c3-4de9-8da3-7440158313b5
STATUS:CONFIRMED
LAST-MODIFIED:20260114T192701Z
DESCRIPTION:4ème ligue Hommes Groupe 4\, Tours 3&4\nBegegnungs-Nr: 0\nHeim: Romont-Villaz II\nGast: Romont-Villaz\n\nAdresse: Route de la Gare 5\, 1690 Villaz-St-Pierre\n
LOCATION:Route de la Gare 5\, 1690 Villaz-St-Pierre
CATEGORIES:Saison 2025/26
END:VEVENT
BEGIN:VEVENT
DTSTAMP:20260424T062005Z
DTSTART;TZID=Europe/Berlin:20260210T193000
DTEND;TZID=Europe/Berlin:20260210T223000
SUMMARY:ME L4 Gr 4\, Tours 3&4 Romont-Villaz II vs Avry-Rosé III (0)
UID:4840afb6-efc1-4b13-b5cf-2d8349a8608b
STATUS:CONFIRMED
LAST-MODIFIED:20260212T112945Z
DESCRIPTION:4ème ligue Hommes Groupe 4\, Tours 3&4\nBegegnungs-Nr: 0\nHeim: Romont-Villaz II\nGast: Avry-Rosé III\n\nAdresse: Route de la Gare 5\, 1690 Villaz-St-Pierre\n
LOCATION:Route de la Gare 5\, 1690 Villaz-St-Pierre
CATEGORIES:Saison 2025/26
END:VEVENT
BEGIN:VEVENT
DTSTAMP:20260424T062005Z
DTSTART;TZID=Europe/Berlin:20260331T193000
DTEND;TZID=Europe/Berlin:20260331T223000
SUMMARY:ME L4 Gr 4\, Tours 3&4 Romont-Villaz II vs Bulle V (0)
UID:44296fc4-4d94-4496-970a-5e2f9321531d
STATUS:CONFIRMED
LAST-MODIFIED:20260402T080829Z
DESCRIPTION:4ème ligue Hommes Groupe 4\, Tours 3&4\nBegegnungs-Nr: 0\nHeim: Romont-Villaz II\nGast: Bulle V\n\nAdresse: Route de la Gare 5\, 1690 Villaz-St-Pierre\n
LOCATION:Route de la Gare 5\, 1690 Villaz-St-Pierre
CATEGORIES:Saison 2025/26
END:VEVENT
BEGIN:VEVENT
DTSTAMP:20260424T062005Z
DTSTART;TZID=Europe/Berlin:20260303T193000
DTEND;TZID=Europe/Berlin:20260303T223000
SUMMARY:ME L4 Gr 4\, Tours 3&4 Romont-Villaz II vs Chexbres (0)
UID:038c9512-b4b5-4378-8914-c1b99b39fb75
STATUS:CONFIRMED
LAST-MODIFIED:20260305T200150Z
DESCRIPTION:4ème ligue Hommes Groupe 4\, Tours 3&4\nBegegnungs-Nr: 0\nHeim: Romont-Villaz II\nGast: Chexbres\n\nAdresse: Route de la Gare 5\, 1690 Villaz-St-Pierre\n
LOCATION:Route de la Gare 5\, 1690 Villaz-St-Pierre
CATEGORIES:Saison 2025/26
END:VEVENT
BEGIN:VEVENT
DTSTAMP:20260424T062005Z
DTSTART;TZID=Europe/Berlin:20260317T193000
DTEND;TZID=Europe/Berlin:20260317T223000
SUMMARY:ME L4 Gr 4\, Tours 3&4 Romont-Villaz II vs Matran (0)
UID:f5c5b332-24d9-4d0a-9fe7-b40e8e06e35d
STATUS:CONFIRMED
LAST-MODIFIED:20260321T102557Z
DESCRIPTION:4ème ligue Hommes Groupe 4\, Tours 3&4\nBegegnungs-Nr: 0\nHeim: Romont-Villaz II\nGast: Matran\n\nAdresse: Route de la Gare 5\, 1690 Villaz-St-Pierre\n
LOCATION:Route de la Gare 5\, 1690 Villaz-St-Pierre
CATEGORIES:Saison 2025/26
END:VEVENT
BEGIN:VEVENT
DTSTAMP:20260424T062005Z
DTSTART;TZID=Europe/Berlin:20250911T194500
DTEND;TZID=Europe/Berlin:20250911T224500
SUMMARY:ME L4 Gr 2\, Tours 1&2 Chexbres II vs Romont-Villaz II (0)
UID:3e46ac6a-b1e3-4bb0-9893-8849aef9628e
STATUS:CONFIRMED
LAST-MODIFIED:20250912T144202Z
DESCRIPTION:4ème ligue Hommes Groupe 2\, Tours 1&2\nBegegnungs-Nr: 0\nHeim: Chexbres II\nGast: Romont-Villaz II\n\nAdresse: Collège de Praz Routoz\, 1071 Chexbres\n
LOCATION:Collège de Praz Routoz\, 1071 Chexbres
CATEGORIES:Saison 2025/26
END:VEVENT
BEGIN:VEVENT
DTSTAMP:20260424T062005Z
DTSTART;TZID=Europe/Berlin:20251001T200000
DTEND;TZID=Europe/Berlin:20251001T230000
SUMMARY:ME L4 Gr 2\, Tours 1&2 Bulle IV vs Romont-Villaz II (0)
UID:3cc1568a-ba65-413d-9b94-5c5989f1ade3
STATUS:CONFIRMED
LAST-MODIFIED:20251002T092053Z
DESCRIPTION:4ème ligue Hommes Groupe 2\, Tours 1&2\nBegegnungs-Nr: 0\nHeim: Bulle IV\nGast: Romont-Villaz II\n\nAdresse: Rue du Stade 50\, 1630 Bulle\n
LOCATION:Rue du Stade 50\, 1630 Bulle
CATEGORIES:Saison 2025/26
END:VEVENT
BEGIN:VEVENT
DTSTAMP:20260424T062005Z
DTSTART;TZID=Europe/Berlin:20250826T200000
DTEND;TZID=Europe/Berlin:20250826T230000
SUMMARY:ME L4 Gr 2\, Tours 1&2 Martigny III vs Romont-Villaz II (0)
UID:1055d21e-9061-4f1e-93a2-007f0d4da0f2
STATUS:CONFIRMED
LAST-MODIFIED:20250826T231314Z
DESCRIPTION:4ème ligue Hommes Groupe 2\, Tours 1&2\nBegegnungs-Nr: 0\nHeim: Martigny III\nGast: Romont-Villaz II\n\nAdresse: Rue des Ecoles 9\, 1920 Martigny\n
LOCATION:Rue des Ecoles 9\, 1920 Martigny
CATEGORIES:Saison 2025/26
END:VEVENT
BEGIN:VEVENT
DTSTAMP:20260424T062005Z
DTSTART;TZID=Europe/Berlin:20251029T200000
DTEND;TZID=Europe/Berlin:20251029T230000
SUMMARY:ME L4 Gr 2\, Tours 1&2 Mézières II vs Romont-Villaz II (0)
UID:4f334f3f-9c19-41d4-8c15-8db2592f3e20
STATUS:CONFIRMED
LAST-MODIFIED:20251103T123759Z
DESCRIPTION:4ème ligue Hommes Groupe 2\, Tours 1&2\nBegegnungs-Nr: 0\nHeim: Mézières II\nGast: Romont-Villaz II\n\nAdresse: -\, 1083 Mézières\n
LOCATION:-\, 1083 Mézières
CATEGORIES:Saison 2025/26
END:VEVENT
BEGIN:VEVENT
DTSTAMP:20260424T062005Z
DTSTART;TZID=Europe/Berlin:20251119T200000
DTEND;TZID=Europe/Berlin:20251119T230000
SUMMARY:ME L4 Gr 2\, Tours 1&2 Aigle vs Romont-Villaz II (0)
UID:7b6db7a2-1a76-4543-86d8-a9a151164809
STATUS:CONFIRMED
LAST-MODIFIED:20251120T094525Z
DESCRIPTION:4ème ligue Hommes Groupe 2\, Tours 1&2\nBegegnungs-Nr: 0\nHeim: Aigle\nGast: Romont-Villaz II\n\nAdresse: Rue du Collège 12\, 1860 Aigle\n
LOCATION:Rue du Collège 12\, 1860 Aigle
CATEGORIES:Saison 2025/26
END:VEVENT
BEGIN:VEVENT
DTSTAMP:20260424T062005Z
DTSTART;TZID=Europe/Berlin:20260119T200000
DTEND;TZID=Europe/Berlin:20260119T230000
SUMMARY:ME L4 Gr 4\, Tours 3&4 Matran vs Romont-Villaz II (0)
UID:eda578fa-aab9-4f2b-8a6e-2536ef04b85c
STATUS:CONFIRMED
LAST-MODIFIED:20260121T122449Z
DESCRIPTION:4ème ligue Hommes Groupe 4\, Tours 3&4\nBegegnungs-Nr: 0\nHeim: Matran\nGast: Romont-Villaz II\n\nAdresse: Route de l'Ecole\, 1753 Matran\n
LOCATION:Route de l'Ecole\, 1753 Matran
CATEGORIES:Saison 2025/26
END:VEVENT
BEGIN:VEVENT
DTSTAMP:20260424T062005Z
DTSTART;TZID=Europe/Berlin:20260204T200000
DTEND;TZID=Europe/Berlin:20260204T230000
SUMMARY:ME L4 Gr 4\, Tours 3&4 Bulle V vs Romont-Villaz II (0)
UID:0b01b010-aeb4-46cd-9dde-ab2654e6777b
STATUS:CONFIRMED
LAST-MODIFIED:20260205T224310Z
DESCRIPTION:4ème ligue Hommes Groupe 4\, Tours 3&4\nBegegnungs-Nr: 0\nHeim: Bulle V\nGast: Romont-Villaz II\n\nAdresse: Rue du Stade 50\, 1630 Bulle\n
LOCATION:Rue du Stade 50\, 1630 Bulle
CATEGORIES:Saison 2025/26
END:VEVENT
BEGIN:VEVENT
DTSTAMP:20260424T062005Z
DTSTART;TZID=Europe/Berlin:20260423T193000
DTEND;TZID=Europe/Berlin:20260423T223000
SUMMARY:ME L4 Gr 4\, Tours 3&4 Avry-Rosé III vs Romont-Villaz II (0)
UID:8cc3d3cc-2414-4903-8f48-b28b72561cf9
STATUS:CONFIRMED
DESCRIPTION:4ème ligue Hommes Groupe 4\, Tours 3&4\nBegegnungs-Nr: 0\nHeim: Avry-Rosé III\nGast: Romont-Villaz II\n\nAdresse: Route du Château 15\, 1754 Avry-sur-Matran\n
LOCATION:Route du Château 15\, 1754 Avry-sur-Matran
CATEGORIES:Saison 2025/26
END:VEVENT
BEGIN:VEVENT
DTSTAMP:20260424T062005Z
DTSTART;TZID=Europe/Berlin:20260427T200000
DTEND;TZID=Europe/Berlin:20260427T230000
SUMMARY:ME L4 Gr 4\, Tours 3&4 Chexbres vs Romont-Villaz II (0)
UID:5fb9d024-35c5-4f55-98cb-e2798a8c550e
STATUS:CONFIRMED
LAST-MODIFIED:20251230T133238Z
DESCRIPTION:4ème ligue Hommes Groupe 4\, Tours 3&4\nBegegnungs-Nr: 0\nHeim: Chexbres\nGast: Romont-Villaz II\n\nAdresse: Collège de Praz Routoz\, 1071 Chexbres\n
LOCATION:Collège de Praz Routoz\, 1071 Chexbres
CATEGORIES:Saison 2025/26
END:VEVENT
BEGIN:VEVENT
DTSTAMP:20260424T062005Z
DTSTART;TZID=Europe/Berlin:20260310T193000
DTEND;TZID=Europe/Berlin:20260310T223000
SUMMARY:ME L4 Gr 4\, Tours 3&4 Romont-Villaz vs Romont-Villaz II (0)
UID:8a9484a6-76f0-4442-9bad-9075ffd66f8f
STATUS:CONFIRMED
LAST-MODIFIED:20260311T161920Z
DESCRIPTION:4ème ligue Hommes Groupe 4\, Tours 3&4\nBegegnungs-Nr: 0\nHeim: Romont-Villaz\nGast: Romont-Villaz II\n\nAdresse: Route de la Gare 5\, 1690 Villaz-St-Pierre\n
LOCATION:Route de la Gare 5\, 1690 Villaz-St-Pierre
CATEGORIES:Saison 2025/26
END:VEVENT
END:VCALENDAR
