BEGIN:VCALENDAR
PRODID:-//nuDatenautomaten//framework iCal4j //DE
VERSION:2.0
CALSCALE:GREGORIAN
BEGIN:VTIMEZONE
TZID:Europe/Berlin
LAST-MODIFIED:20260306T231828Z
TZURL:https://www.tzurl.org/zoneinfo/Europe/Berlin
X-LIC-LOCATION:Europe/Berlin
X-PROLEPTIC-TZNAME:LMT
BEGIN:STANDARD
TZNAME:CET
TZOFFSETFROM:+005328
TZOFFSETTO:+0100
DTSTART:18930401T000000
END:STANDARD
BEGIN:DAYLIGHT
TZNAME:CEST
TZOFFSETFROM:+0100
TZOFFSETTO:+0200
DTSTART:19160430T230000
RDATE:19400401T020000
RDATE:19430329T020000
RDATE:19460414T020000
RDATE:19470406T030000
RDATE:19480418T020000
RDATE:19490410T020000
RDATE:19800406T020000
END:DAYLIGHT
BEGIN:STANDARD
TZNAME:CET
TZOFFSETFROM:+0200
TZOFFSETTO:+0100
DTSTART:19161001T010000
RDATE:19421102T030000
RDATE:19431004T030000
RDATE:19441002T030000
RDATE:19451118T030000
RDATE:19461007T030000
END:STANDARD
BEGIN:DAYLIGHT
TZNAME:CEST
TZOFFSETFROM:+0100
TZOFFSETTO:+0200
DTSTART:19170416T020000
RRULE:FREQ=YEARLY;UNTIL=19180415T010000Z;BYMONTH=4;BYDAY=3MO
END:DAYLIGHT
BEGIN:STANDARD
TZNAME:CET
TZOFFSETFROM:+0200
TZOFFSETTO:+0100
DTSTART:19170917T030000
RRULE:FREQ=YEARLY;UNTIL=19180916T010000Z;BYMONTH=9;BYDAY=3MO
END:STANDARD
BEGIN:DAYLIGHT
TZNAME:CEST
TZOFFSETFROM:+0100
TZOFFSETTO:+0200
DTSTART:19440403T020000
RRULE:FREQ=YEARLY;UNTIL=19450402T010000Z;BYMONTH=4;BYDAY=1MO
END:DAYLIGHT
BEGIN:DAYLIGHT
TZNAME:CEMT
TZOFFSETFROM:+0200
TZOFFSETTO:+0300
DTSTART:19450524T020000
RDATE:19470511T030000
END:DAYLIGHT
BEGIN:DAYLIGHT
TZNAME:CEST
TZOFFSETFROM:+0300
TZOFFSETTO:+0200
DTSTART:19450924T030000
RDATE:19470629T030000
END:DAYLIGHT
BEGIN:STANDARD
TZNAME:CET
TZOFFSETFROM:+0100
TZOFFSETTO:+0100
DTSTART:19460101T000000
RDATE:19800101T000000
END:STANDARD
BEGIN:STANDARD
TZNAME:CET
TZOFFSETFROM:+0200
TZOFFSETTO:+0100
DTSTART:19471005T030000
RRULE:FREQ=YEARLY;UNTIL=19491002T010000Z;BYMONTH=10;BYDAY=1SU
END:STANDARD
BEGIN:STANDARD
TZNAME:CET
TZOFFSETFROM:+0200
TZOFFSETTO:+0100
DTSTART:19800928T030000
RRULE:FREQ=YEARLY;UNTIL=19950924T010000Z;BYMONTH=9;BYDAY=-1SU
END:STANDARD
BEGIN:DAYLIGHT
TZNAME:CEST
TZOFFSETFROM:+0100
TZOFFSETTO:+0200
DTSTART:19810329T020000
RRULE:FREQ=YEARLY;BYMONTH=3;BYDAY=-1SU
END:DAYLIGHT
BEGIN:STANDARD
TZNAME:CET
TZOFFSETFROM:+0200
TZOFFSETTO:+0100
DTSTART:19961027T030000
RRULE:FREQ=YEARLY;BYMONTH=10;BYDAY=-1SU
END:STANDARD
END:VTIMEZONE
BEGIN:VEVENT
DTSTAMP:20260424T115150Z
DTSTART;TZID=Europe/Berlin:20251126T193000
DTEND;TZID=Europe/Berlin:20251126T223000
SUMMARY:ME L5 Gr 3\, Tours 1&2 Montriond-Ouchy  III vs Romanel V (0)
UID:150125a4-4538-481c-a621-abd4dab6a87e
STATUS:CONFIRMED
LAST-MODIFIED:20251127T112145Z
DESCRIPTION:5ème ligue Hommes Groupe 3\, Tours 1&2\nBegegnungs-Nr: 0\nHeim: Montriond-Ouchy  III\nGast: Romanel V\n\nAdresse: Avenue d'Ouchy 45\, 1006 Lausanne\n
LOCATION:Avenue d'Ouchy 45\, 1006 Lausanne
CATEGORIES:Saison 2025/26
END:VEVENT
BEGIN:VEVENT
DTSTAMP:20260424T115150Z
DTSTART;TZID=Europe/Berlin:20250903T193000
DTEND;TZID=Europe/Berlin:20250903T223000
SUMMARY:ME L5 Gr 3\, Tours 1&2 Montriond-Ouchy  III vs Crissier VI (0)
UID:d17a1c17-471c-44aa-80a1-07236f995830
STATUS:CONFIRMED
LAST-MODIFIED:20250905T182822Z
DESCRIPTION:5ème ligue Hommes Groupe 3\, Tours 1&2\nBegegnungs-Nr: 0\nHeim: Montriond-Ouchy  III\nGast: Crissier VI\n\nAdresse: Avenue d'Ouchy 45\, 1006 Lausanne\n
LOCATION:Avenue d'Ouchy 45\, 1006 Lausanne
CATEGORIES:Saison 2025/26
END:VEVENT
BEGIN:VEVENT
DTSTAMP:20260424T115150Z
DTSTART;TZID=Europe/Berlin:20250917T193000
DTEND;TZID=Europe/Berlin:20250917T223000
SUMMARY:ME L5 Gr 3\, Tours 1&2 Montriond-Ouchy  III vs Yverdon IV (0)
UID:9504b63f-6124-40e1-9068-77308bf49da6
STATUS:CONFIRMED
LAST-MODIFIED:20250918T093906Z
DESCRIPTION:5ème ligue Hommes Groupe 3\, Tours 1&2\nBegegnungs-Nr: 0\nHeim: Montriond-Ouchy  III\nGast: Yverdon IV\n\nAdresse: Avenue d'Ouchy 45\, 1006 Lausanne\n
LOCATION:Avenue d'Ouchy 45\, 1006 Lausanne
CATEGORIES:Saison 2025/26
END:VEVENT
BEGIN:VEVENT
DTSTAMP:20260424T115150Z
DTSTART;TZID=Europe/Berlin:20251008T193000
DTEND;TZID=Europe/Berlin:20251008T223000
SUMMARY:ME L5 Gr 3\, Tours 1&2 Montriond-Ouchy  III vs Trams-Renens III (0)
UID:b11f61ac-8ec2-435e-a16c-a58c2e922d55
STATUS:CONFIRMED
LAST-MODIFIED:20251009T103035Z
DESCRIPTION:5ème ligue Hommes Groupe 3\, Tours 1&2\nBegegnungs-Nr: 0\nHeim: Montriond-Ouchy  III\nGast: Trams-Renens III\n\nAdresse: Avenue d'Ouchy 45\, 1006 Lausanne\n
LOCATION:Avenue d'Ouchy 45\, 1006 Lausanne
CATEGORIES:Saison 2025/26
END:VEVENT
BEGIN:VEVENT
DTSTAMP:20260424T115150Z
DTSTART;TZID=Europe/Berlin:20251105T193000
DTEND;TZID=Europe/Berlin:20251105T223000
SUMMARY:ME L5 Gr 3\, Tours 1&2 Montriond-Ouchy  III vs Lausanne IX (0)
UID:787d4e00-5380-4245-9471-6287d0613f3e
STATUS:CONFIRMED
LAST-MODIFIED:20251106T100456Z
DESCRIPTION:5ème ligue Hommes Groupe 3\, Tours 1&2\nBegegnungs-Nr: 0\nHeim: Montriond-Ouchy  III\nGast: Lausanne IX\n\nAdresse: Avenue d'Ouchy 45\, 1006 Lausanne\n
LOCATION:Avenue d'Ouchy 45\, 1006 Lausanne
CATEGORIES:Saison 2025/26
END:VEVENT
BEGIN:VEVENT
DTSTAMP:20260424T115150Z
DTSTART;TZID=Europe/Berlin:20260121T193000
DTEND;TZID=Europe/Berlin:20260121T223000
SUMMARY:ME L4 Gr 2\, Tours 3&4 Montriond-Ouchy  III vs Montriond-Ouchy  II (0)
UID:b42a7970-2709-41fb-8eeb-6809c825b04b
STATUS:CONFIRMED
LAST-MODIFIED:20260124T154547Z
DESCRIPTION:4ème ligue Hommes Groupe 2\, Tours 3&4\nBegegnungs-Nr: 0\nHeim: Montriond-Ouchy  III\nGast: Montriond-Ouchy  II\n\nAdresse: Avenue d'Ouchy 45\, 1006 Lausanne\n
LOCATION:Avenue d'Ouchy 45\, 1006 Lausanne
CATEGORIES:Saison 2025/26
END:VEVENT
BEGIN:VEVENT
DTSTAMP:20260424T115150Z
DTSTART;TZID=Europe/Berlin:20260204T193000
DTEND;TZID=Europe/Berlin:20260204T223000
SUMMARY:ME L4 Gr 2\, Tours 3&4 Montriond-Ouchy  III vs Lausanne VII (0)
UID:a51f2d23-c1bc-4656-b582-6465b9f38557
STATUS:CONFIRMED
LAST-MODIFIED:20260208T181614Z
DESCRIPTION:4ème ligue Hommes Groupe 2\, Tours 3&4\nBegegnungs-Nr: 0\nHeim: Montriond-Ouchy  III\nGast: Lausanne VII\n\nAdresse: Avenue d'Ouchy 45\, 1006 Lausanne\n
LOCATION:Avenue d'Ouchy 45\, 1006 Lausanne
CATEGORIES:Saison 2025/26
END:VEVENT
BEGIN:VEVENT
DTSTAMP:20260424T115150Z
DTSTART;TZID=Europe/Berlin:20260318T193000
DTEND;TZID=Europe/Berlin:20260318T223000
SUMMARY:ME L4 Gr 2\, Tours 3&4 Montriond-Ouchy  III vs Romanel III (0)
UID:eafdb067-b8af-4ffd-b5cd-0fef5e46ce37
STATUS:CONFIRMED
LAST-MODIFIED:20260321T102458Z
DESCRIPTION:4ème ligue Hommes Groupe 2\, Tours 3&4\nBegegnungs-Nr: 0\nHeim: Montriond-Ouchy  III\nGast: Romanel III\n\nAdresse: Avenue d'Ouchy 45\, 1006 Lausanne\n
LOCATION:Avenue d'Ouchy 45\, 1006 Lausanne
CATEGORIES:Saison 2025/26
END:VEVENT
BEGIN:VEVENT
DTSTAMP:20260424T115150Z
DTSTART;TZID=Europe/Berlin:20260422T193000
DTEND;TZID=Europe/Berlin:20260422T223000
SUMMARY:ME L4 Gr 2\, Tours 3&4 Montriond-Ouchy  III vs Aigle (0)
UID:c909db20-239a-4f72-9410-304d20ddb092
STATUS:CONFIRMED
LAST-MODIFIED:20260423T075513Z
DESCRIPTION:4ème ligue Hommes Groupe 2\, Tours 3&4\nBegegnungs-Nr: 0\nHeim: Montriond-Ouchy  III\nGast: Aigle\n\nAdresse: Avenue d'Ouchy 45\, 1006 Lausanne\n
LOCATION:Avenue d'Ouchy 45\, 1006 Lausanne
CATEGORIES:Saison 2025/26
END:VEVENT
BEGIN:VEVENT
DTSTAMP:20260424T115150Z
DTSTART;TZID=Europe/Berlin:20260429T193000
DTEND;TZID=Europe/Berlin:20260429T223000
SUMMARY:ME L4 Gr 2\, Tours 3&4 Montriond-Ouchy  III vs Chexbres II (0)
UID:bd20a199-a2b5-4396-be61-ef73b4daafc8
STATUS:CONFIRMED
DESCRIPTION:4ème ligue Hommes Groupe 2\, Tours 3&4\nBegegnungs-Nr: 0\nHeim: Montriond-Ouchy  III\nGast: Chexbres II\n\nAdresse: Avenue d'Ouchy 45\, 1006 Lausanne\n
LOCATION:Avenue d'Ouchy 45\, 1006 Lausanne
CATEGORIES:Saison 2025/26
END:VEVENT
BEGIN:VEVENT
DTSTAMP:20260424T115150Z
DTSTART;TZID=Europe/Berlin:20251212T193000
DTEND;TZID=Europe/Berlin:20251212T223000
SUMMARY:ME L5 Gr 3\, Tours 1&2 Trams-Renens III vs Montriond-Ouchy  III (0)
UID:3e750160-f7e7-4b0b-a52b-66422d8a6c75
STATUS:CONFIRMED
LAST-MODIFIED:20251213T181405Z
DESCRIPTION:5ème ligue Hommes Groupe 3\, Tours 1&2\nBegegnungs-Nr: 0\nHeim: Trams-Renens III\nGast: Montriond-Ouchy  III\n\nAdresse: Av Saugiaz\, 1020 Renens\n
LOCATION:Av Saugiaz\, 1020 Renens
CATEGORIES:Saison 2025/26
END:VEVENT
BEGIN:VEVENT
DTSTAMP:20260424T115150Z
DTSTART;TZID=Europe/Berlin:20250828T200000
DTEND;TZID=Europe/Berlin:20250828T230000
SUMMARY:ME L5 Gr 3\, Tours 1&2 Lausanne IX vs Montriond-Ouchy  III (0)
UID:ddd164ed-530f-4965-be0e-3f21e5a61a8c
STATUS:CONFIRMED
LAST-MODIFIED:20250829T203946Z
DESCRIPTION:5ème ligue Hommes Groupe 3\, Tours 1&2\nBegegnungs-Nr: 0\nHeim: Lausanne IX\nGast: Montriond-Ouchy  III\n\nAdresse: Vaudoise Aréna\, Ch. du Viaduc 14\, 1008 Prilly\n
LOCATION:Vaudoise Aréna\, Ch. du Viaduc 14\, 1008 Prilly
CATEGORIES:Saison 2025/26
END:VEVENT
BEGIN:VEVENT
DTSTAMP:20260424T115150Z
DTSTART;TZID=Europe/Berlin:20250930T193000
DTEND;TZID=Europe/Berlin:20250930T223000
SUMMARY:ME L5 Gr 3\, Tours 1&2 Romanel V vs Montriond-Ouchy  III (0)
UID:519a3a1d-b0a3-4205-a943-9dcd5011a7ea
STATUS:CONFIRMED
LAST-MODIFIED:20251001T172606Z
DESCRIPTION:5ème ligue Hommes Groupe 3\, Tours 1&2\nBegegnungs-Nr: 0\nHeim: Romanel V\nGast: Montriond-Ouchy  III\n\nAdresse: Ch des Epinettes 1\, 1032 Romanel-sur-Lausanne\n
LOCATION:Ch des Epinettes 1\, 1032 Romanel-sur-Lausanne
CATEGORIES:Saison 2025/26
END:VEVENT
BEGIN:VEVENT
DTSTAMP:20260424T115150Z
DTSTART;TZID=Europe/Berlin:20251030T193000
DTEND;TZID=Europe/Berlin:20251030T223000
SUMMARY:ME L5 Gr 3\, Tours 1&2 Crissier VI vs Montriond-Ouchy  III (0)
UID:8f463932-e76d-41f1-9d21-a14e1f3710d4
STATUS:CONFIRMED
LAST-MODIFIED:20251101T154059Z
DESCRIPTION:5ème ligue Hommes Groupe 3\, Tours 1&2\nBegegnungs-Nr: 0\nHeim: Crissier VI\nGast: Montriond-Ouchy  III\n\nAdresse: ch. des Oches du Mur\, 1023 Crissier\n
LOCATION:ch. des Oches du Mur\, 1023 Crissier
CATEGORIES:Saison 2025/26
END:VEVENT
BEGIN:VEVENT
DTSTAMP:20260424T115150Z
DTSTART;TZID=Europe/Berlin:20251119T201500
DTEND;TZID=Europe/Berlin:20251119T231500
SUMMARY:ME L5 Gr 3\, Tours 1&2 Yverdon IV vs Montriond-Ouchy  III (0)
UID:2af66a17-6aeb-4d49-a814-4a19476227a6
STATUS:CONFIRMED
LAST-MODIFIED:20251120T094601Z
DESCRIPTION:5ème ligue Hommes Groupe 3\, Tours 1&2\nBegegnungs-Nr: 0\nHeim: Yverdon IV\nGast: Montriond-Ouchy  III\n\nAdresse: Avenue des Quatre Marroniers 1\, 1400 Yverdon-les-Bains\n
LOCATION:Avenue des Quatre Marroniers 1\, 1400 Yverdon-les-Bains
CATEGORIES:Saison 2025/26
END:VEVENT
BEGIN:VEVENT
DTSTAMP:20260424T115150Z
DTSTART;TZID=Europe/Berlin:20260120T193000
DTEND;TZID=Europe/Berlin:20260120T223000
SUMMARY:ME L4 Gr 2\, Tours 3&4 Romanel III vs Montriond-Ouchy  III (0)
UID:0fd166c4-a685-45db-b1f9-fc2f97df2f0f
STATUS:CONFIRMED
LAST-MODIFIED:20260124T154534Z
DESCRIPTION:4ème ligue Hommes Groupe 2\, Tours 3&4\nBegegnungs-Nr: 0\nHeim: Romanel III\nGast: Montriond-Ouchy  III\n\nAdresse: Ch des Epinettes 1\, 1032 Romanel-sur-Lausanne\n
LOCATION:Ch des Epinettes 1\, 1032 Romanel-sur-Lausanne
CATEGORIES:Saison 2025/26
END:VEVENT
BEGIN:VEVENT
DTSTAMP:20260424T115150Z
DTSTART;TZID=Europe/Berlin:20260211T200000
DTEND;TZID=Europe/Berlin:20260211T230000
SUMMARY:ME L4 Gr 2\, Tours 3&4 Aigle vs Montriond-Ouchy  III (0)
UID:44264374-2a7f-4d48-81f8-869d1415a950
STATUS:CONFIRMED
LAST-MODIFIED:20260212T112925Z
DESCRIPTION:4ème ligue Hommes Groupe 2\, Tours 3&4\nBegegnungs-Nr: 0\nHeim: Aigle\nGast: Montriond-Ouchy  III\n\nAdresse: Rue du Collège 12\, 1860 Aigle\n
LOCATION:Rue du Collège 12\, 1860 Aigle
CATEGORIES:Saison 2025/26
END:VEVENT
BEGIN:VEVENT
DTSTAMP:20260424T115150Z
DTSTART;TZID=Europe/Berlin:20260209T200000
DTEND;TZID=Europe/Berlin:20260209T230000
SUMMARY:ME L4 Gr 2\, Tours 3&4 Chexbres II vs Montriond-Ouchy  III (0)
UID:c4350bdd-ce11-4abc-883e-294e7975286f
STATUS:CONFIRMED
LAST-MODIFIED:20260212T110554Z
DESCRIPTION:4ème ligue Hommes Groupe 2\, Tours 3&4\nBegegnungs-Nr: 0\nHeim: Chexbres II\nGast: Montriond-Ouchy  III\n\nAdresse: Collège de Praz Routoz\, 1071 Chexbres\n
LOCATION:Collège de Praz Routoz\, 1071 Chexbres
CATEGORIES:Saison 2025/26
END:VEVENT
BEGIN:VEVENT
DTSTAMP:20260424T115150Z
DTSTART;TZID=Europe/Berlin:20260312T193000
DTEND;TZID=Europe/Berlin:20260312T223000
SUMMARY:ME L4 Gr 2\, Tours 3&4 Montriond-Ouchy  II vs Montriond-Ouchy  III (0)
UID:a79eaac4-9d9b-4535-9d3c-4cc83eba58a7
STATUS:CONFIRMED
LAST-MODIFIED:20260313T231757Z
DESCRIPTION:4ème ligue Hommes Groupe 2\, Tours 3&4\nBegegnungs-Nr: 0\nHeim: Montriond-Ouchy  II\nGast: Montriond-Ouchy  III\n\nAdresse: Avenue d'Ouchy 45\, 1006 Lausanne\n
LOCATION:Avenue d'Ouchy 45\, 1006 Lausanne
CATEGORIES:Saison 2025/26
END:VEVENT
BEGIN:VEVENT
DTSTAMP:20260424T115150Z
DTSTART;TZID=Europe/Berlin:20260417T200000
DTEND;TZID=Europe/Berlin:20260417T230000
SUMMARY:ME L4 Gr 2\, Tours 3&4 Lausanne VII vs Montriond-Ouchy  III (0)
UID:d901f38d-fc13-402b-8fce-bef5abf0fe6c
STATUS:CONFIRMED
LAST-MODIFIED:20260423T075454Z
DESCRIPTION:4ème ligue Hommes Groupe 2\, Tours 3&4\nBegegnungs-Nr: 0\nHeim: Lausanne VII\nGast: Montriond-Ouchy  III\n\nAdresse: Vaudoise Aréna\, Ch. du Viaduc 14\, 1008 Prilly\n
LOCATION:Vaudoise Aréna\, Ch. du Viaduc 14\, 1008 Prilly
CATEGORIES:Saison 2025/26
END:VEVENT
END:VCALENDAR
