BEGIN:VCALENDAR
PRODID:-//nuDatenautomaten//framework iCal4j //DE
VERSION:2.0
CALSCALE:GREGORIAN
BEGIN:VTIMEZONE
TZID:Europe/Berlin
LAST-MODIFIED:20260306T231828Z
TZURL:https://www.tzurl.org/zoneinfo/Europe/Berlin
X-LIC-LOCATION:Europe/Berlin
X-PROLEPTIC-TZNAME:LMT
BEGIN:STANDARD
TZNAME:CET
TZOFFSETFROM:+005328
TZOFFSETTO:+0100
DTSTART:18930401T000000
END:STANDARD
BEGIN:DAYLIGHT
TZNAME:CEST
TZOFFSETFROM:+0100
TZOFFSETTO:+0200
DTSTART:19160430T230000
RDATE:19400401T020000
RDATE:19430329T020000
RDATE:19460414T020000
RDATE:19470406T030000
RDATE:19480418T020000
RDATE:19490410T020000
RDATE:19800406T020000
END:DAYLIGHT
BEGIN:STANDARD
TZNAME:CET
TZOFFSETFROM:+0200
TZOFFSETTO:+0100
DTSTART:19161001T010000
RDATE:19421102T030000
RDATE:19431004T030000
RDATE:19441002T030000
RDATE:19451118T030000
RDATE:19461007T030000
END:STANDARD
BEGIN:DAYLIGHT
TZNAME:CEST
TZOFFSETFROM:+0100
TZOFFSETTO:+0200
DTSTART:19170416T020000
RRULE:FREQ=YEARLY;UNTIL=19180415T010000Z;BYMONTH=4;BYDAY=3MO
END:DAYLIGHT
BEGIN:STANDARD
TZNAME:CET
TZOFFSETFROM:+0200
TZOFFSETTO:+0100
DTSTART:19170917T030000
RRULE:FREQ=YEARLY;UNTIL=19180916T010000Z;BYMONTH=9;BYDAY=3MO
END:STANDARD
BEGIN:DAYLIGHT
TZNAME:CEST
TZOFFSETFROM:+0100
TZOFFSETTO:+0200
DTSTART:19440403T020000
RRULE:FREQ=YEARLY;UNTIL=19450402T010000Z;BYMONTH=4;BYDAY=1MO
END:DAYLIGHT
BEGIN:DAYLIGHT
TZNAME:CEMT
TZOFFSETFROM:+0200
TZOFFSETTO:+0300
DTSTART:19450524T020000
RDATE:19470511T030000
END:DAYLIGHT
BEGIN:DAYLIGHT
TZNAME:CEST
TZOFFSETFROM:+0300
TZOFFSETTO:+0200
DTSTART:19450924T030000
RDATE:19470629T030000
END:DAYLIGHT
BEGIN:STANDARD
TZNAME:CET
TZOFFSETFROM:+0100
TZOFFSETTO:+0100
DTSTART:19460101T000000
RDATE:19800101T000000
END:STANDARD
BEGIN:STANDARD
TZNAME:CET
TZOFFSETFROM:+0200
TZOFFSETTO:+0100
DTSTART:19471005T030000
RRULE:FREQ=YEARLY;UNTIL=19491002T010000Z;BYMONTH=10;BYDAY=1SU
END:STANDARD
BEGIN:STANDARD
TZNAME:CET
TZOFFSETFROM:+0200
TZOFFSETTO:+0100
DTSTART:19800928T030000
RRULE:FREQ=YEARLY;UNTIL=19950924T010000Z;BYMONTH=9;BYDAY=-1SU
END:STANDARD
BEGIN:DAYLIGHT
TZNAME:CEST
TZOFFSETFROM:+0100
TZOFFSETTO:+0200
DTSTART:19810329T020000
RRULE:FREQ=YEARLY;BYMONTH=3;BYDAY=-1SU
END:DAYLIGHT
BEGIN:STANDARD
TZNAME:CET
TZOFFSETFROM:+0200
TZOFFSETTO:+0100
DTSTART:19961027T030000
RRULE:FREQ=YEARLY;BYMONTH=10;BYDAY=-1SU
END:STANDARD
END:VTIMEZONE
BEGIN:VEVENT
DTSTAMP:20260424T115005Z
DTSTART;TZID=Europe/Berlin:20250904T200000
DTEND;TZID=Europe/Berlin:20250904T230000
SUMMARY:HE 5. Liga Gr. 4 Utzenstorf II vs Port VIII (3)
UID:4005ed40-d0e2-4323-9945-5fde3f2dcf46
STATUS:CONFIRMED
LAST-MODIFIED:20250907T195342Z
DESCRIPTION:5. Liga Herren Gruppe 4\nBegegnungs-Nr: 3\nHeim: Utzenstorf II\nGast: Port VIII\n\nAdresse: Gotthelfstrasse 15a\, 3427 Utzenstorf\n
LOCATION:Gotthelfstrasse 15a\, 3427 Utzenstorf
CATEGORIES:Saison 2025/26
END:VEVENT
BEGIN:VEVENT
DTSTAMP:20260424T115005Z
DTSTART;TZID=Europe/Berlin:20251211T200000
DTEND;TZID=Europe/Berlin:20251211T230000
SUMMARY:HE 5. Liga Gr. 4 Utzenstorf II vs Burgdorf IX (26)
UID:4e82235c-5fb5-4746-b222-7fdddd6b0039
STATUS:CONFIRMED
LAST-MODIFIED:20251216T120910Z
DESCRIPTION:5. Liga Herren Gruppe 4\nBegegnungs-Nr: 26\nHeim: Utzenstorf II\nGast: Burgdorf IX\n\nAdresse: Gotthelfstrasse 15a\, 3427 Utzenstorf\n
LOCATION:Gotthelfstrasse 15a\, 3427 Utzenstorf
CATEGORIES:Saison 2025/26
END:VEVENT
BEGIN:VEVENT
DTSTAMP:20260424T115005Z
DTSTART;TZID=Europe/Berlin:20251204T200000
DTEND;TZID=Europe/Berlin:20251204T230000
SUMMARY:HE 5. Liga Gr. 4 Utzenstorf II vs Kirchberg III (21)
UID:4e4b41cc-6b73-4c87-b8a4-824439223f6b
STATUS:CONFIRMED
LAST-MODIFIED:20251207T174507Z
DESCRIPTION:5. Liga Herren Gruppe 4\nBegegnungs-Nr: 21\nHeim: Utzenstorf II\nGast: Kirchberg III\n\nAdresse: Gotthelfstrasse 15a\, 3427 Utzenstorf\n
LOCATION:Gotthelfstrasse 15a\, 3427 Utzenstorf
CATEGORIES:Saison 2025/26
END:VEVENT
BEGIN:VEVENT
DTSTAMP:20260424T115005Z
DTSTART;TZID=Europe/Berlin:20251016T200000
DTEND;TZID=Europe/Berlin:20251016T230000
SUMMARY:HE 5. Liga Gr. 4 Utzenstorf II vs Langenthal III (11)
UID:9f7d8772-1356-431e-847f-80e62ec04c93
STATUS:CONFIRMED
LAST-MODIFIED:20251020T114415Z
DESCRIPTION:5. Liga Herren Gruppe 4\nBegegnungs-Nr: 11\nHeim: Utzenstorf II\nGast: Langenthal III\n\nAdresse: Gotthelfstrasse 15a\, 3427 Utzenstorf\n
LOCATION:Gotthelfstrasse 15a\, 3427 Utzenstorf
CATEGORIES:Saison 2025/26
END:VEVENT
BEGIN:VEVENT
DTSTAMP:20260424T115005Z
DTSTART;TZID=Europe/Berlin:20260226T200000
DTEND;TZID=Europe/Berlin:20260226T230000
SUMMARY:HE 5. Liga Gr. 4 Utzenstorf II vs Grossaffoltern III (18)
UID:77e85ecb-2d68-4617-ac52-6604d87f0ba6
STATUS:CONFIRMED
LAST-MODIFIED:20260302T144920Z
DESCRIPTION:5. Liga Herren Gruppe 4\nBegegnungs-Nr: 18\nHeim: Utzenstorf II\nGast: Grossaffoltern III\n\nAdresse: Gotthelfstrasse 15a\, 3427 Utzenstorf\n
LOCATION:Gotthelfstrasse 15a\, 3427 Utzenstorf
CATEGORIES:Saison 2025/26
END:VEVENT
BEGIN:VEVENT
DTSTAMP:20260424T115005Z
DTSTART;TZID=Europe/Berlin:20260219T200000
DTEND;TZID=Europe/Berlin:20260219T230000
SUMMARY:HE 5. Liga Gr. 4 Utzenstorf II vs Huttwil II (15)
UID:2f8e68ea-6ab3-44bd-9072-2f7a740660be
STATUS:CONFIRMED
LAST-MODIFIED:20260220T123438Z
DESCRIPTION:5. Liga Herren Gruppe 4\nBegegnungs-Nr: 15\nHeim: Utzenstorf II\nGast: Huttwil II\n\nAdresse: Gotthelfstrasse 15a\, 3427 Utzenstorf\n
LOCATION:Gotthelfstrasse 15a\, 3427 Utzenstorf
CATEGORIES:Saison 2025/26
END:VEVENT
BEGIN:VEVENT
DTSTAMP:20260424T115005Z
DTSTART;TZID=Europe/Berlin:20260129T200000
DTEND;TZID=Europe/Berlin:20260129T230000
SUMMARY:HE 5. Liga Gr. 4 Utzenstorf II vs Lyss V (7)
UID:4e1df42b-cac1-473d-9ebd-e5b23470ba0d
STATUS:CONFIRMED
LAST-MODIFIED:20260217T214847Z
DESCRIPTION:5. Liga Herren Gruppe 4\nBegegnungs-Nr: 7\nHeim: Utzenstorf II\nGast: Lyss V\n\nAdresse: Gotthelfstrasse 15a\, 3427 Utzenstorf\n
LOCATION:Gotthelfstrasse 15a\, 3427 Utzenstorf
CATEGORIES:Saison 2025/26
END:VEVENT
BEGIN:VEVENT
DTSTAMP:20260424T115005Z
DTSTART;TZID=Europe/Berlin:20251110T200000
DTEND;TZID=Europe/Berlin:20251110T230000
SUMMARY:HE 5. Liga Gr. 4 Grossaffoltern III vs Utzenstorf II (18)
UID:ed407107-db09-4e92-8404-d05a7772d9bf
STATUS:CONFIRMED
LAST-MODIFIED:20251122T091431Z
DESCRIPTION:5. Liga Herren Gruppe 4\nBegegnungs-Nr: 18\nHeim: Grossaffoltern III\nGast: Utzenstorf II\n\nAdresse: Schulhausstrasse 5 \, 3257 Grossaffoltern\n
LOCATION:Schulhausstrasse 5 \, 3257 Grossaffoltern
CATEGORIES:Saison 2025/26
END:VEVENT
BEGIN:VEVENT
DTSTAMP:20260424T115005Z
DTSTART;TZID=Europe/Berlin:20251027T200000
DTEND;TZID=Europe/Berlin:20251027T230000
SUMMARY:HE 5. Liga Gr. 4 Huttwil II vs Utzenstorf II (15)
UID:40f4683c-a519-4144-b5a0-9dcf9ef81f36
STATUS:CONFIRMED
LAST-MODIFIED:20251029T221511Z
DESCRIPTION:5. Liga Herren Gruppe 4\nBegegnungs-Nr: 15\nHeim: Huttwil II\nGast: Utzenstorf II\n\nAdresse: Dornackerweg 2 (untere Halle)\, 4950 Huttwil\n
LOCATION:Dornackerweg 2 (untere Halle)\, 4950 Huttwil
CATEGORIES:Saison 2025/26
END:VEVENT
BEGIN:VEVENT
DTSTAMP:20260424T115005Z
DTSTART;TZID=Europe/Berlin:20250909T200000
DTEND;TZID=Europe/Berlin:20250909T230000
SUMMARY:HE 5. Liga Gr. 4 Lyss V vs Utzenstorf II (7)
UID:3bd4003a-4b76-4f41-93f7-8a945414d0ea
STATUS:CONFIRMED
LAST-MODIFIED:20250918T140459Z
DESCRIPTION:5. Liga Herren Gruppe 4\nBegegnungs-Nr: 7\nHeim: Lyss V\nGast: Utzenstorf II\n\nAdresse: Stegmattweg 15-17\, 3250 Lyss\n
LOCATION:Stegmattweg 15-17\, 3250 Lyss
CATEGORIES:Saison 2025/26
END:VEVENT
BEGIN:VEVENT
DTSTAMP:20260424T115005Z
DTSTART;TZID=Europe/Berlin:20260327T193000
DTEND;TZID=Europe/Berlin:20260327T223000
SUMMARY:HE 5. Liga Gr. 4 Burgdorf IX vs Utzenstorf II (26)
UID:ce54375b-bad0-4509-91d1-24d467956799
STATUS:CONFIRMED
LAST-MODIFIED:20260409T123424Z
DESCRIPTION:5. Liga Herren Gruppe 4\nBegegnungs-Nr: 26\nHeim: Burgdorf IX\nGast: Utzenstorf II\n\nAdresse: Pestalozzistrasse 69\, 3400 Burgdorf\n
LOCATION:Pestalozzistrasse 69\, 3400 Burgdorf
CATEGORIES:Saison 2025/26
END:VEVENT
BEGIN:VEVENT
DTSTAMP:20260424T115005Z
DTSTART;TZID=Europe/Berlin:20260314T130000
DTEND;TZID=Europe/Berlin:20260314T160000
SUMMARY:HE 5. Liga Gr. 4 Kirchberg III vs Utzenstorf II (21)
UID:dc3a317e-ba07-4f29-8f14-1c1f83116f11
STATUS:CONFIRMED
LAST-MODIFIED:20260327T144758Z
DESCRIPTION:5. Liga Herren Gruppe 4\nBegegnungs-Nr: 21\nHeim: Kirchberg III\nGast: Utzenstorf II\n\nAdresse: Reinhardweg\, 3422 Kirchberg\n
LOCATION:Reinhardweg\, 3422 Kirchberg
CATEGORIES:Saison 2025/26
END:VEVENT
BEGIN:VEVENT
DTSTAMP:20260424T115005Z
DTSTART;TZID=Europe/Berlin:20260209T200000
DTEND;TZID=Europe/Berlin:20260209T230000
SUMMARY:HE 5. Liga Gr. 4 Langenthal III vs Utzenstorf II (11)
UID:0b08e928-6ce1-4b94-85e2-ec9914d84a51
STATUS:CONFIRMED
LAST-MODIFIED:20260217T212336Z
DESCRIPTION:5. Liga Herren Gruppe 4\nBegegnungs-Nr: 11\nHeim: Langenthal III\nGast: Utzenstorf II\n\nAdresse: Weststrasse 29\, 4900 Langenthal\n
LOCATION:Weststrasse 29\, 4900 Langenthal
CATEGORIES:Saison 2025/26
END:VEVENT
BEGIN:VEVENT
DTSTAMP:20260424T115005Z
DTSTART;TZID=Europe/Berlin:20260113T194500
DTEND;TZID=Europe/Berlin:20260113T224500
SUMMARY:HE 5. Liga Gr. 4 Port VIII vs Utzenstorf II (3)
UID:f01dcd4a-574c-4cbe-861c-8f8b0f391c35
STATUS:CONFIRMED
LAST-MODIFIED:20260125T002552Z
DESCRIPTION:5. Liga Herren Gruppe 4\nBegegnungs-Nr: 3\nHeim: Port VIII\nGast: Utzenstorf II\n\nAdresse: Allmendstrasse 23\, 2562 Port\n
LOCATION:Allmendstrasse 23\, 2562 Port
CATEGORIES:Saison 2025/26
END:VEVENT
END:VCALENDAR
