BEGIN:VCALENDAR
PRODID:-//nuDatenautomaten//framework iCal4j //DE
VERSION:2.0
CALSCALE:GREGORIAN
BEGIN:VTIMEZONE
TZID:Europe/Berlin
LAST-MODIFIED:20260306T231828Z
TZURL:https://www.tzurl.org/zoneinfo/Europe/Berlin
X-LIC-LOCATION:Europe/Berlin
X-PROLEPTIC-TZNAME:LMT
BEGIN:STANDARD
TZNAME:CET
TZOFFSETFROM:+005328
TZOFFSETTO:+0100
DTSTART:18930401T000000
END:STANDARD
BEGIN:DAYLIGHT
TZNAME:CEST
TZOFFSETFROM:+0100
TZOFFSETTO:+0200
DTSTART:19160430T230000
RDATE:19400401T020000
RDATE:19430329T020000
RDATE:19460414T020000
RDATE:19470406T030000
RDATE:19480418T020000
RDATE:19490410T020000
RDATE:19800406T020000
END:DAYLIGHT
BEGIN:STANDARD
TZNAME:CET
TZOFFSETFROM:+0200
TZOFFSETTO:+0100
DTSTART:19161001T010000
RDATE:19421102T030000
RDATE:19431004T030000
RDATE:19441002T030000
RDATE:19451118T030000
RDATE:19461007T030000
END:STANDARD
BEGIN:DAYLIGHT
TZNAME:CEST
TZOFFSETFROM:+0100
TZOFFSETTO:+0200
DTSTART:19170416T020000
RRULE:FREQ=YEARLY;UNTIL=19180415T010000Z;BYMONTH=4;BYDAY=3MO
END:DAYLIGHT
BEGIN:STANDARD
TZNAME:CET
TZOFFSETFROM:+0200
TZOFFSETTO:+0100
DTSTART:19170917T030000
RRULE:FREQ=YEARLY;UNTIL=19180916T010000Z;BYMONTH=9;BYDAY=3MO
END:STANDARD
BEGIN:DAYLIGHT
TZNAME:CEST
TZOFFSETFROM:+0100
TZOFFSETTO:+0200
DTSTART:19440403T020000
RRULE:FREQ=YEARLY;UNTIL=19450402T010000Z;BYMONTH=4;BYDAY=1MO
END:DAYLIGHT
BEGIN:DAYLIGHT
TZNAME:CEMT
TZOFFSETFROM:+0200
TZOFFSETTO:+0300
DTSTART:19450524T020000
RDATE:19470511T030000
END:DAYLIGHT
BEGIN:DAYLIGHT
TZNAME:CEST
TZOFFSETFROM:+0300
TZOFFSETTO:+0200
DTSTART:19450924T030000
RDATE:19470629T030000
END:DAYLIGHT
BEGIN:STANDARD
TZNAME:CET
TZOFFSETFROM:+0100
TZOFFSETTO:+0100
DTSTART:19460101T000000
RDATE:19800101T000000
END:STANDARD
BEGIN:STANDARD
TZNAME:CET
TZOFFSETFROM:+0200
TZOFFSETTO:+0100
DTSTART:19471005T030000
RRULE:FREQ=YEARLY;UNTIL=19491002T010000Z;BYMONTH=10;BYDAY=1SU
END:STANDARD
BEGIN:STANDARD
TZNAME:CET
TZOFFSETFROM:+0200
TZOFFSETTO:+0100
DTSTART:19800928T030000
RRULE:FREQ=YEARLY;UNTIL=19950924T010000Z;BYMONTH=9;BYDAY=-1SU
END:STANDARD
BEGIN:DAYLIGHT
TZNAME:CEST
TZOFFSETFROM:+0100
TZOFFSETTO:+0200
DTSTART:19810329T020000
RRULE:FREQ=YEARLY;BYMONTH=3;BYDAY=-1SU
END:DAYLIGHT
BEGIN:STANDARD
TZNAME:CET
TZOFFSETFROM:+0200
TZOFFSETTO:+0100
DTSTART:19961027T030000
RRULE:FREQ=YEARLY;BYMONTH=10;BYDAY=-1SU
END:STANDARD
END:VTIMEZONE
BEGIN:VEVENT
DTSTAMP:20260424T082518Z
DTSTART;TZID=Europe/Berlin:20250916T194500
DTEND;TZID=Europe/Berlin:20250916T224500
SUMMARY:HE 1. Liga Port III vs Bern (7)
UID:c968f391-6bb7-468f-bba9-f93549af9304
STATUS:CONFIRMED
LAST-MODIFIED:20250918T140107Z
DESCRIPTION:1. Liga Herren\nBegegnungs-Nr: 7\nHeim: Port III\nGast: Bern\n\nAdresse: Allmendstrasse 23\, 2562 Port\n
LOCATION:Allmendstrasse 23\, 2562 Port
CATEGORIES:Saison 2025/26
END:VEVENT
BEGIN:VEVENT
DTSTAMP:20260424T082518Z
DTSTART;TZID=Europe/Berlin:20251205T194500
DTEND;TZID=Europe/Berlin:20251205T224500
SUMMARY:HE 1. Liga Port III vs Burgdorf III (40)
UID:2f3fe51b-758e-45f0-81a6-9bc5a7c6086a
STATUS:CONFIRMED
LAST-MODIFIED:20251206T230648Z
DESCRIPTION:1. Liga Herren\nBegegnungs-Nr: 40\nHeim: Port III\nGast: Burgdorf III\n\nAdresse: Allmendstrasse 23\, 2562 Port\n
LOCATION:Allmendstrasse 23\, 2562 Port
CATEGORIES:Saison 2025/26
END:VEVENT
BEGIN:VEVENT
DTSTAMP:20260424T082518Z
DTSTART;TZID=Europe/Berlin:20251114T194500
DTEND;TZID=Europe/Berlin:20251114T224500
SUMMARY:HE 1. Liga Port III vs Thun (29)
UID:5b1faf28-4d36-4a9b-81cd-d04f1554b960
STATUS:CONFIRMED
LAST-MODIFIED:20251115T171119Z
DESCRIPTION:1. Liga Herren\nBegegnungs-Nr: 29\nHeim: Port III\nGast: Thun\n\nAdresse: Allmendstrasse 23\, 2562 Port\n
LOCATION:Allmendstrasse 23\, 2562 Port
CATEGORIES:Saison 2025/26
END:VEVENT
BEGIN:VEVENT
DTSTAMP:20260424T082518Z
DTSTART;TZID=Europe/Berlin:20251024T194500
DTEND;TZID=Europe/Berlin:20251024T224500
SUMMARY:HE 1. Liga Port III vs Aarberg (19)
UID:6e3f4cd4-75d2-49cb-8ea3-a23ba66b334c
STATUS:CONFIRMED
LAST-MODIFIED:20251029T220627Z
DESCRIPTION:1. Liga Herren\nBegegnungs-Nr: 19\nHeim: Port III\nGast: Aarberg\n\nAdresse: Allmendstrasse 23\, 2562 Port\n
LOCATION:Allmendstrasse 23\, 2562 Port
CATEGORIES:Saison 2025/26
END:VEVENT
BEGIN:VEVENT
DTSTAMP:20260424T082518Z
DTSTART;TZID=Europe/Berlin:20260327T194500
DTEND;TZID=Europe/Berlin:20260327T224500
SUMMARY:HE 1. Liga Port III vs Heimberg II (45)
UID:25258973-5828-40c8-a06a-6e0a4fe909c3
STATUS:CONFIRMED
LAST-MODIFIED:20260409T123550Z
DESCRIPTION:1. Liga Herren\nBegegnungs-Nr: 45\nHeim: Port III\nGast: Heimberg II\n\nAdresse: Allmendstrasse 23\, 2562 Port\n
LOCATION:Allmendstrasse 23\, 2562 Port
CATEGORIES:Saison 2025/26
END:VEVENT
BEGIN:VEVENT
DTSTAMP:20260424T082518Z
DTSTART;TZID=Europe/Berlin:20260313T194500
DTEND;TZID=Europe/Berlin:20260313T224500
SUMMARY:HE 1. Liga Port III vs Herzogenbuchsee (35)
UID:31fa4ec1-cc6c-42f4-ab53-7e02004b53e5
STATUS:CONFIRMED
LAST-MODIFIED:20260315T225626Z
DESCRIPTION:1. Liga Herren\nBegegnungs-Nr: 35\nHeim: Port III\nGast: Herzogenbuchsee\n\nAdresse: Allmendstrasse 23\, 2562 Port\n
LOCATION:Allmendstrasse 23\, 2562 Port
CATEGORIES:Saison 2025/26
END:VEVENT
BEGIN:VEVENT
DTSTAMP:20260424T082518Z
DTSTART;TZID=Europe/Berlin:20260224T194500
DTEND;TZID=Europe/Berlin:20260224T224500
SUMMARY:HE 1. Liga Port III vs Münchenbuchsee (25)
UID:6d7399c7-576b-4806-ba15-9f7a3c79dd32
STATUS:CONFIRMED
LAST-MODIFIED:20260302T144315Z
DESCRIPTION:1. Liga Herren\nBegegnungs-Nr: 25\nHeim: Port III\nGast: Münchenbuchsee\n\nAdresse: Allmendstrasse 23\, 2562 Port\n
LOCATION:Allmendstrasse 23\, 2562 Port
CATEGORIES:Saison 2025/26
END:VEVENT
BEGIN:VEVENT
DTSTAMP:20260424T082518Z
DTSTART;TZID=Europe/Berlin:20260109T194500
DTEND;TZID=Europe/Berlin:20260109T224500
SUMMARY:HE 1. Liga Port III vs Port II (1)
UID:57e7de5a-efb3-49c8-8f20-9a26b10ec396
STATUS:CONFIRMED
LAST-MODIFIED:20260124T235816Z
DESCRIPTION:1. Liga Herren\nBegegnungs-Nr: 1\nHeim: Port III\nGast: Port II\n\nAdresse: Allmendstrasse 23\, 2562 Port\n
LOCATION:Allmendstrasse 23\, 2562 Port
CATEGORIES:Saison 2025/26
END:VEVENT
BEGIN:VEVENT
DTSTAMP:20260424T082518Z
DTSTART;TZID=Europe/Berlin:20260127T194500
DTEND;TZID=Europe/Berlin:20260127T224500
SUMMARY:HE 1. Liga Port III vs Solothurn (13)
UID:86d1fc2f-c0c9-4804-90f3-d8d4f8205bad
STATUS:CONFIRMED
LAST-MODIFIED:20260217T211813Z
DESCRIPTION:1. Liga Herren\nBegegnungs-Nr: 13\nHeim: Port III\nGast: Solothurn\n\nAdresse: Allmendstrasse 23\, 2562 Port\n
LOCATION:Allmendstrasse 23\, 2562 Port
CATEGORIES:Saison 2025/26
END:VEVENT
BEGIN:VEVENT
DTSTAMP:20260424T082518Z
DTSTART;TZID=Europe/Berlin:20250902T194500
DTEND;TZID=Europe/Berlin:20250902T224500
SUMMARY:HE 1. Liga Port II vs Port III (1)
UID:32098a9c-b573-492e-a7a3-6908a32acb7c
STATUS:CONFIRMED
LAST-MODIFIED:20250907T200451Z
DESCRIPTION:1. Liga Herren\nBegegnungs-Nr: 1\nHeim: Port II\nGast: Port III\n\nAdresse: Allmendstrasse 23\, 2562 Port\n
LOCATION:Allmendstrasse 23\, 2562 Port
CATEGORIES:Saison 2025/26
END:VEVENT
BEGIN:VEVENT
DTSTAMP:20260424T082518Z
DTSTART;TZID=Europe/Berlin:20251001T194500
DTEND;TZID=Europe/Berlin:20251001T224500
SUMMARY:HE 1. Liga Solothurn vs Port III (13)
UID:3a7b999d-bc0f-4e98-b550-9e37ef3618d7
STATUS:CONFIRMED
LAST-MODIFIED:20251003T173133Z
DESCRIPTION:1. Liga Herren\nBegegnungs-Nr: 13\nHeim: Solothurn\nGast: Port III\n\nAdresse: Untere Sternengasse 24\, 4500 Solothurn\n
LOCATION:Untere Sternengasse 24\, 4500 Solothurn
CATEGORIES:Saison 2025/26
END:VEVENT
BEGIN:VEVENT
DTSTAMP:20260424T082518Z
DTSTART;TZID=Europe/Berlin:20251215T193000
DTEND;TZID=Europe/Berlin:20251215T223000
SUMMARY:HE 1. Liga Heimberg II vs Port III (45)
UID:e5a6f1ef-15dd-4d24-adaa-727bd8806f34
STATUS:CONFIRMED
LAST-MODIFIED:20251216T120158Z
DESCRIPTION:1. Liga Herren\nBegegnungs-Nr: 45\nHeim: Heimberg II\nGast: Port III\n\nAdresse: Schulhausstrasse 20\, 3672 Oberdiessbach\n
LOCATION:Schulhausstrasse 20\, 3672 Oberdiessbach
CATEGORIES:Saison 2025/26
END:VEVENT
BEGIN:VEVENT
DTSTAMP:20260424T082518Z
DTSTART;TZID=Europe/Berlin:20251125T200000
DTEND;TZID=Europe/Berlin:20251125T230000
SUMMARY:HE 1. Liga Herzogenbuchsee vs Port III (35)
UID:eee4d885-9ea7-4823-92e7-ff4541f510d5
STATUS:CONFIRMED
LAST-MODIFIED:20251206T230420Z
DESCRIPTION:1. Liga Herren\nBegegnungs-Nr: 35\nHeim: Herzogenbuchsee\nGast: Port III\n\nAdresse: Ringstrasse 10\, 3360 Herzogenbuchsee\n
LOCATION:Ringstrasse 10\, 3360 Herzogenbuchsee
CATEGORIES:Saison 2025/26
END:VEVENT
BEGIN:VEVENT
DTSTAMP:20260424T082518Z
DTSTART;TZID=Europe/Berlin:20251105T193000
DTEND;TZID=Europe/Berlin:20251105T223000
SUMMARY:HE 1. Liga Münchenbuchsee vs Port III (25)
UID:7cd76f0f-7d35-4448-9aa5-95201f3160ae
STATUS:CONFIRMED
LAST-MODIFIED:20251115T171040Z
DESCRIPTION:1. Liga Herren\nBegegnungs-Nr: 25\nHeim: Münchenbuchsee\nGast: Port III\n\nAdresse: Laubbergweg 41\, 3053 Münchenbuchsee\n
LOCATION:Laubbergweg 41\, 3053 Münchenbuchsee
CATEGORIES:Saison 2025/26
END:VEVENT
BEGIN:VEVENT
DTSTAMP:20260424T082518Z
DTSTART;TZID=Europe/Berlin:20260307T160000
DTEND;TZID=Europe/Berlin:20260307T190000
SUMMARY:HE 1. Liga Burgdorf III vs Port III (40)
UID:7c718b8f-29d4-4dbb-8f72-14d3d21699d5
STATUS:CONFIRMED
LAST-MODIFIED:20260308T173237Z
DESCRIPTION:1. Liga Herren\nBegegnungs-Nr: 40\nHeim: Burgdorf III\nGast: Port III\n\nAdresse: Pestalozzistrasse 69\, 3400 Burgdorf\n
LOCATION:Pestalozzistrasse 69\, 3400 Burgdorf
CATEGORIES:Saison 2025/26
END:VEVENT
BEGIN:VEVENT
DTSTAMP:20260424T082518Z
DTSTART;TZID=Europe/Berlin:20260228T160000
DTEND;TZID=Europe/Berlin:20260228T190000
SUMMARY:HE 1. Liga Thun vs Port III (29)
UID:d1d39679-7123-461e-95e8-455caa0d2635
STATUS:CONFIRMED
LAST-MODIFIED:20260302T144348Z
DESCRIPTION:1. Liga Herren\nBegegnungs-Nr: 29\nHeim: Thun\nGast: Port III\n\nAdresse: Hallerstrasse 28\, 3604 Thun\n
LOCATION:Hallerstrasse 28\, 3604 Thun
CATEGORIES:Saison 2025/26
END:VEVENT
BEGIN:VEVENT
DTSTAMP:20260424T082518Z
DTSTART;TZID=Europe/Berlin:20260213T194500
DTEND;TZID=Europe/Berlin:20260213T224500
SUMMARY:HE 1. Liga Aarberg vs Port III (19)
UID:6117be56-88d6-479c-97f1-776715d13786
STATUS:CONFIRMED
LAST-MODIFIED:20260218T070407Z
DESCRIPTION:1. Liga Herren\nBegegnungs-Nr: 19\nHeim: Aarberg\nGast: Port III\n\nAdresse: Nidaustrasse 7\, 3270 Aarberg\n
LOCATION:Nidaustrasse 7\, 3270 Aarberg
CATEGORIES:Saison 2025/26
END:VEVENT
BEGIN:VEVENT
DTSTAMP:20260424T082518Z
DTSTART;TZID=Europe/Berlin:20260116T193000
DTEND;TZID=Europe/Berlin:20260116T223000
SUMMARY:HE 1. Liga Bern vs Port III (7)
UID:75554850-6b1c-4b68-b04f-3645fb205237
STATUS:CONFIRMED
LAST-MODIFIED:20260124T235903Z
DESCRIPTION:1. Liga Herren\nBegegnungs-Nr: 7\nHeim: Bern\nGast: Port III\n\nAdresse: Papiermühlestrasse 81\, 3014 Bern\n
LOCATION:Papiermühlestrasse 81\, 3014 Bern
CATEGORIES:Saison 2025/26
END:VEVENT
END:VCALENDAR
