BEGIN:VCALENDAR
PRODID:-//nuDatenautomaten//framework iCal4j //DE
VERSION:2.0
CALSCALE:GREGORIAN
BEGIN:VTIMEZONE
TZID:Europe/Berlin
LAST-MODIFIED:20260306T231828Z
TZURL:https://www.tzurl.org/zoneinfo/Europe/Berlin
X-LIC-LOCATION:Europe/Berlin
X-PROLEPTIC-TZNAME:LMT
BEGIN:STANDARD
TZNAME:CET
TZOFFSETFROM:+005328
TZOFFSETTO:+0100
DTSTART:18930401T000000
END:STANDARD
BEGIN:DAYLIGHT
TZNAME:CEST
TZOFFSETFROM:+0100
TZOFFSETTO:+0200
DTSTART:19160430T230000
RDATE:19400401T020000
RDATE:19430329T020000
RDATE:19460414T020000
RDATE:19470406T030000
RDATE:19480418T020000
RDATE:19490410T020000
RDATE:19800406T020000
END:DAYLIGHT
BEGIN:STANDARD
TZNAME:CET
TZOFFSETFROM:+0200
TZOFFSETTO:+0100
DTSTART:19161001T010000
RDATE:19421102T030000
RDATE:19431004T030000
RDATE:19441002T030000
RDATE:19451118T030000
RDATE:19461007T030000
END:STANDARD
BEGIN:DAYLIGHT
TZNAME:CEST
TZOFFSETFROM:+0100
TZOFFSETTO:+0200
DTSTART:19170416T020000
RRULE:FREQ=YEARLY;UNTIL=19180415T010000Z;BYMONTH=4;BYDAY=3MO
END:DAYLIGHT
BEGIN:STANDARD
TZNAME:CET
TZOFFSETFROM:+0200
TZOFFSETTO:+0100
DTSTART:19170917T030000
RRULE:FREQ=YEARLY;UNTIL=19180916T010000Z;BYMONTH=9;BYDAY=3MO
END:STANDARD
BEGIN:DAYLIGHT
TZNAME:CEST
TZOFFSETFROM:+0100
TZOFFSETTO:+0200
DTSTART:19440403T020000
RRULE:FREQ=YEARLY;UNTIL=19450402T010000Z;BYMONTH=4;BYDAY=1MO
END:DAYLIGHT
BEGIN:DAYLIGHT
TZNAME:CEMT
TZOFFSETFROM:+0200
TZOFFSETTO:+0300
DTSTART:19450524T020000
RDATE:19470511T030000
END:DAYLIGHT
BEGIN:DAYLIGHT
TZNAME:CEST
TZOFFSETFROM:+0300
TZOFFSETTO:+0200
DTSTART:19450924T030000
RDATE:19470629T030000
END:DAYLIGHT
BEGIN:STANDARD
TZNAME:CET
TZOFFSETFROM:+0100
TZOFFSETTO:+0100
DTSTART:19460101T000000
RDATE:19800101T000000
END:STANDARD
BEGIN:STANDARD
TZNAME:CET
TZOFFSETFROM:+0200
TZOFFSETTO:+0100
DTSTART:19471005T030000
RRULE:FREQ=YEARLY;UNTIL=19491002T010000Z;BYMONTH=10;BYDAY=1SU
END:STANDARD
BEGIN:STANDARD
TZNAME:CET
TZOFFSETFROM:+0200
TZOFFSETTO:+0100
DTSTART:19800928T030000
RRULE:FREQ=YEARLY;UNTIL=19950924T010000Z;BYMONTH=9;BYDAY=-1SU
END:STANDARD
BEGIN:DAYLIGHT
TZNAME:CEST
TZOFFSETFROM:+0100
TZOFFSETTO:+0200
DTSTART:19810329T020000
RRULE:FREQ=YEARLY;BYMONTH=3;BYDAY=-1SU
END:DAYLIGHT
BEGIN:STANDARD
TZNAME:CET
TZOFFSETFROM:+0200
TZOFFSETTO:+0100
DTSTART:19961027T030000
RRULE:FREQ=YEARLY;BYMONTH=10;BYDAY=-1SU
END:STANDARD
END:VTIMEZONE
BEGIN:VEVENT
DTSTAMP:20260424T150504Z
DTSTART;TZID=Europe/Berlin:20251011T113000
DTEND;TZID=Europe/Berlin:20251011T143000
SUMMARY:Ligue 3 Versoix vs UGS-Chênois IV (8)
UID:2a26fe3c-9521-463d-b1ba-a31843dcbb50
STATUS:CONFIRMED
LAST-MODIFIED:20251012T150031Z
DESCRIPTION:3ème ligue jeunesse - Groupe unique\nBegegnungs-Nr: 8\nHeim: Versoix\nGast: UGS-Chênois IV\n
LOCATION:
CATEGORIES:Saison 2025/26
END:VEVENT
BEGIN:VEVENT
DTSTAMP:20260424T150504Z
DTSTART;TZID=Europe/Berlin:20251011T133000
DTEND;TZID=Europe/Berlin:20251011T163000
SUMMARY:Ligue 3 Versoix vs UGS-Chênois V (12)
UID:922b1c5c-7710-45ff-b9c0-951400677bea
STATUS:CONFIRMED
DESCRIPTION:3ème ligue jeunesse - Groupe unique\nBegegnungs-Nr: 12\nHeim: Versoix\nGast: UGS-Chênois V\n
LOCATION:
CATEGORIES:Saison 2025/26
END:VEVENT
BEGIN:VEVENT
DTSTAMP:20260424T150504Z
DTSTART;TZID=Europe/Berlin:20260328T113000
DTEND;TZID=Europe/Berlin:20260328T143000
SUMMARY:Ligue 3 Versoix vs Meyrin (26)
UID:7924426f-4f50-4c39-a9eb-5932cb52856a
STATUS:CONFIRMED
LAST-MODIFIED:20260331T091347Z
DESCRIPTION:3ème ligue jeunesse - Groupe unique\nBegegnungs-Nr: 26\nHeim: Versoix\nGast: Meyrin\n
LOCATION:
CATEGORIES:Saison 2025/26
END:VEVENT
BEGIN:VEVENT
DTSTAMP:20260424T150504Z
DTSTART;TZID=Europe/Berlin:20251213T090000
DTEND;TZID=Europe/Berlin:20251213T120000
SUMMARY:Ligue 3 Versoix vs Onex (14)
UID:ff52951b-5157-4b45-ba43-fa15dfcbfc1e
STATUS:CONFIRMED
LAST-MODIFIED:20251214T082540Z
DESCRIPTION:3ème ligue jeunesse - Groupe unique\nBegegnungs-Nr: 14\nHeim: Versoix\nGast: Onex\n
LOCATION:
CATEGORIES:Saison 2025/26
END:VEVENT
BEGIN:VEVENT
DTSTAMP:20260424T150504Z
DTSTART;TZID=Europe/Berlin:20251011T093000
DTEND;TZID=Europe/Berlin:20251011T123000
SUMMARY:Ligue 3 Châtelaine II vs Versoix (3)
UID:647ff5ba-0469-4209-9217-c03659d6ec04
STATUS:CONFIRMED
DESCRIPTION:3ème ligue jeunesse - Groupe unique\nBegegnungs-Nr: 3\nHeim: Châtelaine II\nGast: Versoix\n
LOCATION:
CATEGORIES:Saison 2025/26
END:VEVENT
BEGIN:VEVENT
DTSTAMP:20260424T150504Z
DTSTART;TZID=Europe/Berlin:20260328T093000
DTEND;TZID=Europe/Berlin:20260328T123000
SUMMARY:Ligue 3 Veyrier vs Versoix (22)
UID:3972602b-2f58-4d34-9e90-93619d4594e2
STATUS:CONFIRMED
DESCRIPTION:3ème ligue jeunesse - Groupe unique\nBegegnungs-Nr: 22\nHeim: Veyrier\nGast: Versoix\n
LOCATION:
CATEGORIES:Saison 2025/26
END:VEVENT
BEGIN:VEVENT
DTSTAMP:20260424T150504Z
DTSTART;TZID=Europe/Berlin:20251213T110000
DTEND;TZID=Europe/Berlin:20251213T140000
SUMMARY:Ligue 3 ZZ-Lancy III vs Versoix (17)
UID:5fea52c2-f9c7-4e02-8845-4a1de3469392
STATUS:CONFIRMED
LAST-MODIFIED:20251214T113114Z
DESCRIPTION:3ème ligue jeunesse - Groupe unique\nBegegnungs-Nr: 17\nHeim: ZZ-Lancy III\nGast: Versoix\n
LOCATION:
CATEGORIES:Saison 2025/26
END:VEVENT
END:VCALENDAR
