BEGIN:VCALENDAR
PRODID:-//nuDatenautomaten//framework iCal4j //DE
VERSION:2.0
CALSCALE:GREGORIAN
BEGIN:VTIMEZONE
TZID:Europe/Berlin
LAST-MODIFIED:20260306T231828Z
TZURL:https://www.tzurl.org/zoneinfo/Europe/Berlin
X-LIC-LOCATION:Europe/Berlin
X-PROLEPTIC-TZNAME:LMT
BEGIN:STANDARD
TZNAME:CET
TZOFFSETFROM:+005328
TZOFFSETTO:+0100
DTSTART:18930401T000000
END:STANDARD
BEGIN:DAYLIGHT
TZNAME:CEST
TZOFFSETFROM:+0100
TZOFFSETTO:+0200
DTSTART:19160430T230000
RDATE:19400401T020000
RDATE:19430329T020000
RDATE:19460414T020000
RDATE:19470406T030000
RDATE:19480418T020000
RDATE:19490410T020000
RDATE:19800406T020000
END:DAYLIGHT
BEGIN:STANDARD
TZNAME:CET
TZOFFSETFROM:+0200
TZOFFSETTO:+0100
DTSTART:19161001T010000
RDATE:19421102T030000
RDATE:19431004T030000
RDATE:19441002T030000
RDATE:19451118T030000
RDATE:19461007T030000
END:STANDARD
BEGIN:DAYLIGHT
TZNAME:CEST
TZOFFSETFROM:+0100
TZOFFSETTO:+0200
DTSTART:19170416T020000
RRULE:FREQ=YEARLY;UNTIL=19180415T010000Z;BYMONTH=4;BYDAY=3MO
END:DAYLIGHT
BEGIN:STANDARD
TZNAME:CET
TZOFFSETFROM:+0200
TZOFFSETTO:+0100
DTSTART:19170917T030000
RRULE:FREQ=YEARLY;UNTIL=19180916T010000Z;BYMONTH=9;BYDAY=3MO
END:STANDARD
BEGIN:DAYLIGHT
TZNAME:CEST
TZOFFSETFROM:+0100
TZOFFSETTO:+0200
DTSTART:19440403T020000
RRULE:FREQ=YEARLY;UNTIL=19450402T010000Z;BYMONTH=4;BYDAY=1MO
END:DAYLIGHT
BEGIN:DAYLIGHT
TZNAME:CEMT
TZOFFSETFROM:+0200
TZOFFSETTO:+0300
DTSTART:19450524T020000
RDATE:19470511T030000
END:DAYLIGHT
BEGIN:DAYLIGHT
TZNAME:CEST
TZOFFSETFROM:+0300
TZOFFSETTO:+0200
DTSTART:19450924T030000
RDATE:19470629T030000
END:DAYLIGHT
BEGIN:STANDARD
TZNAME:CET
TZOFFSETFROM:+0100
TZOFFSETTO:+0100
DTSTART:19460101T000000
RDATE:19800101T000000
END:STANDARD
BEGIN:STANDARD
TZNAME:CET
TZOFFSETFROM:+0200
TZOFFSETTO:+0100
DTSTART:19471005T030000
RRULE:FREQ=YEARLY;UNTIL=19491002T010000Z;BYMONTH=10;BYDAY=1SU
END:STANDARD
BEGIN:STANDARD
TZNAME:CET
TZOFFSETFROM:+0200
TZOFFSETTO:+0100
DTSTART:19800928T030000
RRULE:FREQ=YEARLY;UNTIL=19950924T010000Z;BYMONTH=9;BYDAY=-1SU
END:STANDARD
BEGIN:DAYLIGHT
TZNAME:CEST
TZOFFSETFROM:+0100
TZOFFSETTO:+0200
DTSTART:19810329T020000
RRULE:FREQ=YEARLY;BYMONTH=3;BYDAY=-1SU
END:DAYLIGHT
BEGIN:STANDARD
TZNAME:CET
TZOFFSETFROM:+0200
TZOFFSETTO:+0100
DTSTART:19961027T030000
RRULE:FREQ=YEARLY;BYMONTH=10;BYDAY=-1SU
END:STANDARD
END:VTIMEZONE
BEGIN:VEVENT
DTSTAMP:20260424T114937Z
DTSTART;TZID=Europe/Berlin:20250930T194500
DTEND;TZID=Europe/Berlin:20250930T224500
SUMMARY:Ligue 2 Gr.2 Mandement II vs ZZ-Lancy II (6)
UID:a6be1951-7554-455c-9465-ae3ab42b821a
STATUS:CONFIRMED
LAST-MODIFIED:20251001T065446Z
DESCRIPTION:2ème ligue O40 2ème groupe\nBegegnungs-Nr: 6\nHeim: Mandement II\nGast: ZZ-Lancy II\n
LOCATION:
CATEGORIES:Saison 2025/26
END:VEVENT
BEGIN:VEVENT
DTSTAMP:20260424T114937Z
DTSTART;TZID=Europe/Berlin:20260505T194500
DTEND;TZID=Europe/Berlin:20260505T224500
SUMMARY:Ligue 2 Gr.2 Mandement II vs UGS-Chênois II (30)
UID:aef3ab7a-9f3f-4fd2-a482-233e2e7e0d7a
STATUS:CONFIRMED
DESCRIPTION:2ème ligue O40 2ème groupe\nBegegnungs-Nr: 30\nHeim: Mandement II\nGast: UGS-Chênois II\n
LOCATION:
CATEGORIES:Saison 2025/26
END:VEVENT
BEGIN:VEVENT
DTSTAMP:20260424T114937Z
DTSTART;TZID=Europe/Berlin:20260421T194500
DTEND;TZID=Europe/Berlin:20260421T224500
SUMMARY:Ligue 2 Gr.2 Mandement II vs Meyrin (27)
UID:8db6bf5b-5c71-42ed-8d54-e0b193222870
STATUS:CONFIRMED
LAST-MODIFIED:20260422T141748Z
DESCRIPTION:2ème ligue O40 2ème groupe\nBegegnungs-Nr: 27\nHeim: Mandement II\nGast: Meyrin\n
LOCATION:
CATEGORIES:Saison 2025/26
END:VEVENT
BEGIN:VEVENT
DTSTAMP:20260424T114937Z
DTSTART;TZID=Europe/Berlin:20260106T194500
DTEND;TZID=Europe/Berlin:20260106T224500
SUMMARY:Ligue 2 Gr.2 Mandement II vs Onex II (18)
UID:5a063e0c-3069-4037-9a0a-18d276b8da47
STATUS:CONFIRMED
LAST-MODIFIED:20260107T131034Z
DESCRIPTION:2ème ligue O40 2ème groupe\nBegegnungs-Nr: 18\nHeim: Mandement II\nGast: Onex II\n
LOCATION:
CATEGORIES:Saison 2025/26
END:VEVENT
BEGIN:VEVENT
DTSTAMP:20260424T114937Z
DTSTART;TZID=Europe/Berlin:20251104T194500
DTEND;TZID=Europe/Berlin:20251104T224500
SUMMARY:Ligue 2 Gr.2 Mandement II vs Carouge II (9)
UID:af0e5eae-d8e1-4bb4-9331-b4459adaa678
STATUS:CONFIRMED
LAST-MODIFIED:20251105T080420Z
DESCRIPTION:2ème ligue O40 2ème groupe\nBegegnungs-Nr: 9\nHeim: Mandement II\nGast: Carouge II\n
LOCATION:
CATEGORIES:Saison 2025/26
END:VEVENT
BEGIN:VEVENT
DTSTAMP:20260424T114937Z
DTSTART;TZID=Europe/Berlin:20250909T194500
DTEND;TZID=Europe/Berlin:20250909T224500
SUMMARY:Ligue 2 Gr.2 Onex II vs Mandement II (3)
UID:2a9ea5d3-ab08-4a89-9996-fdc89d94b0ad
STATUS:CONFIRMED
LAST-MODIFIED:20250911T133844Z
DESCRIPTION:2ème ligue O40 2ème groupe\nBegegnungs-Nr: 3\nHeim: Onex II\nGast: Mandement II\n
LOCATION:
CATEGORIES:Saison 2025/26
END:VEVENT
BEGIN:VEVENT
DTSTAMP:20260424T114937Z
DTSTART;TZID=Europe/Berlin:20260303T194500
DTEND;TZID=Europe/Berlin:20260303T224500
SUMMARY:Ligue 2 Gr.2 Carouge II vs Mandement II (24)
UID:e66a44ec-5169-42d3-b2d2-65618d1e0347
STATUS:CONFIRMED
LAST-MODIFIED:20260304T074443Z
DESCRIPTION:2ème ligue O40 2ème groupe\nBegegnungs-Nr: 24\nHeim: Carouge II\nGast: Mandement II\n
LOCATION:
CATEGORIES:Saison 2025/26
END:VEVENT
BEGIN:VEVENT
DTSTAMP:20260424T114937Z
DTSTART;TZID=Europe/Berlin:20260203T200000
DTEND;TZID=Europe/Berlin:20260203T230000
SUMMARY:Ligue 2 Gr.2 ZZ-Lancy II vs Mandement II (21)
UID:0c885e3c-e734-4121-a3a4-39fdd58756e1
STATUS:CONFIRMED
LAST-MODIFIED:20260204T133812Z
DESCRIPTION:2ème ligue O40 2ème groupe\nBegegnungs-Nr: 21\nHeim: ZZ-Lancy II\nGast: Mandement II\n
LOCATION:
CATEGORIES:Saison 2025/26
END:VEVENT
BEGIN:VEVENT
DTSTAMP:20260424T114937Z
DTSTART;TZID=Europe/Berlin:20251215T194500
DTEND;TZID=Europe/Berlin:20251215T224500
SUMMARY:Ligue 2 Gr.2 UGS-Chênois II vs Mandement II (15)
UID:a9551174-21b0-4a76-b307-5decb075038a
STATUS:CONFIRMED
LAST-MODIFIED:20251216T140019Z
DESCRIPTION:2ème ligue O40 2ème groupe\nBegegnungs-Nr: 15\nHeim: UGS-Chênois II\nGast: Mandement II\n
LOCATION:
CATEGORIES:Saison 2025/26
END:VEVENT
BEGIN:VEVENT
DTSTAMP:20260424T114937Z
DTSTART;TZID=Europe/Berlin:20251209T194500
DTEND;TZID=Europe/Berlin:20251209T224500
SUMMARY:Ligue 2 Gr.2 Meyrin vs Mandement II (12)
UID:bbbb7651-a7c9-49df-b38e-e55c4068aba7
STATUS:CONFIRMED
LAST-MODIFIED:20251210T151138Z
DESCRIPTION:2ème ligue O40 2ème groupe\nBegegnungs-Nr: 12\nHeim: Meyrin\nGast: Mandement II\n
LOCATION:
CATEGORIES:Saison 2025/26
END:VEVENT
END:VCALENDAR
