BEGIN:VCALENDAR
PRODID:-//nuDatenautomaten//framework iCal4j //DE
VERSION:2.0
CALSCALE:GREGORIAN
BEGIN:VTIMEZONE
TZID:Europe/Berlin
LAST-MODIFIED:20260306T231828Z
TZURL:https://www.tzurl.org/zoneinfo/Europe/Berlin
X-LIC-LOCATION:Europe/Berlin
X-PROLEPTIC-TZNAME:LMT
BEGIN:STANDARD
TZNAME:CET
TZOFFSETFROM:+005328
TZOFFSETTO:+0100
DTSTART:18930401T000000
END:STANDARD
BEGIN:DAYLIGHT
TZNAME:CEST
TZOFFSETFROM:+0100
TZOFFSETTO:+0200
DTSTART:19160430T230000
RDATE:19400401T020000
RDATE:19430329T020000
RDATE:19460414T020000
RDATE:19470406T030000
RDATE:19480418T020000
RDATE:19490410T020000
RDATE:19800406T020000
END:DAYLIGHT
BEGIN:STANDARD
TZNAME:CET
TZOFFSETFROM:+0200
TZOFFSETTO:+0100
DTSTART:19161001T010000
RDATE:19421102T030000
RDATE:19431004T030000
RDATE:19441002T030000
RDATE:19451118T030000
RDATE:19461007T030000
END:STANDARD
BEGIN:DAYLIGHT
TZNAME:CEST
TZOFFSETFROM:+0100
TZOFFSETTO:+0200
DTSTART:19170416T020000
RRULE:FREQ=YEARLY;UNTIL=19180415T010000Z;BYMONTH=4;BYDAY=3MO
END:DAYLIGHT
BEGIN:STANDARD
TZNAME:CET
TZOFFSETFROM:+0200
TZOFFSETTO:+0100
DTSTART:19170917T030000
RRULE:FREQ=YEARLY;UNTIL=19180916T010000Z;BYMONTH=9;BYDAY=3MO
END:STANDARD
BEGIN:DAYLIGHT
TZNAME:CEST
TZOFFSETFROM:+0100
TZOFFSETTO:+0200
DTSTART:19440403T020000
RRULE:FREQ=YEARLY;UNTIL=19450402T010000Z;BYMONTH=4;BYDAY=1MO
END:DAYLIGHT
BEGIN:DAYLIGHT
TZNAME:CEMT
TZOFFSETFROM:+0200
TZOFFSETTO:+0300
DTSTART:19450524T020000
RDATE:19470511T030000
END:DAYLIGHT
BEGIN:DAYLIGHT
TZNAME:CEST
TZOFFSETFROM:+0300
TZOFFSETTO:+0200
DTSTART:19450924T030000
RDATE:19470629T030000
END:DAYLIGHT
BEGIN:STANDARD
TZNAME:CET
TZOFFSETFROM:+0100
TZOFFSETTO:+0100
DTSTART:19460101T000000
RDATE:19800101T000000
END:STANDARD
BEGIN:STANDARD
TZNAME:CET
TZOFFSETFROM:+0200
TZOFFSETTO:+0100
DTSTART:19471005T030000
RRULE:FREQ=YEARLY;UNTIL=19491002T010000Z;BYMONTH=10;BYDAY=1SU
END:STANDARD
BEGIN:STANDARD
TZNAME:CET
TZOFFSETFROM:+0200
TZOFFSETTO:+0100
DTSTART:19800928T030000
RRULE:FREQ=YEARLY;UNTIL=19950924T010000Z;BYMONTH=9;BYDAY=-1SU
END:STANDARD
BEGIN:DAYLIGHT
TZNAME:CEST
TZOFFSETFROM:+0100
TZOFFSETTO:+0200
DTSTART:19810329T020000
RRULE:FREQ=YEARLY;BYMONTH=3;BYDAY=-1SU
END:DAYLIGHT
BEGIN:STANDARD
TZNAME:CET
TZOFFSETFROM:+0200
TZOFFSETTO:+0100
DTSTART:19961027T030000
RRULE:FREQ=YEARLY;BYMONTH=10;BYDAY=-1SU
END:STANDARD
END:VTIMEZONE
BEGIN:VEVENT
DTSTAMP:20260424T151708Z
DTSTART;TZID=Europe/Berlin:20260312T194500
DTEND;TZID=Europe/Berlin:20260312T224500
SUMMARY:HE 5. Liga Gr. 5 Dübendorf-Volketswil IV vs Pinguin Zürich V (0)
UID:ef44b67f-ef11-4d0d-9dda-e65485bdfd9a
STATUS:CONFIRMED
LAST-MODIFIED:20260313T132035Z
DESCRIPTION:5. Liga Herren Gruppe 5\nBegegnungs-Nr: 0\nHeim: Dübendorf-Volketswil IV\nGast: Pinguin Zürich V\n\nAdresse: Wasserfurrenstrasse 7\, 8600 Dübendorf\n
LOCATION:Wasserfurrenstrasse 7\, 8600 Dübendorf
CATEGORIES:Saison 2025/26
END:VEVENT
BEGIN:VEVENT
DTSTAMP:20260424T151708Z
DTSTART;TZID=Europe/Berlin:20260416T194500
DTEND;TZID=Europe/Berlin:20260416T224500
SUMMARY:HE 5. Liga Gr. 5 Dübendorf-Volketswil IV vs Libera Zürich (0)
UID:f6553f9a-9f96-4ea8-857c-c54fa2f526a7
STATUS:CONFIRMED
LAST-MODIFIED:20260420T123439Z
DESCRIPTION:5. Liga Herren Gruppe 5\nBegegnungs-Nr: 0\nHeim: Dübendorf-Volketswil IV\nGast: Libera Zürich\n\nAdresse: Wasserfurrenstrasse 7\, 8600 Dübendorf\n
LOCATION:Wasserfurrenstrasse 7\, 8600 Dübendorf
CATEGORIES:Saison 2025/26
END:VEVENT
BEGIN:VEVENT
DTSTAMP:20260424T151708Z
DTSTART;TZID=Europe/Berlin:20250828T194500
DTEND;TZID=Europe/Berlin:20250828T224500
SUMMARY:HE 5. Liga Gr. 5 Dübendorf-Volketswil IV vs Bülach V (0)
UID:aa874302-11a0-42ba-9711-364e29314811
STATUS:CONFIRMED
LAST-MODIFIED:20250829T144129Z
DESCRIPTION:5. Liga Herren Gruppe 5\nBegegnungs-Nr: 0\nHeim: Dübendorf-Volketswil IV\nGast: Bülach V\n\nAdresse: Wasserfurrenstrasse 7\, 8600 Dübendorf\n
LOCATION:Wasserfurrenstrasse 7\, 8600 Dübendorf
CATEGORIES:Saison 2025/26
END:VEVENT
BEGIN:VEVENT
DTSTAMP:20260424T151708Z
DTSTART;TZID=Europe/Berlin:20250904T194500
DTEND;TZID=Europe/Berlin:20250904T224500
SUMMARY:HE 5. Liga Gr. 5 Dübendorf-Volketswil IV vs Seebach-Kügeliloo II (0)
UID:fdcf6fcb-ccf7-4c46-94d1-48d44ef5723a
STATUS:CONFIRMED
LAST-MODIFIED:20250905T124425Z
DESCRIPTION:5. Liga Herren Gruppe 5\nBegegnungs-Nr: 0\nHeim: Dübendorf-Volketswil IV\nGast: Seebach-Kügeliloo II\n\nAdresse: Wasserfurrenstrasse 7\, 8600 Dübendorf\n
LOCATION:Wasserfurrenstrasse 7\, 8600 Dübendorf
CATEGORIES:Saison 2025/26
END:VEVENT
BEGIN:VEVENT
DTSTAMP:20260424T151708Z
DTSTART;TZID=Europe/Berlin:20251002T194500
DTEND;TZID=Europe/Berlin:20251002T224500
SUMMARY:HE 5. Liga Gr. 5 Dübendorf-Volketswil IV vs BW-Wollishofen IV (0)
UID:3f3e6b47-119b-45e4-bf32-b6e9440250d5
STATUS:CONFIRMED
LAST-MODIFIED:20251007T060246Z
DESCRIPTION:5. Liga Herren Gruppe 5\nBegegnungs-Nr: 0\nHeim: Dübendorf-Volketswil IV\nGast: BW-Wollishofen IV\n\nAdresse: Wasserfurrenstrasse 7\, 8600 Dübendorf\n
LOCATION:Wasserfurrenstrasse 7\, 8600 Dübendorf
CATEGORIES:Saison 2025/26
END:VEVENT
BEGIN:VEVENT
DTSTAMP:20260424T151708Z
DTSTART;TZID=Europe/Berlin:20251106T194500
DTEND;TZID=Europe/Berlin:20251106T224500
SUMMARY:HE 5. Liga Gr. 5 Dübendorf-Volketswil IV vs Niederhasli VI (0)
UID:2c8ed464-47be-4fb4-bc88-970feda9d6c1
STATUS:CONFIRMED
LAST-MODIFIED:20251107T145138Z
DESCRIPTION:5. Liga Herren Gruppe 5\nBegegnungs-Nr: 0\nHeim: Dübendorf-Volketswil IV\nGast: Niederhasli VI\n\nAdresse: Wasserfurrenstrasse 7\, 8600 Dübendorf\n
LOCATION:Wasserfurrenstrasse 7\, 8600 Dübendorf
CATEGORIES:Saison 2025/26
END:VEVENT
BEGIN:VEVENT
DTSTAMP:20260424T151708Z
DTSTART;TZID=Europe/Berlin:20260129T194500
DTEND;TZID=Europe/Berlin:20260129T224500
SUMMARY:HE 5. Liga Gr. 5 Dübendorf-Volketswil IV vs Meilen-Männedorf V (0)
UID:70ca50b7-2258-4f3f-bbaf-712079d8418b
STATUS:CONFIRMED
LAST-MODIFIED:20260130T101658Z
DESCRIPTION:5. Liga Herren Gruppe 5\nBegegnungs-Nr: 0\nHeim: Dübendorf-Volketswil IV\nGast: Meilen-Männedorf V\n\nAdresse: Wasserfurrenstrasse 7\, 8600 Dübendorf\n
LOCATION:Wasserfurrenstrasse 7\, 8600 Dübendorf
CATEGORIES:Saison 2025/26
END:VEVENT
BEGIN:VEVENT
DTSTAMP:20260424T151708Z
DTSTART;TZID=Europe/Berlin:20260323T193000
DTEND;TZID=Europe/Berlin:20260323T223000
SUMMARY:HE 5. Liga Gr. 5 Niederhasli VI vs Dübendorf-Volketswil IV (0)
UID:cc50b80e-ee31-47d7-83ed-3f962db72fd9
STATUS:CONFIRMED
LAST-MODIFIED:20260326T153157Z
DESCRIPTION:5. Liga Herren Gruppe 5\nBegegnungs-Nr: 0\nHeim: Niederhasli VI\nGast: Dübendorf-Volketswil IV\n\nAdresse: Dorfstrasse 22\, 8155 Niederhasli\n
LOCATION:Dorfstrasse 22\, 8155 Niederhasli
CATEGORIES:Saison 2025/26
END:VEVENT
BEGIN:VEVENT
DTSTAMP:20260424T151708Z
DTSTART;TZID=Europe/Berlin:20260306T200000
DTEND;TZID=Europe/Berlin:20260306T230000
SUMMARY:HE 5. Liga Gr. 5 BW-Wollishofen IV vs Dübendorf-Volketswil IV (0)
UID:870b2af6-de03-4417-b771-553e1c43b19b
STATUS:CONFIRMED
LAST-MODIFIED:20260313T132015Z
DESCRIPTION:5. Liga Herren Gruppe 5\nBegegnungs-Nr: 0\nHeim: BW-Wollishofen IV\nGast: Dübendorf-Volketswil IV\n\nAdresse: Kilchbergstr. 28\, 8038 Zürich\n
LOCATION:Kilchbergstr. 28\, 8038 Zürich
CATEGORIES:Saison 2025/26
END:VEVENT
BEGIN:VEVENT
DTSTAMP:20260424T151708Z
DTSTART;TZID=Europe/Berlin:20250916T200000
DTEND;TZID=Europe/Berlin:20250916T230000
SUMMARY:HE 5. Liga Gr. 5 Meilen-Männedorf V vs Dübendorf-Volketswil IV (0)
UID:fd27e2ba-69b9-41e5-b812-cd0e427aad91
STATUS:CONFIRMED
LAST-MODIFIED:20250922T155028Z
DESCRIPTION:5. Liga Herren Gruppe 5\nBegegnungs-Nr: 0\nHeim: Meilen-Männedorf V\nGast: Dübendorf-Volketswil IV\n\nAdresse: Schulhausstr. 27\, 8706 Meilen\n
LOCATION:Schulhausstr. 27\, 8706 Meilen
CATEGORIES:Saison 2025/26
END:VEVENT
BEGIN:VEVENT
DTSTAMP:20260424T151708Z
DTSTART;TZID=Europe/Berlin:20251030T200000
DTEND;TZID=Europe/Berlin:20251030T230000
SUMMARY:HE 5. Liga Gr. 5 Pinguin Zürich V vs Dübendorf-Volketswil IV (0)
UID:d015ead0-44b4-44a8-9809-7203d5e01e73
STATUS:CONFIRMED
LAST-MODIFIED:20251031T144027Z
DESCRIPTION:5. Liga Herren Gruppe 5\nBegegnungs-Nr: 0\nHeim: Pinguin Zürich V\nGast: Dübendorf-Volketswil IV\n\nAdresse: Grindelstrasse 20\, 8303 Bassersdorf\n
LOCATION:Grindelstrasse 20\, 8303 Bassersdorf
CATEGORIES:Saison 2025/26
END:VEVENT
BEGIN:VEVENT
DTSTAMP:20260424T151708Z
DTSTART;TZID=Europe/Berlin:20251204T200000
DTEND;TZID=Europe/Berlin:20251204T230000
SUMMARY:HE 5. Liga Gr. 5 Libera Zürich vs Dübendorf-Volketswil IV (0)
UID:847049bc-f39c-4a9b-a9dd-bfe531e8c459
STATUS:CONFIRMED
LAST-MODIFIED:20251210T091004Z
DESCRIPTION:5. Liga Herren Gruppe 5\nBegegnungs-Nr: 0\nHeim: Libera Zürich\nGast: Dübendorf-Volketswil IV\n\nAdresse: Sperletweg 71\, 8052 Zürich\n
LOCATION:Sperletweg 71\, 8052 Zürich
CATEGORIES:Saison 2025/26
END:VEVENT
BEGIN:VEVENT
DTSTAMP:20260424T151708Z
DTSTART;TZID=Europe/Berlin:20260120T200000
DTEND;TZID=Europe/Berlin:20260120T230000
SUMMARY:HE 5. Liga Gr. 5 Seebach-Kügeliloo II vs Dübendorf-Volketswil IV (0)
UID:05b73482-4824-42a9-9236-083251d75d59
STATUS:CONFIRMED
LAST-MODIFIED:20260121T092804Z
DESCRIPTION:5. Liga Herren Gruppe 5\nBegegnungs-Nr: 0\nHeim: Seebach-Kügeliloo II\nGast: Dübendorf-Volketswil IV\n\nAdresse: Sperletweg 71\, 8052 Zürich\n
LOCATION:Sperletweg 71\, 8052 Zürich
CATEGORIES:Saison 2025/26
END:VEVENT
BEGIN:VEVENT
DTSTAMP:20260424T151708Z
DTSTART;TZID=Europe/Berlin:20260108T201500
DTEND;TZID=Europe/Berlin:20260108T231500
SUMMARY:HE 5. Liga Gr. 5 Bülach V vs Dübendorf-Volketswil IV (0)
UID:7abf6cfa-e13d-4f30-a84d-35846822fcdf
STATUS:CONFIRMED
LAST-MODIFIED:20260112T095904Z
DESCRIPTION:5. Liga Herren Gruppe 5\nBegegnungs-Nr: 0\nHeim: Bülach V\nGast: Dübendorf-Volketswil IV\n\nAdresse: Unterweg 51\, 8180 Bülach\n
LOCATION:Unterweg 51\, 8180 Bülach
CATEGORIES:Saison 2025/26
END:VEVENT
END:VCALENDAR
