BEGIN:VCALENDAR
PRODID:-//nuDatenautomaten//framework iCal4j //DE
VERSION:2.0
CALSCALE:GREGORIAN
BEGIN:VTIMEZONE
TZID:Europe/Berlin
LAST-MODIFIED:20260306T231828Z
TZURL:https://www.tzurl.org/zoneinfo/Europe/Berlin
X-LIC-LOCATION:Europe/Berlin
X-PROLEPTIC-TZNAME:LMT
BEGIN:STANDARD
TZNAME:CET
TZOFFSETFROM:+005328
TZOFFSETTO:+0100
DTSTART:18930401T000000
END:STANDARD
BEGIN:DAYLIGHT
TZNAME:CEST
TZOFFSETFROM:+0100
TZOFFSETTO:+0200
DTSTART:19160430T230000
RDATE:19400401T020000
RDATE:19430329T020000
RDATE:19460414T020000
RDATE:19470406T030000
RDATE:19480418T020000
RDATE:19490410T020000
RDATE:19800406T020000
END:DAYLIGHT
BEGIN:STANDARD
TZNAME:CET
TZOFFSETFROM:+0200
TZOFFSETTO:+0100
DTSTART:19161001T010000
RDATE:19421102T030000
RDATE:19431004T030000
RDATE:19441002T030000
RDATE:19451118T030000
RDATE:19461007T030000
END:STANDARD
BEGIN:DAYLIGHT
TZNAME:CEST
TZOFFSETFROM:+0100
TZOFFSETTO:+0200
DTSTART:19170416T020000
RRULE:FREQ=YEARLY;UNTIL=19180415T010000Z;BYMONTH=4;BYDAY=3MO
END:DAYLIGHT
BEGIN:STANDARD
TZNAME:CET
TZOFFSETFROM:+0200
TZOFFSETTO:+0100
DTSTART:19170917T030000
RRULE:FREQ=YEARLY;UNTIL=19180916T010000Z;BYMONTH=9;BYDAY=3MO
END:STANDARD
BEGIN:DAYLIGHT
TZNAME:CEST
TZOFFSETFROM:+0100
TZOFFSETTO:+0200
DTSTART:19440403T020000
RRULE:FREQ=YEARLY;UNTIL=19450402T010000Z;BYMONTH=4;BYDAY=1MO
END:DAYLIGHT
BEGIN:DAYLIGHT
TZNAME:CEMT
TZOFFSETFROM:+0200
TZOFFSETTO:+0300
DTSTART:19450524T020000
RDATE:19470511T030000
END:DAYLIGHT
BEGIN:DAYLIGHT
TZNAME:CEST
TZOFFSETFROM:+0300
TZOFFSETTO:+0200
DTSTART:19450924T030000
RDATE:19470629T030000
END:DAYLIGHT
BEGIN:STANDARD
TZNAME:CET
TZOFFSETFROM:+0100
TZOFFSETTO:+0100
DTSTART:19460101T000000
RDATE:19800101T000000
END:STANDARD
BEGIN:STANDARD
TZNAME:CET
TZOFFSETFROM:+0200
TZOFFSETTO:+0100
DTSTART:19471005T030000
RRULE:FREQ=YEARLY;UNTIL=19491002T010000Z;BYMONTH=10;BYDAY=1SU
END:STANDARD
BEGIN:STANDARD
TZNAME:CET
TZOFFSETFROM:+0200
TZOFFSETTO:+0100
DTSTART:19800928T030000
RRULE:FREQ=YEARLY;UNTIL=19950924T010000Z;BYMONTH=9;BYDAY=-1SU
END:STANDARD
BEGIN:DAYLIGHT
TZNAME:CEST
TZOFFSETFROM:+0100
TZOFFSETTO:+0200
DTSTART:19810329T020000
RRULE:FREQ=YEARLY;BYMONTH=3;BYDAY=-1SU
END:DAYLIGHT
BEGIN:STANDARD
TZNAME:CET
TZOFFSETFROM:+0200
TZOFFSETTO:+0100
DTSTART:19961027T030000
RRULE:FREQ=YEARLY;BYMONTH=10;BYDAY=-1SU
END:STANDARD
END:VTIMEZONE
BEGIN:VEVENT
DTSTAMP:20260424T115145Z
DTSTART;TZID=Europe/Berlin:20251111T194500
DTEND;TZID=Europe/Berlin:20251111T224500
SUMMARY:HE 5. Liga Gr. 4 Port VIII vs Langenthal III (20)
UID:16d70aee-672b-49b7-ba2a-0209c1958459
STATUS:CONFIRMED
LAST-MODIFIED:20251122T091440Z
DESCRIPTION:5. Liga Herren Gruppe 4\nBegegnungs-Nr: 20\nHeim: Port VIII\nGast: Langenthal III\n\nAdresse: Allmendstrasse 23\, 2562 Port\n
LOCATION:Allmendstrasse 23\, 2562 Port
CATEGORIES:Saison 2025/26
END:VEVENT
BEGIN:VEVENT
DTSTAMP:20260424T115145Z
DTSTART;TZID=Europe/Berlin:20251104T194500
DTEND;TZID=Europe/Berlin:20251104T224500
SUMMARY:HE 5. Liga Gr. 4 Port VIII vs Grossaffoltern III (14)
UID:0486963a-2c80-4730-9b77-eacfc53ad16a
STATUS:CONFIRMED
LAST-MODIFIED:20251122T091424Z
DESCRIPTION:5. Liga Herren Gruppe 4\nBegegnungs-Nr: 14\nHeim: Port VIII\nGast: Grossaffoltern III\n\nAdresse: Allmendstrasse 23\, 2562 Port\n
LOCATION:Allmendstrasse 23\, 2562 Port
CATEGORIES:Saison 2025/26
END:VEVENT
BEGIN:VEVENT
DTSTAMP:20260424T115145Z
DTSTART;TZID=Europe/Berlin:20250909T184500
DTEND;TZID=Europe/Berlin:20250909T214500
SUMMARY:HE 5. Liga Gr. 4 Port VIII vs Burgdorf IX (8)
UID:5ab28d41-d631-4cd7-af8e-ac64a27b6215
STATUS:CONFIRMED
LAST-MODIFIED:20250918T140507Z
DESCRIPTION:5. Liga Herren Gruppe 4\nBegegnungs-Nr: 8\nHeim: Port VIII\nGast: Burgdorf IX\n\nAdresse: Allmendstrasse 23\, 2562 Port\n
LOCATION:Allmendstrasse 23\, 2562 Port
CATEGORIES:Saison 2025/26
END:VEVENT
BEGIN:VEVENT
DTSTAMP:20260424T115145Z
DTSTART;TZID=Europe/Berlin:20260324T194500
DTEND;TZID=Europe/Berlin:20260324T224500
SUMMARY:HE 5. Liga Gr. 4 Port VIII vs Lyss V (27)
UID:ae4dd619-077e-4454-a5bf-1a0c733e7cbb
STATUS:CONFIRMED
LAST-MODIFIED:20260409T123359Z
DESCRIPTION:5. Liga Herren Gruppe 4\nBegegnungs-Nr: 27\nHeim: Port VIII\nGast: Lyss V\n\nAdresse: Allmendstrasse 23\, 2562 Port\n
LOCATION:Allmendstrasse 23\, 2562 Port
CATEGORIES:Saison 2025/26
END:VEVENT
BEGIN:VEVENT
DTSTAMP:20260424T115145Z
DTSTART;TZID=Europe/Berlin:20260320T194500
DTEND;TZID=Europe/Berlin:20260320T224500
SUMMARY:HE 5. Liga Gr. 4 Port VIII vs Huttwil II (24)
UID:d39de18f-9482-4730-a5d6-cf4bb8cd251f
STATUS:CONFIRMED
LAST-MODIFIED:20260327T144809Z
DESCRIPTION:5. Liga Herren Gruppe 4\nBegegnungs-Nr: 24\nHeim: Port VIII\nGast: Huttwil II\n\nAdresse: Allmendstrasse 23\, 2562 Port\n
LOCATION:Allmendstrasse 23\, 2562 Port
CATEGORIES:Saison 2025/26
END:VEVENT
BEGIN:VEVENT
DTSTAMP:20260424T115145Z
DTSTART;TZID=Europe/Berlin:20260203T194500
DTEND;TZID=Europe/Berlin:20260203T224500
SUMMARY:HE 5. Liga Gr. 4 Port VIII vs Kirchberg III (9)
UID:91aa82eb-8932-4ea9-a3dd-5996252b9f12
STATUS:CONFIRMED
LAST-MODIFIED:20260217T212326Z
DESCRIPTION:5. Liga Herren Gruppe 4\nBegegnungs-Nr: 9\nHeim: Port VIII\nGast: Kirchberg III\n\nAdresse: Allmendstrasse 23\, 2562 Port\n
LOCATION:Allmendstrasse 23\, 2562 Port
CATEGORIES:Saison 2025/26
END:VEVENT
BEGIN:VEVENT
DTSTAMP:20260424T115145Z
DTSTART;TZID=Europe/Berlin:20260113T194500
DTEND;TZID=Europe/Berlin:20260113T224500
SUMMARY:HE 5. Liga Gr. 4 Port VIII vs Utzenstorf II (3)
UID:f01dcd4a-574c-4cbe-861c-8f8b0f391c35
STATUS:CONFIRMED
LAST-MODIFIED:20260125T002552Z
DESCRIPTION:5. Liga Herren Gruppe 4\nBegegnungs-Nr: 3\nHeim: Port VIII\nGast: Utzenstorf II\n\nAdresse: Allmendstrasse 23\, 2562 Port\n
LOCATION:Allmendstrasse 23\, 2562 Port
CATEGORIES:Saison 2025/26
END:VEVENT
BEGIN:VEVENT
DTSTAMP:20260424T115145Z
DTSTART;TZID=Europe/Berlin:20250904T200000
DTEND;TZID=Europe/Berlin:20250904T230000
SUMMARY:HE 5. Liga Gr. 4 Utzenstorf II vs Port VIII (3)
UID:4005ed40-d0e2-4323-9945-5fde3f2dcf46
STATUS:CONFIRMED
LAST-MODIFIED:20250907T195342Z
DESCRIPTION:5. Liga Herren Gruppe 4\nBegegnungs-Nr: 3\nHeim: Utzenstorf II\nGast: Port VIII\n\nAdresse: Gotthelfstrasse 15a\, 3427 Utzenstorf\n
LOCATION:Gotthelfstrasse 15a\, 3427 Utzenstorf
CATEGORIES:Saison 2025/26
END:VEVENT
BEGIN:VEVENT
DTSTAMP:20260424T115145Z
DTSTART;TZID=Europe/Berlin:20251216T200000
DTEND;TZID=Europe/Berlin:20251216T230000
SUMMARY:HE 5. Liga Gr. 4 Lyss V vs Port VIII (27)
UID:9741aba4-c585-4997-945d-b27c2c49dc24
STATUS:CONFIRMED
LAST-MODIFIED:20251218T122259Z
DESCRIPTION:5. Liga Herren Gruppe 4\nBegegnungs-Nr: 27\nHeim: Lyss V\nGast: Port VIII\n\nAdresse: Stegmattweg 15-17\, 3250 Lyss\n
LOCATION:Stegmattweg 15-17\, 3250 Lyss
CATEGORIES:Saison 2025/26
END:VEVENT
BEGIN:VEVENT
DTSTAMP:20260424T115145Z
DTSTART;TZID=Europe/Berlin:20251201T200000
DTEND;TZID=Europe/Berlin:20251201T230000
SUMMARY:HE 5. Liga Gr. 4 Huttwil II vs Port VIII (24)
UID:2bb11c6c-0096-4107-864b-ac8054fd867f
STATUS:CONFIRMED
LAST-MODIFIED:20251207T174442Z
DESCRIPTION:5. Liga Herren Gruppe 4\nBegegnungs-Nr: 24\nHeim: Huttwil II\nGast: Port VIII\n\nAdresse: Dornackerweg 2 (untere Halle)\, 4950 Huttwil\n
LOCATION:Dornackerweg 2 (untere Halle)\, 4950 Huttwil
CATEGORIES:Saison 2025/26
END:VEVENT
BEGIN:VEVENT
DTSTAMP:20260424T115145Z
DTSTART;TZID=Europe/Berlin:20250927T130000
DTEND;TZID=Europe/Berlin:20250927T160000
SUMMARY:HE 5. Liga Gr. 4 Kirchberg III vs Port VIII (9)
UID:fee747d0-fb85-484e-843a-94489673df17
STATUS:CONFIRMED
LAST-MODIFIED:20251003T172707Z
DESCRIPTION:5. Liga Herren Gruppe 4\nBegegnungs-Nr: 9\nHeim: Kirchberg III\nGast: Port VIII\n\nAdresse: Reinhardweg\, 3422 Kirchberg\n
LOCATION:Reinhardweg\, 3422 Kirchberg
CATEGORIES:Saison 2025/26
END:VEVENT
BEGIN:VEVENT
DTSTAMP:20260424T115145Z
DTSTART;TZID=Europe/Berlin:20260302T200000
DTEND;TZID=Europe/Berlin:20260302T230000
SUMMARY:HE 5. Liga Gr. 4 Langenthal III vs Port VIII (20)
UID:3ae424e2-5fa3-42c2-bfe7-38ac58d5639f
STATUS:CONFIRMED
LAST-MODIFIED:20260308T174741Z
DESCRIPTION:5. Liga Herren Gruppe 4\nBegegnungs-Nr: 20\nHeim: Langenthal III\nGast: Port VIII\n\nAdresse: Weststrasse 29\, 4900 Langenthal\n
LOCATION:Weststrasse 29\, 4900 Langenthal
CATEGORIES:Saison 2025/26
END:VEVENT
BEGIN:VEVENT
DTSTAMP:20260424T115145Z
DTSTART;TZID=Europe/Berlin:20260216T200000
DTEND;TZID=Europe/Berlin:20260216T230000
SUMMARY:HE 5. Liga Gr. 4 Grossaffoltern III vs Port VIII (14)
UID:582fbddf-6df4-4439-9a0f-18606282411a
STATUS:CONFIRMED
LAST-MODIFIED:20260217T212358Z
DESCRIPTION:5. Liga Herren Gruppe 4\nBegegnungs-Nr: 14\nHeim: Grossaffoltern III\nGast: Port VIII\n\nAdresse: Schulhausstrasse 5 \, 3257 Grossaffoltern\n
LOCATION:Schulhausstrasse 5 \, 3257 Grossaffoltern
CATEGORIES:Saison 2025/26
END:VEVENT
BEGIN:VEVENT
DTSTAMP:20260424T115145Z
DTSTART;TZID=Europe/Berlin:20260313T193000
DTEND;TZID=Europe/Berlin:20260313T223000
SUMMARY:HE 5. Liga Gr. 4 Burgdorf IX vs Port VIII (8)
UID:d8409d63-0f8f-4234-97de-0acdb9291069
STATUS:CONFIRMED
LAST-MODIFIED:20260327T144750Z
DESCRIPTION:5. Liga Herren Gruppe 4\nBegegnungs-Nr: 8\nHeim: Burgdorf IX\nGast: Port VIII\n\nAdresse: Pestalozzistrasse 69\, 3400 Burgdorf\n
LOCATION:Pestalozzistrasse 69\, 3400 Burgdorf
CATEGORIES:Saison 2025/26
END:VEVENT
END:VCALENDAR
