BEGIN:VCALENDAR
PRODID:-//nuDatenautomaten//framework iCal4j //DE
VERSION:2.0
CALSCALE:GREGORIAN
BEGIN:VTIMEZONE
TZID:Europe/Berlin
LAST-MODIFIED:20260306T231828Z
TZURL:https://www.tzurl.org/zoneinfo/Europe/Berlin
X-LIC-LOCATION:Europe/Berlin
X-PROLEPTIC-TZNAME:LMT
BEGIN:STANDARD
TZNAME:CET
TZOFFSETFROM:+005328
TZOFFSETTO:+0100
DTSTART:18930401T000000
END:STANDARD
BEGIN:DAYLIGHT
TZNAME:CEST
TZOFFSETFROM:+0100
TZOFFSETTO:+0200
DTSTART:19160430T230000
RDATE:19400401T020000
RDATE:19430329T020000
RDATE:19460414T020000
RDATE:19470406T030000
RDATE:19480418T020000
RDATE:19490410T020000
RDATE:19800406T020000
END:DAYLIGHT
BEGIN:STANDARD
TZNAME:CET
TZOFFSETFROM:+0200
TZOFFSETTO:+0100
DTSTART:19161001T010000
RDATE:19421102T030000
RDATE:19431004T030000
RDATE:19441002T030000
RDATE:19451118T030000
RDATE:19461007T030000
END:STANDARD
BEGIN:DAYLIGHT
TZNAME:CEST
TZOFFSETFROM:+0100
TZOFFSETTO:+0200
DTSTART:19170416T020000
RRULE:FREQ=YEARLY;UNTIL=19180415T010000Z;BYMONTH=4;BYDAY=3MO
END:DAYLIGHT
BEGIN:STANDARD
TZNAME:CET
TZOFFSETFROM:+0200
TZOFFSETTO:+0100
DTSTART:19170917T030000
RRULE:FREQ=YEARLY;UNTIL=19180916T010000Z;BYMONTH=9;BYDAY=3MO
END:STANDARD
BEGIN:DAYLIGHT
TZNAME:CEST
TZOFFSETFROM:+0100
TZOFFSETTO:+0200
DTSTART:19440403T020000
RRULE:FREQ=YEARLY;UNTIL=19450402T010000Z;BYMONTH=4;BYDAY=1MO
END:DAYLIGHT
BEGIN:DAYLIGHT
TZNAME:CEMT
TZOFFSETFROM:+0200
TZOFFSETTO:+0300
DTSTART:19450524T020000
RDATE:19470511T030000
END:DAYLIGHT
BEGIN:DAYLIGHT
TZNAME:CEST
TZOFFSETFROM:+0300
TZOFFSETTO:+0200
DTSTART:19450924T030000
RDATE:19470629T030000
END:DAYLIGHT
BEGIN:STANDARD
TZNAME:CET
TZOFFSETFROM:+0100
TZOFFSETTO:+0100
DTSTART:19460101T000000
RDATE:19800101T000000
END:STANDARD
BEGIN:STANDARD
TZNAME:CET
TZOFFSETFROM:+0200
TZOFFSETTO:+0100
DTSTART:19471005T030000
RRULE:FREQ=YEARLY;UNTIL=19491002T010000Z;BYMONTH=10;BYDAY=1SU
END:STANDARD
BEGIN:STANDARD
TZNAME:CET
TZOFFSETFROM:+0200
TZOFFSETTO:+0100
DTSTART:19800928T030000
RRULE:FREQ=YEARLY;UNTIL=19950924T010000Z;BYMONTH=9;BYDAY=-1SU
END:STANDARD
BEGIN:DAYLIGHT
TZNAME:CEST
TZOFFSETFROM:+0100
TZOFFSETTO:+0200
DTSTART:19810329T020000
RRULE:FREQ=YEARLY;BYMONTH=3;BYDAY=-1SU
END:DAYLIGHT
BEGIN:STANDARD
TZNAME:CET
TZOFFSETFROM:+0200
TZOFFSETTO:+0100
DTSTART:19961027T030000
RRULE:FREQ=YEARLY;BYMONTH=10;BYDAY=-1SU
END:STANDARD
END:VTIMEZONE
BEGIN:VEVENT
DTSTAMP:20260424T063717Z
DTSTART;TZID=Europe/Berlin:20251029T193000
DTEND;TZID=Europe/Berlin:20251029T223000
SUMMARY:HE 4. Liga Gr. 1 Belp III vs bls Spiez II (16)
UID:a3b6acf4-9255-497f-b2fd-1b9e8f7dd4f9
STATUS:CONFIRMED
LAST-MODIFIED:20251029T220933Z
DESCRIPTION:4. Liga Herren Gruppe 1\nBegegnungs-Nr: 16\nHeim: Belp III\nGast: bls Spiez II\n\nAdresse: Neumattstrasse 39\, 3123 Belp\n
LOCATION:Neumattstrasse 39\, 3123 Belp
CATEGORIES:Saison 2025/26
END:VEVENT
BEGIN:VEVENT
DTSTAMP:20260424T063717Z
DTSTART;TZID=Europe/Berlin:20250910T193000
DTEND;TZID=Europe/Berlin:20250910T223000
SUMMARY:HE 4. Liga Gr. 1 Belp III vs Münsingen II (6)
UID:46606152-0503-4d5a-8762-079caa55c14b
STATUS:CONFIRMED
LAST-MODIFIED:20250918T141006Z
DESCRIPTION:4. Liga Herren Gruppe 1\nBegegnungs-Nr: 6\nHeim: Belp III\nGast: Münsingen II\n\nAdresse: Neumattstrasse 39\, 3123 Belp\n
LOCATION:Neumattstrasse 39\, 3123 Belp
CATEGORIES:Saison 2025/26
END:VEVENT
BEGIN:VEVENT
DTSTAMP:20260424T063717Z
DTSTART;TZID=Europe/Berlin:20251126T193000
DTEND;TZID=Europe/Berlin:20251126T223000
SUMMARY:HE 4. Liga Gr. 1 Belp III vs Worb II (23)
UID:1d91cfd7-1409-45bd-8253-f60324fd73b2
STATUS:CONFIRMED
LAST-MODIFIED:20251207T172712Z
DESCRIPTION:4. Liga Herren Gruppe 1\nBegegnungs-Nr: 23\nHeim: Belp III\nGast: Worb II\n\nAdresse: Neumattstrasse 39\, 3123 Belp\n
LOCATION:Neumattstrasse 39\, 3123 Belp
CATEGORIES:Saison 2025/26
END:VEVENT
BEGIN:VEVENT
DTSTAMP:20260424T063717Z
DTSTART;TZID=Europe/Berlin:20251219T193000
DTEND;TZID=Europe/Berlin:20251219T223000
SUMMARY:HE 4. Liga Gr. 1 Belp III vs Ostermundigen VIII (28)
UID:19478920-5b79-4458-9a10-b5abaa261ab7
STATUS:CONFIRMED
LAST-MODIFIED:20251223T090824Z
DESCRIPTION:4. Liga Herren Gruppe 1\nBegegnungs-Nr: 28\nHeim: Belp III\nGast: Ostermundigen VIII\n\nAdresse: Neumattstrasse 39\, 3123 Belp\n
LOCATION:Neumattstrasse 39\, 3123 Belp
CATEGORIES:Saison 2025/26
END:VEVENT
BEGIN:VEVENT
DTSTAMP:20260424T063717Z
DTSTART;TZID=Europe/Berlin:20260304T193000
DTEND;TZID=Europe/Berlin:20260304T223000
SUMMARY:HE 4. Liga Gr. 1 Belp III vs Wichtrach (20)
UID:e98533a3-ce89-487f-ac87-ed69418197ad
STATUS:CONFIRMED
LAST-MODIFIED:20260308T175222Z
DESCRIPTION:4. Liga Herren Gruppe 1\nBegegnungs-Nr: 20\nHeim: Belp III\nGast: Wichtrach\n\nAdresse: Neumattstrasse 39\, 3123 Belp\n
LOCATION:Neumattstrasse 39\, 3123 Belp
CATEGORIES:Saison 2025/26
END:VEVENT
BEGIN:VEVENT
DTSTAMP:20260424T063717Z
DTSTART;TZID=Europe/Berlin:20260107T193000
DTEND;TZID=Europe/Berlin:20260107T223000
SUMMARY:HE 4. Liga Gr. 1 Belp III vs Thun V (1)
UID:bd1638d9-c5fd-471a-838a-78e3bb9fe43e
STATUS:CONFIRMED
LAST-MODIFIED:20260125T001434Z
DESCRIPTION:4. Liga Herren Gruppe 1\nBegegnungs-Nr: 1\nHeim: Belp III\nGast: Thun V\n\nAdresse: Neumattstrasse 39\, 3123 Belp\n
LOCATION:Neumattstrasse 39\, 3123 Belp
CATEGORIES:Saison 2025/26
END:VEVENT
BEGIN:VEVENT
DTSTAMP:20260424T063717Z
DTSTART;TZID=Europe/Berlin:20260211T193000
DTEND;TZID=Europe/Berlin:20260211T223000
SUMMARY:HE 4. Liga Gr. 1 Belp III vs Interlaken II (11)
UID:def7a6a4-8dfd-4986-b856-e2e5b8ee0d78
STATUS:CONFIRMED
LAST-MODIFIED:20260217T213215Z
DESCRIPTION:4. Liga Herren Gruppe 1\nBegegnungs-Nr: 11\nHeim: Belp III\nGast: Interlaken II\n\nAdresse: Neumattstrasse 39\, 3123 Belp\n
LOCATION:Neumattstrasse 39\, 3123 Belp
CATEGORIES:Saison 2025/26
END:VEVENT
BEGIN:VEVENT
DTSTAMP:20260424T063717Z
DTSTART;TZID=Europe/Berlin:20251114T200000
DTEND;TZID=Europe/Berlin:20251114T230000
SUMMARY:HE 4. Liga Gr. 1 Wichtrach vs Belp III (20)
UID:6749e941-5bb8-4652-89d9-41dd6aa0831d
STATUS:CONFIRMED
LAST-MODIFIED:20251122T090947Z
DESCRIPTION:4. Liga Herren Gruppe 1\nBegegnungs-Nr: 20\nHeim: Wichtrach\nGast: Belp III\n\nAdresse: Hängertstrasse 4\, 3114 Wichtrach\n
LOCATION:Hängertstrasse 4\, 3114 Wichtrach
CATEGORIES:Saison 2025/26
END:VEVENT
BEGIN:VEVENT
DTSTAMP:20260424T063717Z
DTSTART;TZID=Europe/Berlin:20251024T194500
DTEND;TZID=Europe/Berlin:20251024T224500
SUMMARY:HE 4. Liga Gr. 1 Interlaken II vs Belp III (11)
UID:5d36afbc-caaa-465c-b66a-c11c7cf15c96
STATUS:CONFIRMED
LAST-MODIFIED:20251029T220921Z
DESCRIPTION:4. Liga Herren Gruppe 1\nBegegnungs-Nr: 11\nHeim: Interlaken II\nGast: Belp III\n\nAdresse: Burgweg 239R\, 3852 Ringgenberg\n
LOCATION:Burgweg 239R\, 3852 Ringgenberg
CATEGORIES:Saison 2025/26
END:VEVENT
BEGIN:VEVENT
DTSTAMP:20260424T063717Z
DTSTART;TZID=Europe/Berlin:20250906T130000
DTEND;TZID=Europe/Berlin:20250906T160000
SUMMARY:HE 4. Liga Gr. 1 Thun V vs Belp III (1)
UID:b1c340ba-3310-4ed8-a1e4-2595f9e71898
STATUS:CONFIRMED
LAST-MODIFIED:20250907T195910Z
DESCRIPTION:4. Liga Herren Gruppe 1\nBegegnungs-Nr: 1\nHeim: Thun V\nGast: Belp III\n\nAdresse: Hallerstrasse 28\, 3604 Thun\n
LOCATION:Hallerstrasse 28\, 3604 Thun
CATEGORIES:Saison 2025/26
END:VEVENT
BEGIN:VEVENT
DTSTAMP:20260424T063717Z
DTSTART;TZID=Europe/Berlin:20260325T194500
DTEND;TZID=Europe/Berlin:20260325T224500
SUMMARY:HE 4. Liga Gr. 1 Ostermundigen VIII vs Belp III (28)
UID:7625abf2-f633-49b8-909f-4c04e4034da3
STATUS:CONFIRMED
LAST-MODIFIED:20260409T122938Z
DESCRIPTION:4. Liga Herren Gruppe 1\nBegegnungs-Nr: 28\nHeim: Ostermundigen VIII\nGast: Belp III\n\nAdresse: Dennigkofenweg 169\, 3072 Ostermundigen\n
LOCATION:Dennigkofenweg 169\, 3072 Ostermundigen
CATEGORIES:Saison 2025/26
END:VEVENT
BEGIN:VEVENT
DTSTAMP:20260424T063717Z
DTSTART;TZID=Europe/Berlin:20260313T194500
DTEND;TZID=Europe/Berlin:20260313T224500
SUMMARY:HE 4. Liga Gr. 1 Worb II vs Belp III (23)
UID:02edb839-8e61-44b7-82e2-a4f3ec57cfc2
STATUS:CONFIRMED
LAST-MODIFIED:20260315T230026Z
DESCRIPTION:4. Liga Herren Gruppe 1\nBegegnungs-Nr: 23\nHeim: Worb II\nGast: Belp III\n\nAdresse: Rosenweg 9\, 3075 Rüfenacht BE\n
LOCATION:Rosenweg 9\, 3075 Rüfenacht BE
CATEGORIES:Saison 2025/26
END:VEVENT
BEGIN:VEVENT
DTSTAMP:20260424T063717Z
DTSTART;TZID=Europe/Berlin:20260224T194500
DTEND;TZID=Europe/Berlin:20260224T224500
SUMMARY:HE 4. Liga Gr. 1 bls Spiez II vs Belp III (16)
UID:0605c1ac-55ea-47ca-a3a0-fa92d84b15c8
STATUS:CONFIRMED
LAST-MODIFIED:20260302T144603Z
DESCRIPTION:4. Liga Herren Gruppe 1\nBegegnungs-Nr: 16\nHeim: bls Spiez II\nGast: Belp III\n\nAdresse: Hofachernweg 19 / Oberlandstr. 89\, 3700 Spiez\n
LOCATION:Hofachernweg 19 / Oberlandstr. 89\, 3700 Spiez
CATEGORIES:Saison 2025/26
END:VEVENT
BEGIN:VEVENT
DTSTAMP:20260424T063717Z
DTSTART;TZID=Europe/Berlin:20260119T193000
DTEND;TZID=Europe/Berlin:20260119T223000
SUMMARY:HE 4. Liga Gr. 1 Münsingen II vs Belp III (6)
UID:b943fbfc-6fd6-40d1-9d45-c89292f6bb45
STATUS:CONFIRMED
LAST-MODIFIED:20260125T001518Z
DESCRIPTION:4. Liga Herren Gruppe 1\nBegegnungs-Nr: 6\nHeim: Münsingen II\nGast: Belp III\n\nAdresse: Turnhallenweg 8\, 3110 Münsingen\n
LOCATION:Turnhallenweg 8\, 3110 Münsingen
CATEGORIES:Saison 2025/26
END:VEVENT
END:VCALENDAR
