BEGIN:VCALENDAR
PRODID:-//nuDatenautomaten//framework iCal4j //DE
VERSION:2.0
CALSCALE:GREGORIAN
BEGIN:VTIMEZONE
TZID:Europe/Berlin
LAST-MODIFIED:20260306T231828Z
TZURL:https://www.tzurl.org/zoneinfo/Europe/Berlin
X-LIC-LOCATION:Europe/Berlin
X-PROLEPTIC-TZNAME:LMT
BEGIN:STANDARD
TZNAME:CET
TZOFFSETFROM:+005328
TZOFFSETTO:+0100
DTSTART:18930401T000000
END:STANDARD
BEGIN:DAYLIGHT
TZNAME:CEST
TZOFFSETFROM:+0100
TZOFFSETTO:+0200
DTSTART:19160430T230000
RDATE:19400401T020000
RDATE:19430329T020000
RDATE:19460414T020000
RDATE:19470406T030000
RDATE:19480418T020000
RDATE:19490410T020000
RDATE:19800406T020000
END:DAYLIGHT
BEGIN:STANDARD
TZNAME:CET
TZOFFSETFROM:+0200
TZOFFSETTO:+0100
DTSTART:19161001T010000
RDATE:19421102T030000
RDATE:19431004T030000
RDATE:19441002T030000
RDATE:19451118T030000
RDATE:19461007T030000
END:STANDARD
BEGIN:DAYLIGHT
TZNAME:CEST
TZOFFSETFROM:+0100
TZOFFSETTO:+0200
DTSTART:19170416T020000
RRULE:FREQ=YEARLY;UNTIL=19180415T010000Z;BYMONTH=4;BYDAY=3MO
END:DAYLIGHT
BEGIN:STANDARD
TZNAME:CET
TZOFFSETFROM:+0200
TZOFFSETTO:+0100
DTSTART:19170917T030000
RRULE:FREQ=YEARLY;UNTIL=19180916T010000Z;BYMONTH=9;BYDAY=3MO
END:STANDARD
BEGIN:DAYLIGHT
TZNAME:CEST
TZOFFSETFROM:+0100
TZOFFSETTO:+0200
DTSTART:19440403T020000
RRULE:FREQ=YEARLY;UNTIL=19450402T010000Z;BYMONTH=4;BYDAY=1MO
END:DAYLIGHT
BEGIN:DAYLIGHT
TZNAME:CEMT
TZOFFSETFROM:+0200
TZOFFSETTO:+0300
DTSTART:19450524T020000
RDATE:19470511T030000
END:DAYLIGHT
BEGIN:DAYLIGHT
TZNAME:CEST
TZOFFSETFROM:+0300
TZOFFSETTO:+0200
DTSTART:19450924T030000
RDATE:19470629T030000
END:DAYLIGHT
BEGIN:STANDARD
TZNAME:CET
TZOFFSETFROM:+0100
TZOFFSETTO:+0100
DTSTART:19460101T000000
RDATE:19800101T000000
END:STANDARD
BEGIN:STANDARD
TZNAME:CET
TZOFFSETFROM:+0200
TZOFFSETTO:+0100
DTSTART:19471005T030000
RRULE:FREQ=YEARLY;UNTIL=19491002T010000Z;BYMONTH=10;BYDAY=1SU
END:STANDARD
BEGIN:STANDARD
TZNAME:CET
TZOFFSETFROM:+0200
TZOFFSETTO:+0100
DTSTART:19800928T030000
RRULE:FREQ=YEARLY;UNTIL=19950924T010000Z;BYMONTH=9;BYDAY=-1SU
END:STANDARD
BEGIN:DAYLIGHT
TZNAME:CEST
TZOFFSETFROM:+0100
TZOFFSETTO:+0200
DTSTART:19810329T020000
RRULE:FREQ=YEARLY;BYMONTH=3;BYDAY=-1SU
END:DAYLIGHT
BEGIN:STANDARD
TZNAME:CET
TZOFFSETFROM:+0200
TZOFFSETTO:+0100
DTSTART:19961027T030000
RRULE:FREQ=YEARLY;BYMONTH=10;BYDAY=-1SU
END:STANDARD
END:VTIMEZONE
BEGIN:VEVENT
DTSTAMP:20260424T175102Z
DTSTART;TZID=Europe/Berlin:20260209T200000
DTEND;TZID=Europe/Berlin:20260209T230000
SUMMARY:HE 6. Liga Gr. 9 Buchs St.Gallen vs Triesen IV (0)
UID:4afdd959-d856-4bb3-be2f-703c738cad84
STATUS:CONFIRMED
LAST-MODIFIED:20260217T074311Z
DESCRIPTION:6. Liga Herren Gruppe 9\nBegegnungs-Nr: 0\nHeim: Buchs St.Gallen\nGast: Triesen IV\n\nAdresse: Hanflandstrasse 17\, 9470 Buchs SG\n
LOCATION:Hanflandstrasse 17\, 9470 Buchs SG
CATEGORIES:Saison 2025/26
END:VEVENT
BEGIN:VEVENT
DTSTAMP:20260424T175102Z
DTSTART;TZID=Europe/Berlin:20260126T200000
DTEND;TZID=Europe/Berlin:20260126T230000
SUMMARY:HE 6. Liga Gr. 9 Buchs St.Gallen vs Schaan-Eschen/Mauren III (0)
UID:79f8e948-a44f-4ea0-80d7-e22e30bd9152
STATUS:CONFIRMED
LAST-MODIFIED:20260130T131804Z
DESCRIPTION:6. Liga Herren Gruppe 9\nBegegnungs-Nr: 0\nHeim: Buchs St.Gallen\nGast: Schaan-Eschen/Mauren III\n\nAdresse: Hanflandstrasse 17\, 9470 Buchs SG\n
LOCATION:Hanflandstrasse 17\, 9470 Buchs SG
CATEGORIES:Saison 2025/26
END:VEVENT
BEGIN:VEVENT
DTSTAMP:20260424T175102Z
DTSTART;TZID=Europe/Berlin:20260309T200000
DTEND;TZID=Europe/Berlin:20260309T230000
SUMMARY:HE 6. Liga Gr. 9 Buchs St.Gallen vs Balzers III (0)
UID:2e408131-3a4d-4d45-8c16-08f58fc9df51
STATUS:CONFIRMED
LAST-MODIFIED:20260313T132913Z
DESCRIPTION:6. Liga Herren Gruppe 9\nBegegnungs-Nr: 0\nHeim: Buchs St.Gallen\nGast: Balzers III\n\nAdresse: Hanflandstrasse 17\, 9470 Buchs SG\n
LOCATION:Hanflandstrasse 17\, 9470 Buchs SG
CATEGORIES:Saison 2025/26
END:VEVENT
BEGIN:VEVENT
DTSTAMP:20260424T175102Z
DTSTART;TZID=Europe/Berlin:20250901T200000
DTEND;TZID=Europe/Berlin:20250901T230000
SUMMARY:HE 6. Liga Gr. 9 Buchs St.Gallen vs Chur VIII (0)
UID:49511e4d-5a58-4983-9986-875023b8b773
STATUS:CONFIRMED
LAST-MODIFIED:20250902T093423Z
DESCRIPTION:6. Liga Herren Gruppe 9\nBegegnungs-Nr: 0\nHeim: Buchs St.Gallen\nGast: Chur VIII\n\nAdresse: Hanflandstrasse 17\, 9470 Buchs SG\n
LOCATION:Hanflandstrasse 17\, 9470 Buchs SG
CATEGORIES:Saison 2025/26
END:VEVENT
BEGIN:VEVENT
DTSTAMP:20260424T175102Z
DTSTART;TZID=Europe/Berlin:20250922T200000
DTEND;TZID=Europe/Berlin:20250922T230000
SUMMARY:HE 6. Liga Gr. 9 Buchs St.Gallen vs Ruggell II (0)
UID:25334443-3892-4ddf-ada7-c59c00faad99
STATUS:CONFIRMED
LAST-MODIFIED:20250926T135531Z
DESCRIPTION:6. Liga Herren Gruppe 9\nBegegnungs-Nr: 0\nHeim: Buchs St.Gallen\nGast: Ruggell II\n\nAdresse: Hanflandstrasse 17\, 9470 Buchs SG\n
LOCATION:Hanflandstrasse 17\, 9470 Buchs SG
CATEGORIES:Saison 2025/26
END:VEVENT
BEGIN:VEVENT
DTSTAMP:20260424T175102Z
DTSTART;TZID=Europe/Berlin:20251103T200000
DTEND;TZID=Europe/Berlin:20251103T230000
SUMMARY:HE 6. Liga Gr. 9 Buchs St.Gallen vs Glarus V (0)
UID:05bc6f39-1244-462d-b6c9-ceddd82d780d
STATUS:CONFIRMED
LAST-MODIFIED:20251107T145547Z
DESCRIPTION:6. Liga Herren Gruppe 9\nBegegnungs-Nr: 0\nHeim: Buchs St.Gallen\nGast: Glarus V\n\nAdresse: Hanflandstrasse 17\, 9470 Buchs SG\n
LOCATION:Hanflandstrasse 17\, 9470 Buchs SG
CATEGORIES:Saison 2025/26
END:VEVENT
BEGIN:VEVENT
DTSTAMP:20260424T175102Z
DTSTART;TZID=Europe/Berlin:20251208T200000
DTEND;TZID=Europe/Berlin:20251208T230000
SUMMARY:HE 6. Liga Gr. 9 Buchs St.Gallen vs Chur VII (0)
UID:97c1dba9-2af7-4635-8010-8bb75aa6aa3b
STATUS:CONFIRMED
LAST-MODIFIED:20251210T093820Z
DESCRIPTION:6. Liga Herren Gruppe 9\nBegegnungs-Nr: 0\nHeim: Buchs St.Gallen\nGast: Chur VII\n\nAdresse: Hanflandstrasse 17\, 9470 Buchs SG\n
LOCATION:Hanflandstrasse 17\, 9470 Buchs SG
CATEGORIES:Saison 2025/26
END:VEVENT
BEGIN:VEVENT
DTSTAMP:20260424T175102Z
DTSTART;TZID=Europe/Berlin:20260212T200000
DTEND;TZID=Europe/Berlin:20260212T230000
SUMMARY:HE 6. Liga Gr. 9 Chur VII vs Buchs St.Gallen (0)
UID:3d5a3c3c-f630-4b5c-a39c-ec5f4733af47
STATUS:CONFIRMED
LAST-MODIFIED:20260216T103453Z
DESCRIPTION:6. Liga Herren Gruppe 9\nBegegnungs-Nr: 0\nHeim: Chur VII\nGast: Buchs St.Gallen\n\nAdresse: Sandstr. 35\, 7000 Chur\n
LOCATION:Sandstr. 35\, 7000 Chur
CATEGORIES:Saison 2025/26
END:VEVENT
BEGIN:VEVENT
DTSTAMP:20260424T175102Z
DTSTART;TZID=Europe/Berlin:20260122T200000
DTEND;TZID=Europe/Berlin:20260122T230000
SUMMARY:HE 6. Liga Gr. 9 Chur VIII vs Buchs St.Gallen (0)
UID:e1a44f20-8b42-4ed7-be9a-93b707dea8aa
STATUS:CONFIRMED
LAST-MODIFIED:20260130T131756Z
DESCRIPTION:6. Liga Herren Gruppe 9\nBegegnungs-Nr: 0\nHeim: Chur VIII\nGast: Buchs St.Gallen\n\nAdresse: Sandstr. 35\, 7000 Chur\n
LOCATION:Sandstr. 35\, 7000 Chur
CATEGORIES:Saison 2025/26
END:VEVENT
BEGIN:VEVENT
DTSTAMP:20260424T175102Z
DTSTART;TZID=Europe/Berlin:20260305T200000
DTEND;TZID=Europe/Berlin:20260305T230000
SUMMARY:HE 6. Liga Gr. 9 Ruggell II vs Buchs St.Gallen (0)
UID:5414c415-2c32-4c8a-af04-049bd07c35a8
STATUS:CONFIRMED
LAST-MODIFIED:20260313T132854Z
DESCRIPTION:6. Liga Herren Gruppe 9\nBegegnungs-Nr: 0\nHeim: Ruggell II\nGast: Buchs St.Gallen\n\nAdresse: Nellengasse 40\, 9491 Ruggell\n
LOCATION:Nellengasse 40\, 9491 Ruggell
CATEGORIES:Saison 2025/26
END:VEVENT
BEGIN:VEVENT
DTSTAMP:20260424T175102Z
DTSTART;TZID=Europe/Berlin:20260324T200000
DTEND;TZID=Europe/Berlin:20260324T230000
SUMMARY:HE 6. Liga Gr. 9 Glarus V vs Buchs St.Gallen (0)
UID:79c58300-d6ee-4dd6-8180-73a2567a61e2
STATUS:CONFIRMED
LAST-MODIFIED:20260326T155253Z
DESCRIPTION:6. Liga Herren Gruppe 9\nBegegnungs-Nr: 0\nHeim: Glarus V\nGast: Buchs St.Gallen\n\nAdresse: Schwertgasse 23\, 8750 Glarus\n
LOCATION:Schwertgasse 23\, 8750 Glarus
CATEGORIES:Saison 2025/26
END:VEVENT
BEGIN:VEVENT
DTSTAMP:20260424T175102Z
DTSTART;TZID=Europe/Berlin:20250826T194500
DTEND;TZID=Europe/Berlin:20250826T224500
SUMMARY:HE 6. Liga Gr. 9 Triesen IV vs Buchs St.Gallen (0)
UID:d6c85c89-4ddb-418c-90c3-9f207ff6838b
STATUS:CONFIRMED
LAST-MODIFIED:20250829T144609Z
DESCRIPTION:6. Liga Herren Gruppe 9\nBegegnungs-Nr: 0\nHeim: Triesen IV\nGast: Buchs St.Gallen\n\nAdresse: Gässle 12\, 9495 Triesen\n
LOCATION:Gässle 12\, 9495 Triesen
CATEGORIES:Saison 2025/26
END:VEVENT
BEGIN:VEVENT
DTSTAMP:20260424T175102Z
DTSTART;TZID=Europe/Berlin:20250918T194500
DTEND;TZID=Europe/Berlin:20250918T224500
SUMMARY:HE 6. Liga Gr. 9 Schaan-Eschen/Mauren III vs Buchs St.Gallen (0)
UID:6bc3e941-4b58-4d4a-adea-12f3d353dbbb
STATUS:CONFIRMED
LAST-MODIFIED:20250926T135506Z
DESCRIPTION:6. Liga Herren Gruppe 9\nBegegnungs-Nr: 0\nHeim: Schaan-Eschen/Mauren III\nGast: Buchs St.Gallen\n\nAdresse: Zur Schule\, 9494 Schaan\n
LOCATION:Zur Schule\, 9494 Schaan
CATEGORIES:Saison 2025/26
END:VEVENT
BEGIN:VEVENT
DTSTAMP:20260424T175102Z
DTSTART;TZID=Europe/Berlin:20251030T200000
DTEND;TZID=Europe/Berlin:20251030T230000
SUMMARY:HE 6. Liga Gr. 9 Balzers III vs Buchs St.Gallen (0)
UID:5408c7be-fdfa-49ec-8bbd-4b692223e9a7
STATUS:CONFIRMED
LAST-MODIFIED:20251031T144656Z
DESCRIPTION:6. Liga Herren Gruppe 9\nBegegnungs-Nr: 0\nHeim: Balzers III\nGast: Buchs St.Gallen\n\nAdresse: Gnetsch 41\, 9496 Balzers\n
LOCATION:Gnetsch 41\, 9496 Balzers
CATEGORIES:Saison 2025/26
END:VEVENT
END:VCALENDAR
