BEGIN:VCALENDAR
PRODID:-//nuDatenautomaten//framework iCal4j //DE
VERSION:2.0
CALSCALE:GREGORIAN
BEGIN:VTIMEZONE
TZID:Europe/Berlin
LAST-MODIFIED:20260306T231828Z
TZURL:https://www.tzurl.org/zoneinfo/Europe/Berlin
X-LIC-LOCATION:Europe/Berlin
X-PROLEPTIC-TZNAME:LMT
BEGIN:STANDARD
TZNAME:CET
TZOFFSETFROM:+005328
TZOFFSETTO:+0100
DTSTART:18930401T000000
END:STANDARD
BEGIN:DAYLIGHT
TZNAME:CEST
TZOFFSETFROM:+0100
TZOFFSETTO:+0200
DTSTART:19160430T230000
RDATE:19400401T020000
RDATE:19430329T020000
RDATE:19460414T020000
RDATE:19470406T030000
RDATE:19480418T020000
RDATE:19490410T020000
RDATE:19800406T020000
END:DAYLIGHT
BEGIN:STANDARD
TZNAME:CET
TZOFFSETFROM:+0200
TZOFFSETTO:+0100
DTSTART:19161001T010000
RDATE:19421102T030000
RDATE:19431004T030000
RDATE:19441002T030000
RDATE:19451118T030000
RDATE:19461007T030000
END:STANDARD
BEGIN:DAYLIGHT
TZNAME:CEST
TZOFFSETFROM:+0100
TZOFFSETTO:+0200
DTSTART:19170416T020000
RRULE:FREQ=YEARLY;UNTIL=19180415T010000Z;BYMONTH=4;BYDAY=3MO
END:DAYLIGHT
BEGIN:STANDARD
TZNAME:CET
TZOFFSETFROM:+0200
TZOFFSETTO:+0100
DTSTART:19170917T030000
RRULE:FREQ=YEARLY;UNTIL=19180916T010000Z;BYMONTH=9;BYDAY=3MO
END:STANDARD
BEGIN:DAYLIGHT
TZNAME:CEST
TZOFFSETFROM:+0100
TZOFFSETTO:+0200
DTSTART:19440403T020000
RRULE:FREQ=YEARLY;UNTIL=19450402T010000Z;BYMONTH=4;BYDAY=1MO
END:DAYLIGHT
BEGIN:DAYLIGHT
TZNAME:CEMT
TZOFFSETFROM:+0200
TZOFFSETTO:+0300
DTSTART:19450524T020000
RDATE:19470511T030000
END:DAYLIGHT
BEGIN:DAYLIGHT
TZNAME:CEST
TZOFFSETFROM:+0300
TZOFFSETTO:+0200
DTSTART:19450924T030000
RDATE:19470629T030000
END:DAYLIGHT
BEGIN:STANDARD
TZNAME:CET
TZOFFSETFROM:+0100
TZOFFSETTO:+0100
DTSTART:19460101T000000
RDATE:19800101T000000
END:STANDARD
BEGIN:STANDARD
TZNAME:CET
TZOFFSETFROM:+0200
TZOFFSETTO:+0100
DTSTART:19471005T030000
RRULE:FREQ=YEARLY;UNTIL=19491002T010000Z;BYMONTH=10;BYDAY=1SU
END:STANDARD
BEGIN:STANDARD
TZNAME:CET
TZOFFSETFROM:+0200
TZOFFSETTO:+0100
DTSTART:19800928T030000
RRULE:FREQ=YEARLY;UNTIL=19950924T010000Z;BYMONTH=9;BYDAY=-1SU
END:STANDARD
BEGIN:DAYLIGHT
TZNAME:CEST
TZOFFSETFROM:+0100
TZOFFSETTO:+0200
DTSTART:19810329T020000
RRULE:FREQ=YEARLY;BYMONTH=3;BYDAY=-1SU
END:DAYLIGHT
BEGIN:STANDARD
TZNAME:CET
TZOFFSETFROM:+0200
TZOFFSETTO:+0100
DTSTART:19961027T030000
RRULE:FREQ=YEARLY;BYMONTH=10;BYDAY=-1SU
END:STANDARD
END:VTIMEZONE
BEGIN:VEVENT
DTSTAMP:20260424T120242Z
DTSTART;TZID=Europe/Berlin:20260119T200000
DTEND;TZID=Europe/Berlin:20260119T230000
SUMMARY:HE 3. Liga Gr. 6 Horgen III vs Wetzikon V (0)
UID:4b40e1d3-f050-49d4-af8a-ca0dbd115891
STATUS:CONFIRMED
LAST-MODIFIED:20260120T152210Z
DESCRIPTION:3. Liga Herren Gruppe 6\nBegegnungs-Nr: 0\nHeim: Horgen III\nGast: Wetzikon V\n\nAdresse: Mauremoosstrasse 1\, 8815 Horgenberg \n
LOCATION:Mauremoosstrasse 1\, 8815 Horgenberg 
CATEGORIES:Saison 2025/26
END:VEVENT
BEGIN:VEVENT
DTSTAMP:20260424T120242Z
DTSTART;TZID=Europe/Berlin:20250825T200000
DTEND;TZID=Europe/Berlin:20250825T230000
SUMMARY:HE 3. Liga Gr. 6 Horgen III vs Wolfhausen (0)
UID:c7ff9b25-d582-488e-9876-cf2d3efc8726
STATUS:CONFIRMED
LAST-MODIFIED:20250826T111718Z
DESCRIPTION:3. Liga Herren Gruppe 6\nBegegnungs-Nr: 0\nHeim: Horgen III\nGast: Wolfhausen\n\nAdresse: Mauremoosstrasse 1\, 8815 Horgenberg \n
LOCATION:Mauremoosstrasse 1\, 8815 Horgenberg 
CATEGORIES:Saison 2025/26
END:VEVENT
BEGIN:VEVENT
DTSTAMP:20260424T120242Z
DTSTART;TZID=Europe/Berlin:20260302T200000
DTEND;TZID=Europe/Berlin:20260302T230000
SUMMARY:HE 3. Liga Gr. 6 Horgen III vs Rapperswil-Jona VI (0)
UID:b786264b-44e2-4eb8-a6ab-a547239492eb
STATUS:CONFIRMED
LAST-MODIFIED:20260303T132539Z
DESCRIPTION:3. Liga Herren Gruppe 6\nBegegnungs-Nr: 0\nHeim: Horgen III\nGast: Rapperswil-Jona VI\n\nAdresse: Mauremoosstrasse 1\, 8815 Horgenberg \n
LOCATION:Mauremoosstrasse 1\, 8815 Horgenberg 
CATEGORIES:Saison 2025/26
END:VEVENT
BEGIN:VEVENT
DTSTAMP:20260424T120242Z
DTSTART;TZID=Europe/Berlin:20250915T200000
DTEND;TZID=Europe/Berlin:20250915T230000
SUMMARY:HE 3. Liga Gr. 6 Horgen III vs Glarus (0)
UID:33eada0b-43bd-4e02-960c-de86d0e51225
STATUS:CONFIRMED
LAST-MODIFIED:20250916T092505Z
DESCRIPTION:3. Liga Herren Gruppe 6\nBegegnungs-Nr: 0\nHeim: Horgen III\nGast: Glarus\n\nAdresse: Mauremoosstrasse 1\, 8815 Horgenberg \n
LOCATION:Mauremoosstrasse 1\, 8815 Horgenberg 
CATEGORIES:Saison 2025/26
END:VEVENT
BEGIN:VEVENT
DTSTAMP:20260424T120242Z
DTSTART;TZID=Europe/Berlin:20251027T200000
DTEND;TZID=Europe/Berlin:20251027T230000
SUMMARY:HE 3. Liga Gr. 6 Horgen III vs Meilen-Männedorf (0)
UID:bb1db6c1-30f0-4e24-a795-fd2af397df42
STATUS:CONFIRMED
LAST-MODIFIED:20251031T143238Z
DESCRIPTION:3. Liga Herren Gruppe 6\nBegegnungs-Nr: 0\nHeim: Horgen III\nGast: Meilen-Männedorf\n\nAdresse: Mauremoosstrasse 1\, 8815 Horgenberg \n
LOCATION:Mauremoosstrasse 1\, 8815 Horgenberg 
CATEGORIES:Saison 2025/26
END:VEVENT
BEGIN:VEVENT
DTSTAMP:20260424T120242Z
DTSTART;TZID=Europe/Berlin:20260323T200000
DTEND;TZID=Europe/Berlin:20260323T230000
SUMMARY:HE 3. Liga Gr. 6 Horgen III vs Wädenswil V (0)
UID:1e563952-80f7-425c-b59a-5fda1d7da187
STATUS:CONFIRMED
LAST-MODIFIED:20260326T151807Z
DESCRIPTION:3. Liga Herren Gruppe 6\nBegegnungs-Nr: 0\nHeim: Horgen III\nGast: Wädenswil V\n\nAdresse: Mauremoosstrasse 1\, 8815 Horgenberg \n
LOCATION:Mauremoosstrasse 1\, 8815 Horgenberg 
CATEGORIES:Saison 2025/26
END:VEVENT
BEGIN:VEVENT
DTSTAMP:20260424T120242Z
DTSTART;TZID=Europe/Berlin:20260413T200000
DTEND;TZID=Europe/Berlin:20260413T230000
SUMMARY:HE 3. Liga Gr. 6 Horgen III vs Flums II (0)
UID:01d09780-133a-42fc-8b0d-17a277771353
STATUS:CONFIRMED
LAST-MODIFIED:20260416T103305Z
DESCRIPTION:3. Liga Herren Gruppe 6\nBegegnungs-Nr: 0\nHeim: Horgen III\nGast: Flums II\n\nAdresse: Mauremoosstrasse 1\, 8815 Horgenberg \n
LOCATION:Mauremoosstrasse 1\, 8815 Horgenberg 
CATEGORIES:Saison 2025/26
END:VEVENT
BEGIN:VEVENT
DTSTAMP:20260424T120242Z
DTSTART;TZID=Europe/Berlin:20260105T200000
DTEND;TZID=Europe/Berlin:20260105T230000
SUMMARY:HE 3. Liga Gr. 6 Wolfhausen vs Horgen III (0)
UID:98bf6956-256b-4c87-8311-888b1fe04ce6
STATUS:CONFIRMED
LAST-MODIFIED:20260109T074925Z
DESCRIPTION:3. Liga Herren Gruppe 6\nBegegnungs-Nr: 0\nHeim: Wolfhausen\nGast: Horgen III\n\nAdresse: Schulstrasse 9\, 8633 Wolfhausen\n
LOCATION:Schulstrasse 9\, 8633 Wolfhausen
CATEGORIES:Saison 2025/26
END:VEVENT
BEGIN:VEVENT
DTSTAMP:20260424T120242Z
DTSTART;TZID=Europe/Berlin:20260317T200000
DTEND;TZID=Europe/Berlin:20260317T230000
SUMMARY:HE 3. Liga Gr. 6 Glarus vs Horgen III (0)
UID:430dbb4a-21a2-45c2-9811-8b038863a32e
STATUS:CONFIRMED
LAST-MODIFIED:20260319T113356Z
DESCRIPTION:3. Liga Herren Gruppe 6\nBegegnungs-Nr: 0\nHeim: Glarus\nGast: Horgen III\n\nAdresse: Schwertgasse 23\, 8750 Glarus\n
LOCATION:Schwertgasse 23\, 8750 Glarus
CATEGORIES:Saison 2025/26
END:VEVENT
BEGIN:VEVENT
DTSTAMP:20260424T120242Z
DTSTART;TZID=Europe/Berlin:20260313T194500
DTEND;TZID=Europe/Berlin:20260313T224500
SUMMARY:HE 3. Liga Gr. 6 Meilen-Männedorf vs Horgen III (0)
UID:230ecaeb-46e7-4eb4-94f2-7eaa16858217
STATUS:CONFIRMED
LAST-MODIFIED:20260317T134330Z
DESCRIPTION:3. Liga Herren Gruppe 6\nBegegnungs-Nr: 0\nHeim: Meilen-Männedorf\nGast: Horgen III\n\nAdresse: Schulstrasse 10\, 8708 Männedorf\n
LOCATION:Schulstrasse 10\, 8708 Männedorf
CATEGORIES:Saison 2025/26
END:VEVENT
BEGIN:VEVENT
DTSTAMP:20260424T120242Z
DTSTART;TZID=Europe/Berlin:20250905T194500
DTEND;TZID=Europe/Berlin:20250905T224500
SUMMARY:HE 3. Liga Gr. 6 Wetzikon V vs Horgen III (0)
UID:907762ec-0b09-4a4c-aceb-132a5af63f7b
STATUS:CONFIRMED
LAST-MODIFIED:20250908T140307Z
DESCRIPTION:3. Liga Herren Gruppe 6\nBegegnungs-Nr: 0\nHeim: Wetzikon V\nGast: Horgen III\n\nAdresse: Usterstrasse 37\, 8620 Wetzikon\n
LOCATION:Usterstrasse 37\, 8620 Wetzikon
CATEGORIES:Saison 2025/26
END:VEVENT
BEGIN:VEVENT
DTSTAMP:20260424T120242Z
DTSTART;TZID=Europe/Berlin:20250926T193000
DTEND;TZID=Europe/Berlin:20250926T223000
SUMMARY:HE 3. Liga Gr. 6 Rapperswil-Jona VI vs Horgen III (0)
UID:4dbd4c49-e529-45cb-bf88-6682ca16191f
STATUS:CONFIRMED
LAST-MODIFIED:20250930T123050Z
DESCRIPTION:3. Liga Herren Gruppe 6\nBegegnungs-Nr: 0\nHeim: Rapperswil-Jona VI\nGast: Horgen III\n\nAdresse: Kreuzstrasse 43\, 8640 Rapperswil\n
LOCATION:Kreuzstrasse 43\, 8640 Rapperswil
CATEGORIES:Saison 2025/26
END:VEVENT
BEGIN:VEVENT
DTSTAMP:20260424T120242Z
DTSTART;TZID=Europe/Berlin:20251106T201500
DTEND;TZID=Europe/Berlin:20251106T231500
SUMMARY:HE 3. Liga Gr. 6 Wädenswil V vs Horgen III (0)
UID:0b03a164-ed2b-40b6-942b-42ea8e93411c
STATUS:CONFIRMED
LAST-MODIFIED:20251107T144535Z
DESCRIPTION:3. Liga Herren Gruppe 6\nBegegnungs-Nr: 0\nHeim: Wädenswil V\nGast: Horgen III\n\nAdresse: Speerstrasse 95\, 8820 Wädenswil\n
LOCATION:Speerstrasse 95\, 8820 Wädenswil
CATEGORIES:Saison 2025/26
END:VEVENT
BEGIN:VEVENT
DTSTAMP:20260424T120242Z
DTSTART;TZID=Europe/Berlin:20251208T201500
DTEND;TZID=Europe/Berlin:20251208T231500
SUMMARY:HE 3. Liga Gr. 6 Flums II vs Horgen III (0)
UID:e5f0945e-b8e4-49b5-9ac1-065b4784c36a
STATUS:CONFIRMED
LAST-MODIFIED:20251210T083824Z
DESCRIPTION:3. Liga Herren Gruppe 6\nBegegnungs-Nr: 0\nHeim: Flums II\nGast: Horgen III\n\nAdresse: Bergstrasse\, 8890 Flums\n
LOCATION:Bergstrasse\, 8890 Flums
CATEGORIES:Saison 2025/26
END:VEVENT
END:VCALENDAR
