BEGIN:VCALENDAR
PRODID:-//nuDatenautomaten//framework iCal4j //DE
VERSION:2.0
CALSCALE:GREGORIAN
BEGIN:VTIMEZONE
TZID:Europe/Berlin
LAST-MODIFIED:20260306T231828Z
TZURL:https://www.tzurl.org/zoneinfo/Europe/Berlin
X-LIC-LOCATION:Europe/Berlin
X-PROLEPTIC-TZNAME:LMT
BEGIN:STANDARD
TZNAME:CET
TZOFFSETFROM:+005328
TZOFFSETTO:+0100
DTSTART:18930401T000000
END:STANDARD
BEGIN:DAYLIGHT
TZNAME:CEST
TZOFFSETFROM:+0100
TZOFFSETTO:+0200
DTSTART:19160430T230000
RDATE:19400401T020000
RDATE:19430329T020000
RDATE:19460414T020000
RDATE:19470406T030000
RDATE:19480418T020000
RDATE:19490410T020000
RDATE:19800406T020000
END:DAYLIGHT
BEGIN:STANDARD
TZNAME:CET
TZOFFSETFROM:+0200
TZOFFSETTO:+0100
DTSTART:19161001T010000
RDATE:19421102T030000
RDATE:19431004T030000
RDATE:19441002T030000
RDATE:19451118T030000
RDATE:19461007T030000
END:STANDARD
BEGIN:DAYLIGHT
TZNAME:CEST
TZOFFSETFROM:+0100
TZOFFSETTO:+0200
DTSTART:19170416T020000
RRULE:FREQ=YEARLY;UNTIL=19180415T010000Z;BYMONTH=4;BYDAY=3MO
END:DAYLIGHT
BEGIN:STANDARD
TZNAME:CET
TZOFFSETFROM:+0200
TZOFFSETTO:+0100
DTSTART:19170917T030000
RRULE:FREQ=YEARLY;UNTIL=19180916T010000Z;BYMONTH=9;BYDAY=3MO
END:STANDARD
BEGIN:DAYLIGHT
TZNAME:CEST
TZOFFSETFROM:+0100
TZOFFSETTO:+0200
DTSTART:19440403T020000
RRULE:FREQ=YEARLY;UNTIL=19450402T010000Z;BYMONTH=4;BYDAY=1MO
END:DAYLIGHT
BEGIN:DAYLIGHT
TZNAME:CEMT
TZOFFSETFROM:+0200
TZOFFSETTO:+0300
DTSTART:19450524T020000
RDATE:19470511T030000
END:DAYLIGHT
BEGIN:DAYLIGHT
TZNAME:CEST
TZOFFSETFROM:+0300
TZOFFSETTO:+0200
DTSTART:19450924T030000
RDATE:19470629T030000
END:DAYLIGHT
BEGIN:STANDARD
TZNAME:CET
TZOFFSETFROM:+0100
TZOFFSETTO:+0100
DTSTART:19460101T000000
RDATE:19800101T000000
END:STANDARD
BEGIN:STANDARD
TZNAME:CET
TZOFFSETFROM:+0200
TZOFFSETTO:+0100
DTSTART:19471005T030000
RRULE:FREQ=YEARLY;UNTIL=19491002T010000Z;BYMONTH=10;BYDAY=1SU
END:STANDARD
BEGIN:STANDARD
TZNAME:CET
TZOFFSETFROM:+0200
TZOFFSETTO:+0100
DTSTART:19800928T030000
RRULE:FREQ=YEARLY;UNTIL=19950924T010000Z;BYMONTH=9;BYDAY=-1SU
END:STANDARD
BEGIN:DAYLIGHT
TZNAME:CEST
TZOFFSETFROM:+0100
TZOFFSETTO:+0200
DTSTART:19810329T020000
RRULE:FREQ=YEARLY;BYMONTH=3;BYDAY=-1SU
END:DAYLIGHT
BEGIN:STANDARD
TZNAME:CET
TZOFFSETFROM:+0200
TZOFFSETTO:+0100
DTSTART:19961027T030000
RRULE:FREQ=YEARLY;BYMONTH=10;BYDAY=-1SU
END:STANDARD
END:VTIMEZONE
BEGIN:VEVENT
DTSTAMP:20260424T135746Z
DTSTART;TZID=Europe/Berlin:20260122T194500
DTEND;TZID=Europe/Berlin:20260122T224500
SUMMARY:HE 4. Liga Gr. 5 Thalwil III vs Zürich-Affoltern VII (0)
UID:c7e9bc2a-0a90-482b-b1b5-77101eb764c4
STATUS:CONFIRMED
LAST-MODIFIED:20260123T082524Z
DESCRIPTION:4. Liga Herren Gruppe 5\nBegegnungs-Nr: 0\nHeim: Thalwil III\nGast: Zürich-Affoltern VII\n\nAdresse: Langweg 2\, 8942 Oberrieden\n
LOCATION:Langweg 2\, 8942 Oberrieden
CATEGORIES:Saison 2025/26
END:VEVENT
BEGIN:VEVENT
DTSTAMP:20260424T135746Z
DTSTART;TZID=Europe/Berlin:20260304T194500
DTEND;TZID=Europe/Berlin:20260304T224500
SUMMARY:HE 4. Liga Gr. 5 Thalwil III vs Meilen-Männedorf II (0)
UID:0703d998-0f1d-456d-9bf7-d08fae47d896
STATUS:CONFIRMED
LAST-MODIFIED:20260313T130926Z
DESCRIPTION:4. Liga Herren Gruppe 5\nBegegnungs-Nr: 0\nHeim: Thalwil III\nGast: Meilen-Männedorf II\n\nAdresse: Bergstrasse 2\, 8800 Thalwil\n
LOCATION:Bergstrasse 2\, 8800 Thalwil
CATEGORIES:Saison 2025/26
END:VEVENT
BEGIN:VEVENT
DTSTAMP:20260424T135746Z
DTSTART;TZID=Europe/Berlin:20260312T194500
DTEND;TZID=Europe/Berlin:20260312T224500
SUMMARY:HE 4. Liga Gr. 5 Thalwil III vs BW-Wollishofen III (0)
UID:54f5f975-7e01-48eb-8ce6-d51d06f8e7ee
STATUS:CONFIRMED
LAST-MODIFIED:20260313T131021Z
DESCRIPTION:4. Liga Herren Gruppe 5\nBegegnungs-Nr: 0\nHeim: Thalwil III\nGast: BW-Wollishofen III\n\nAdresse: Langweg 2\, 8942 Oberrieden\n
LOCATION:Langweg 2\, 8942 Oberrieden
CATEGORIES:Saison 2025/26
END:VEVENT
BEGIN:VEVENT
DTSTAMP:20260424T135746Z
DTSTART;TZID=Europe/Berlin:20260416T194500
DTEND;TZID=Europe/Berlin:20260416T224500
SUMMARY:HE 4. Liga Gr. 5 Thalwil III vs Pinguin Zürich III (0)
UID:07bf5bf4-4b04-4f58-ae5c-16b618bdfa36
STATUS:CONFIRMED
LAST-MODIFIED:20260420T123011Z
DESCRIPTION:4. Liga Herren Gruppe 5\nBegegnungs-Nr: 0\nHeim: Thalwil III\nGast: Pinguin Zürich III\n\nAdresse: Langweg 2\, 8942 Oberrieden\n
LOCATION:Langweg 2\, 8942 Oberrieden
CATEGORIES:Saison 2025/26
END:VEVENT
BEGIN:VEVENT
DTSTAMP:20260424T135746Z
DTSTART;TZID=Europe/Berlin:20250828T194500
DTEND;TZID=Europe/Berlin:20250828T224500
SUMMARY:HE 4. Liga Gr. 5 Thalwil III vs Dübendorf-Volketswil III (0)
UID:467401f2-9bdd-4826-a88f-717932caa3a9
STATUS:CONFIRMED
LAST-MODIFIED:20250829T143526Z
DESCRIPTION:4. Liga Herren Gruppe 5\nBegegnungs-Nr: 0\nHeim: Thalwil III\nGast: Dübendorf-Volketswil III\n\nAdresse: Langweg 2\, 8942 Oberrieden\n
LOCATION:Langweg 2\, 8942 Oberrieden
CATEGORIES:Saison 2025/26
END:VEVENT
BEGIN:VEVENT
DTSTAMP:20260424T135746Z
DTSTART;TZID=Europe/Berlin:20250918T194500
DTEND;TZID=Europe/Berlin:20250918T224500
SUMMARY:HE 4. Liga Gr. 5 Thalwil III vs Young Stars ZH VII (0)
UID:43977074-f9c4-4d83-b75f-486282cc4270
STATUS:CONFIRMED
LAST-MODIFIED:20250926T131332Z
DESCRIPTION:4. Liga Herren Gruppe 5\nBegegnungs-Nr: 0\nHeim: Thalwil III\nGast: Young Stars ZH VII\n\nAdresse: Langweg 2\, 8942 Oberrieden\n
LOCATION:Langweg 2\, 8942 Oberrieden
CATEGORIES:Saison 2025/26
END:VEVENT
BEGIN:VEVENT
DTSTAMP:20260424T135746Z
DTSTART;TZID=Europe/Berlin:20251106T194500
DTEND;TZID=Europe/Berlin:20251106T224500
SUMMARY:HE 4. Liga Gr. 5 Thalwil III vs Höngg II (0)
UID:beb4799e-d976-4608-9294-fbab81f26c60
STATUS:CONFIRMED
LAST-MODIFIED:20251107T144922Z
DESCRIPTION:4. Liga Herren Gruppe 5\nBegegnungs-Nr: 0\nHeim: Thalwil III\nGast: Höngg II\n\nAdresse: Langweg 2\, 8942 Oberrieden\n
LOCATION:Langweg 2\, 8942 Oberrieden
CATEGORIES:Saison 2025/26
END:VEVENT
BEGIN:VEVENT
DTSTAMP:20260424T135746Z
DTSTART;TZID=Europe/Berlin:20260108T194500
DTEND;TZID=Europe/Berlin:20260108T224500
SUMMARY:HE 4. Liga Gr. 5 Dübendorf-Volketswil III vs Thalwil III (0)
UID:147347db-a298-4c13-bd36-eb7fe7835cf2
STATUS:CONFIRMED
LAST-MODIFIED:20260109T075211Z
DESCRIPTION:4. Liga Herren Gruppe 5\nBegegnungs-Nr: 0\nHeim: Dübendorf-Volketswil III\nGast: Thalwil III\n\nAdresse: Wasserfurrenstrasse 7\, 8600 Dübendorf\n
LOCATION:Wasserfurrenstrasse 7\, 8600 Dübendorf
CATEGORIES:Saison 2025/26
END:VEVENT
BEGIN:VEVENT
DTSTAMP:20260424T135746Z
DTSTART;TZID=Europe/Berlin:20260130T200000
DTEND;TZID=Europe/Berlin:20260130T230000
SUMMARY:HE 4. Liga Gr. 5 Young Stars ZH VII vs Thalwil III (0)
UID:7da2c661-66bc-45e1-9461-c3dbc59253f2
STATUS:CONFIRMED
LAST-MODIFIED:20260203T142450Z
DESCRIPTION:4. Liga Herren Gruppe 5\nBegegnungs-Nr: 0\nHeim: Young Stars ZH VII\nGast: Thalwil III\n\nAdresse: Balgriststrasse 55\, 8008 Zürich\n
LOCATION:Balgriststrasse 55\, 8008 Zürich
CATEGORIES:Saison 2025/26
END:VEVENT
BEGIN:VEVENT
DTSTAMP:20260424T135746Z
DTSTART;TZID=Europe/Berlin:20260309T200000
DTEND;TZID=Europe/Berlin:20260309T230000
SUMMARY:HE 4. Liga Gr. 5 Höngg II vs Thalwil III (0)
UID:9ccd31c7-7e2c-4b5c-998e-69288338ba20
STATUS:CONFIRMED
LAST-MODIFIED:20260313T130953Z
DESCRIPTION:4. Liga Herren Gruppe 5\nBegegnungs-Nr: 0\nHeim: Höngg II\nGast: Thalwil III\n\nAdresse: Bläsistrasse 2\, 8049 Zürich\n
LOCATION:Bläsistrasse 2\, 8049 Zürich
CATEGORIES:Saison 2025/26
END:VEVENT
BEGIN:VEVENT
DTSTAMP:20260424T135746Z
DTSTART;TZID=Europe/Berlin:20250903T194500
DTEND;TZID=Europe/Berlin:20250903T224500
SUMMARY:HE 4. Liga Gr. 5 Zürich-Affoltern VII vs Thalwil III (0)
UID:5c7e0302-0938-4248-b4d7-b799750e9796
STATUS:CONFIRMED
LAST-MODIFIED:20250905T124103Z
DESCRIPTION:4. Liga Herren Gruppe 5\nBegegnungs-Nr: 0\nHeim: Zürich-Affoltern VII\nGast: Thalwil III\n\nAdresse: Fronwaldstr.115\, 8046 Zürich\n
LOCATION:Fronwaldstr.115\, 8046 Zürich
CATEGORIES:Saison 2025/26
END:VEVENT
BEGIN:VEVENT
DTSTAMP:20260424T135746Z
DTSTART;TZID=Europe/Berlin:20250930T194500
DTEND;TZID=Europe/Berlin:20250930T224500
SUMMARY:HE 4. Liga Gr. 5 Meilen-Männedorf II vs Thalwil III (0)
UID:a9b1f0d6-8454-4985-8ed3-0d8450182d53
STATUS:CONFIRMED
LAST-MODIFIED:20251001T120141Z
DESCRIPTION:4. Liga Herren Gruppe 5\nBegegnungs-Nr: 0\nHeim: Meilen-Männedorf II\nGast: Thalwil III\n\nAdresse: Schulhausstr. 27\, 8706 Meilen\n
LOCATION:Schulhausstr. 27\, 8706 Meilen
CATEGORIES:Saison 2025/26
END:VEVENT
BEGIN:VEVENT
DTSTAMP:20260424T135746Z
DTSTART;TZID=Europe/Berlin:20251112T200000
DTEND;TZID=Europe/Berlin:20251112T230000
SUMMARY:HE 4. Liga Gr. 5 BW-Wollishofen III vs Thalwil III (0)
UID:2b9fc503-b561-47b2-868a-e9a90da3756a
STATUS:CONFIRMED
LAST-MODIFIED:20251114T142216Z
DESCRIPTION:4. Liga Herren Gruppe 5\nBegegnungs-Nr: 0\nHeim: BW-Wollishofen III\nGast: Thalwil III\n\nAdresse: Kilchbergstr. 28\, 8038 Zürich\n
LOCATION:Kilchbergstr. 28\, 8038 Zürich
CATEGORIES:Saison 2025/26
END:VEVENT
BEGIN:VEVENT
DTSTAMP:20260424T135746Z
DTSTART;TZID=Europe/Berlin:20251204T200000
DTEND;TZID=Europe/Berlin:20251204T230000
SUMMARY:HE 4. Liga Gr. 5 Pinguin Zürich III vs Thalwil III (0)
UID:bc1d1b43-74f9-497b-8d87-43bb2cdfe334
STATUS:CONFIRMED
LAST-MODIFIED:20251210T085011Z
DESCRIPTION:4. Liga Herren Gruppe 5\nBegegnungs-Nr: 0\nHeim: Pinguin Zürich III\nGast: Thalwil III\n\nAdresse: Grindelstrasse 20\, 8303 Bassersdorf\n
LOCATION:Grindelstrasse 20\, 8303 Bassersdorf
CATEGORIES:Saison 2025/26
END:VEVENT
END:VCALENDAR
