BEGIN:VCALENDAR
PRODID:-//nuDatenautomaten//framework iCal4j //DE
VERSION:2.0
CALSCALE:GREGORIAN
BEGIN:VTIMEZONE
TZID:Europe/Berlin
LAST-MODIFIED:20260306T231828Z
TZURL:https://www.tzurl.org/zoneinfo/Europe/Berlin
X-LIC-LOCATION:Europe/Berlin
X-PROLEPTIC-TZNAME:LMT
BEGIN:STANDARD
TZNAME:CET
TZOFFSETFROM:+005328
TZOFFSETTO:+0100
DTSTART:18930401T000000
END:STANDARD
BEGIN:DAYLIGHT
TZNAME:CEST
TZOFFSETFROM:+0100
TZOFFSETTO:+0200
DTSTART:19160430T230000
RDATE:19400401T020000
RDATE:19430329T020000
RDATE:19460414T020000
RDATE:19470406T030000
RDATE:19480418T020000
RDATE:19490410T020000
RDATE:19800406T020000
END:DAYLIGHT
BEGIN:STANDARD
TZNAME:CET
TZOFFSETFROM:+0200
TZOFFSETTO:+0100
DTSTART:19161001T010000
RDATE:19421102T030000
RDATE:19431004T030000
RDATE:19441002T030000
RDATE:19451118T030000
RDATE:19461007T030000
END:STANDARD
BEGIN:DAYLIGHT
TZNAME:CEST
TZOFFSETFROM:+0100
TZOFFSETTO:+0200
DTSTART:19170416T020000
RRULE:FREQ=YEARLY;UNTIL=19180415T010000Z;BYMONTH=4;BYDAY=3MO
END:DAYLIGHT
BEGIN:STANDARD
TZNAME:CET
TZOFFSETFROM:+0200
TZOFFSETTO:+0100
DTSTART:19170917T030000
RRULE:FREQ=YEARLY;UNTIL=19180916T010000Z;BYMONTH=9;BYDAY=3MO
END:STANDARD
BEGIN:DAYLIGHT
TZNAME:CEST
TZOFFSETFROM:+0100
TZOFFSETTO:+0200
DTSTART:19440403T020000
RRULE:FREQ=YEARLY;UNTIL=19450402T010000Z;BYMONTH=4;BYDAY=1MO
END:DAYLIGHT
BEGIN:DAYLIGHT
TZNAME:CEMT
TZOFFSETFROM:+0200
TZOFFSETTO:+0300
DTSTART:19450524T020000
RDATE:19470511T030000
END:DAYLIGHT
BEGIN:DAYLIGHT
TZNAME:CEST
TZOFFSETFROM:+0300
TZOFFSETTO:+0200
DTSTART:19450924T030000
RDATE:19470629T030000
END:DAYLIGHT
BEGIN:STANDARD
TZNAME:CET
TZOFFSETFROM:+0100
TZOFFSETTO:+0100
DTSTART:19460101T000000
RDATE:19800101T000000
END:STANDARD
BEGIN:STANDARD
TZNAME:CET
TZOFFSETFROM:+0200
TZOFFSETTO:+0100
DTSTART:19471005T030000
RRULE:FREQ=YEARLY;UNTIL=19491002T010000Z;BYMONTH=10;BYDAY=1SU
END:STANDARD
BEGIN:STANDARD
TZNAME:CET
TZOFFSETFROM:+0200
TZOFFSETTO:+0100
DTSTART:19800928T030000
RRULE:FREQ=YEARLY;UNTIL=19950924T010000Z;BYMONTH=9;BYDAY=-1SU
END:STANDARD
BEGIN:DAYLIGHT
TZNAME:CEST
TZOFFSETFROM:+0100
TZOFFSETTO:+0200
DTSTART:19810329T020000
RRULE:FREQ=YEARLY;BYMONTH=3;BYDAY=-1SU
END:DAYLIGHT
BEGIN:STANDARD
TZNAME:CET
TZOFFSETFROM:+0200
TZOFFSETTO:+0100
DTSTART:19961027T030000
RRULE:FREQ=YEARLY;BYMONTH=10;BYDAY=-1SU
END:STANDARD
END:VTIMEZONE
BEGIN:VEVENT
DTSTAMP:20260424T135223Z
DTSTART;TZID=Europe/Berlin:20251212T193000
DTEND;TZID=Europe/Berlin:20251212T223000
SUMMARY:O40 1. Liga Baden-Wettingen vs Mellingen (0)
UID:26b6e76e-602c-4b54-a33c-c217c31ede87
STATUS:CONFIRMED
LAST-MODIFIED:20251216T122413Z
DESCRIPTION:1. Liga O40\nBegegnungs-Nr: 0\nHeim: Baden-Wettingen\nGast: Mellingen\n\nAdresse: Schulstrasse 14\, 5430 Wettingen\n
LOCATION:Schulstrasse 14\, 5430 Wettingen
CATEGORIES:Saison 2025/26
END:VEVENT
BEGIN:VEVENT
DTSTAMP:20260424T135223Z
DTSTART;TZID=Europe/Berlin:20251107T193000
DTEND;TZID=Europe/Berlin:20251107T223000
SUMMARY:O40 1. Liga Baden-Wettingen vs Aesch (0)
UID:ab134a4c-6c46-435a-a029-b5b6e8553654
STATUS:CONFIRMED
LAST-MODIFIED:20251114T140849Z
DESCRIPTION:1. Liga O40\nBegegnungs-Nr: 0\nHeim: Baden-Wettingen\nGast: Aesch\n\nAdresse: Schulstrasse 14\, 5430 Wettingen\n
LOCATION:Schulstrasse 14\, 5430 Wettingen
CATEGORIES:Saison 2025/26
END:VEVENT
BEGIN:VEVENT
DTSTAMP:20260424T135223Z
DTSTART;TZID=Europe/Berlin:20250922T193000
DTEND;TZID=Europe/Berlin:20250922T223000
SUMMARY:O40 1. Liga Baden-Wettingen vs Birrfeld (0)
UID:b065eae0-53c6-4733-b4e2-f14f672f0a3e
STATUS:CONFIRMED
LAST-MODIFIED:20250926T125314Z
DESCRIPTION:1. Liga O40\nBegegnungs-Nr: 0\nHeim: Baden-Wettingen\nGast: Birrfeld\n\nAdresse: Wiesenstrasse 32 (Parkhaus Schmiede Fabrikstrasse)\, 5400 Baden\n
LOCATION:Wiesenstrasse 32 (Parkhaus Schmiede Fabrikstrasse)\, 5400 Baden
CATEGORIES:Saison 2025/26
END:VEVENT
BEGIN:VEVENT
DTSTAMP:20260424T135223Z
DTSTART;TZID=Europe/Berlin:20250822T193000
DTEND;TZID=Europe/Berlin:20250822T223000
SUMMARY:O40 1. Liga Baden-Wettingen vs Schöftland (0)
UID:fc75de23-f6a1-4af6-af3f-5a72908e799c
STATUS:CONFIRMED
LAST-MODIFIED:20250825T070357Z
DESCRIPTION:1. Liga O40\nBegegnungs-Nr: 0\nHeim: Baden-Wettingen\nGast: Schöftland\n\nAdresse: Schulstrasse 14\, 5430 Wettingen\n
LOCATION:Schulstrasse 14\, 5430 Wettingen
CATEGORIES:Saison 2025/26
END:VEVENT
BEGIN:VEVENT
DTSTAMP:20260424T135223Z
DTSTART;TZID=Europe/Berlin:20260325T194500
DTEND;TZID=Europe/Berlin:20260325T224500
SUMMARY:O40 1. Liga Baden-Wettingen vs Olten (0)
UID:65110213-257a-4dd3-ae1c-68ef303216ca
STATUS:CONFIRMED
LAST-MODIFIED:20260416T095306Z
DESCRIPTION:1. Liga O40\nBegegnungs-Nr: 0\nHeim: Baden-Wettingen\nGast: Olten\n\nAdresse: Wiesenstrasse 32 (Parkhaus Schmiede Fabrikstrasse)\, 5400 Baden\n
LOCATION:Wiesenstrasse 32 (Parkhaus Schmiede Fabrikstrasse)\, 5400 Baden
CATEGORIES:Saison 2025/26
END:VEVENT
BEGIN:VEVENT
DTSTAMP:20260424T135223Z
DTSTART;TZID=Europe/Berlin:20260330T194500
DTEND;TZID=Europe/Berlin:20260330T224500
SUMMARY:O40 1. Liga Baden-Wettingen vs Gelterkinden (0)
UID:6b1c6f6f-5997-4a53-9831-df1402e2b23f
STATUS:CONFIRMED
LAST-MODIFIED:20260416T095337Z
DESCRIPTION:1. Liga O40\nBegegnungs-Nr: 0\nHeim: Baden-Wettingen\nGast: Gelterkinden\n\nAdresse: Wiesenstrasse 32 (Parkhaus Schmiede Fabrikstrasse)\, 5400 Baden\n
LOCATION:Wiesenstrasse 32 (Parkhaus Schmiede Fabrikstrasse)\, 5400 Baden
CATEGORIES:Saison 2025/26
END:VEVENT
BEGIN:VEVENT
DTSTAMP:20260424T135223Z
DTSTART;TZID=Europe/Berlin:20260116T193000
DTEND;TZID=Europe/Berlin:20260116T223000
SUMMARY:O40 1. Liga Baden-Wettingen vs Aarau (0)
UID:f9cc635d-33c1-4c89-9ec7-05ee7229f36c
STATUS:CONFIRMED
LAST-MODIFIED:20260123T082136Z
DESCRIPTION:1. Liga O40\nBegegnungs-Nr: 0\nHeim: Baden-Wettingen\nGast: Aarau\n\nAdresse: Schulstrasse 14\, 5430 Wettingen\n
LOCATION:Schulstrasse 14\, 5430 Wettingen
CATEGORIES:Saison 2025/26
END:VEVENT
BEGIN:VEVENT
DTSTAMP:20260424T135223Z
DTSTART;TZID=Europe/Berlin:20251121T200000
DTEND;TZID=Europe/Berlin:20251121T230000
SUMMARY:O40 1. Liga Olten vs Baden-Wettingen (0)
UID:f447f26e-cc9f-4bc7-b3ee-397f4b3af095
STATUS:CONFIRMED
LAST-MODIFIED:20251124T082807Z
DESCRIPTION:1. Liga O40\nBegegnungs-Nr: 0\nHeim: Olten\nGast: Baden-Wettingen\n\nAdresse: Stockackerstrasse 17\, 5013 Niedergösgen\n
LOCATION:Stockackerstrasse 17\, 5013 Niedergösgen
CATEGORIES:Saison 2025/26
END:VEVENT
BEGIN:VEVENT
DTSTAMP:20260424T135223Z
DTSTART;TZID=Europe/Berlin:20251013T201500
DTEND;TZID=Europe/Berlin:20251013T231500
SUMMARY:O40 1. Liga Gelterkinden vs Baden-Wettingen (0)
UID:36da5ee4-e2bc-4250-ae00-71fc1d16e9c4
STATUS:CONFIRMED
LAST-MODIFIED:20251016T145813Z
DESCRIPTION:1. Liga O40\nBegegnungs-Nr: 0\nHeim: Gelterkinden\nGast: Baden-Wettingen\n\nAdresse: Turnhallenstrasse 18\, 4460 Gelterkinden\n
LOCATION:Turnhallenstrasse 18\, 4460 Gelterkinden
CATEGORIES:Saison 2025/26
END:VEVENT
BEGIN:VEVENT
DTSTAMP:20260424T135223Z
DTSTART;TZID=Europe/Berlin:20250903T194500
DTEND;TZID=Europe/Berlin:20250903T224500
SUMMARY:O40 1. Liga Aarau vs Baden-Wettingen (0)
UID:b5c4e0c7-548e-422a-9114-eb82bfd81357
STATUS:CONFIRMED
LAST-MODIFIED:20250905T122018Z
DESCRIPTION:1. Liga O40\nBegegnungs-Nr: 0\nHeim: Aarau\nGast: Baden-Wettingen\n\nAdresse: Weltistrasse 20\, 5000 Aarau\n
LOCATION:Weltistrasse 20\, 5000 Aarau
CATEGORIES:Saison 2025/26
END:VEVENT
BEGIN:VEVENT
DTSTAMP:20260424T135223Z
DTSTART;TZID=Europe/Berlin:20260402T200000
DTEND;TZID=Europe/Berlin:20260402T230000
SUMMARY:O40 1. Liga Mellingen vs Baden-Wettingen (0)
UID:eee2f1a7-eea4-413f-bb77-dd0ab749eaa9
STATUS:CONFIRMED
LAST-MODIFIED:20260416T095346Z
DESCRIPTION:1. Liga O40\nBegegnungs-Nr: 0\nHeim: Mellingen\nGast: Baden-Wettingen\n\nAdresse: Bahnhofstrasse 22\, 5507 Mellingen\n
LOCATION:Bahnhofstrasse 22\, 5507 Mellingen
CATEGORIES:Saison 2025/26
END:VEVENT
BEGIN:VEVENT
DTSTAMP:20260424T135223Z
DTSTART;TZID=Europe/Berlin:20260306T193000
DTEND;TZID=Europe/Berlin:20260306T223000
SUMMARY:O40 1. Liga Aesch vs Baden-Wettingen (0)
UID:ef9ddad4-a5a2-499c-9b44-279f21a80d60
STATUS:CONFIRMED
LAST-MODIFIED:20260313T130013Z
DESCRIPTION:1. Liga O40\nBegegnungs-Nr: 0\nHeim: Aesch\nGast: Baden-Wettingen\n\nAdresse: Dornacherstrasse\, 4147 Aesch\n
LOCATION:Dornacherstrasse\, 4147 Aesch
CATEGORIES:Saison 2025/26
END:VEVENT
BEGIN:VEVENT
DTSTAMP:20260424T135223Z
DTSTART;TZID=Europe/Berlin:20260204T194500
DTEND;TZID=Europe/Berlin:20260204T224500
SUMMARY:O40 1. Liga Birrfeld vs Baden-Wettingen (0)
UID:aad54919-3768-4a58-96f2-7275e3fea7af
STATUS:CONFIRMED
LAST-MODIFIED:20260211T093905Z
DESCRIPTION:1. Liga O40\nBegegnungs-Nr: 0\nHeim: Birrfeld\nGast: Baden-Wettingen\n\nAdresse: Zentralstrasse 30\, 5242 Birr\n
LOCATION:Zentralstrasse 30\, 5242 Birr
CATEGORIES:Saison 2025/26
END:VEVENT
BEGIN:VEVENT
DTSTAMP:20260424T135223Z
DTSTART;TZID=Europe/Berlin:20251219T200000
DTEND;TZID=Europe/Berlin:20251219T230000
SUMMARY:O40 1. Liga Schöftland vs Baden-Wettingen (0)
UID:8023cd5d-3e91-430a-aa05-f78657d97e5e
STATUS:CONFIRMED
LAST-MODIFIED:20260130T084800Z
DESCRIPTION:1. Liga O40\nBegegnungs-Nr: 0\nHeim: Schöftland\nGast: Baden-Wettingen\n\nAdresse: Birkenweg\, 5040 Schöftland\n
LOCATION:Birkenweg\, 5040 Schöftland
CATEGORIES:Saison 2025/26
END:VEVENT
END:VCALENDAR
