BEGIN:VCALENDAR
PRODID:-//nuDatenautomaten//framework iCal4j //DE
VERSION:2.0
CALSCALE:GREGORIAN
BEGIN:VTIMEZONE
TZID:Europe/Berlin
LAST-MODIFIED:20260306T231828Z
TZURL:https://www.tzurl.org/zoneinfo/Europe/Berlin
X-LIC-LOCATION:Europe/Berlin
X-PROLEPTIC-TZNAME:LMT
BEGIN:STANDARD
TZNAME:CET
TZOFFSETFROM:+005328
TZOFFSETTO:+0100
DTSTART:18930401T000000
END:STANDARD
BEGIN:DAYLIGHT
TZNAME:CEST
TZOFFSETFROM:+0100
TZOFFSETTO:+0200
DTSTART:19160430T230000
RDATE:19400401T020000
RDATE:19430329T020000
RDATE:19460414T020000
RDATE:19470406T030000
RDATE:19480418T020000
RDATE:19490410T020000
RDATE:19800406T020000
END:DAYLIGHT
BEGIN:STANDARD
TZNAME:CET
TZOFFSETFROM:+0200
TZOFFSETTO:+0100
DTSTART:19161001T010000
RDATE:19421102T030000
RDATE:19431004T030000
RDATE:19441002T030000
RDATE:19451118T030000
RDATE:19461007T030000
END:STANDARD
BEGIN:DAYLIGHT
TZNAME:CEST
TZOFFSETFROM:+0100
TZOFFSETTO:+0200
DTSTART:19170416T020000
RRULE:FREQ=YEARLY;UNTIL=19180415T010000Z;BYMONTH=4;BYDAY=3MO
END:DAYLIGHT
BEGIN:STANDARD
TZNAME:CET
TZOFFSETFROM:+0200
TZOFFSETTO:+0100
DTSTART:19170917T030000
RRULE:FREQ=YEARLY;UNTIL=19180916T010000Z;BYMONTH=9;BYDAY=3MO
END:STANDARD
BEGIN:DAYLIGHT
TZNAME:CEST
TZOFFSETFROM:+0100
TZOFFSETTO:+0200
DTSTART:19440403T020000
RRULE:FREQ=YEARLY;UNTIL=19450402T010000Z;BYMONTH=4;BYDAY=1MO
END:DAYLIGHT
BEGIN:DAYLIGHT
TZNAME:CEMT
TZOFFSETFROM:+0200
TZOFFSETTO:+0300
DTSTART:19450524T020000
RDATE:19470511T030000
END:DAYLIGHT
BEGIN:DAYLIGHT
TZNAME:CEST
TZOFFSETFROM:+0300
TZOFFSETTO:+0200
DTSTART:19450924T030000
RDATE:19470629T030000
END:DAYLIGHT
BEGIN:STANDARD
TZNAME:CET
TZOFFSETFROM:+0100
TZOFFSETTO:+0100
DTSTART:19460101T000000
RDATE:19800101T000000
END:STANDARD
BEGIN:STANDARD
TZNAME:CET
TZOFFSETFROM:+0200
TZOFFSETTO:+0100
DTSTART:19471005T030000
RRULE:FREQ=YEARLY;UNTIL=19491002T010000Z;BYMONTH=10;BYDAY=1SU
END:STANDARD
BEGIN:STANDARD
TZNAME:CET
TZOFFSETFROM:+0200
TZOFFSETTO:+0100
DTSTART:19800928T030000
RRULE:FREQ=YEARLY;UNTIL=19950924T010000Z;BYMONTH=9;BYDAY=-1SU
END:STANDARD
BEGIN:DAYLIGHT
TZNAME:CEST
TZOFFSETFROM:+0100
TZOFFSETTO:+0200
DTSTART:19810329T020000
RRULE:FREQ=YEARLY;BYMONTH=3;BYDAY=-1SU
END:DAYLIGHT
BEGIN:STANDARD
TZNAME:CET
TZOFFSETFROM:+0200
TZOFFSETTO:+0100
DTSTART:19961027T030000
RRULE:FREQ=YEARLY;BYMONTH=10;BYDAY=-1SU
END:STANDARD
END:VTIMEZONE
BEGIN:VEVENT
DTSTAMP:20260424T115152Z
DTSTART;TZID=Europe/Berlin:20251030T200000
DTEND;TZID=Europe/Berlin:20251030T230000
SUMMARY:HE 5. Liga Gr. 5 Utzenstorf vs Erlach III (12)
UID:64cb3885-da47-4ed6-a6b5-297d0bd4ee4f
STATUS:CONFIRMED
LAST-MODIFIED:20251101T151015Z
DESCRIPTION:5. Liga Herren Gruppe 5\nBegegnungs-Nr: 12\nHeim: Utzenstorf\nGast: Erlach III\n\nAdresse: Gotthelfstrasse 15a\, 3427 Utzenstorf\n
LOCATION:Gotthelfstrasse 15a\, 3427 Utzenstorf
CATEGORIES:Saison 2025/26
END:VEVENT
BEGIN:VEVENT
DTSTAMP:20260424T115152Z
DTSTART;TZID=Europe/Berlin:20250911T200000
DTEND;TZID=Europe/Berlin:20250911T230000
SUMMARY:HE 5. Liga Gr. 5 Utzenstorf vs Port IX (5)
UID:efb213f2-2d47-4469-a7d4-3458346df0d6
STATUS:CONFIRMED
LAST-MODIFIED:20250918T140424Z
DESCRIPTION:5. Liga Herren Gruppe 5\nBegegnungs-Nr: 5\nHeim: Utzenstorf\nGast: Port IX\n\nAdresse: Gotthelfstrasse 15a\, 3427 Utzenstorf\n
LOCATION:Gotthelfstrasse 15a\, 3427 Utzenstorf
CATEGORIES:Saison 2025/26
END:VEVENT
BEGIN:VEVENT
DTSTAMP:20260424T115152Z
DTSTART;TZID=Europe/Berlin:20251127T200000
DTEND;TZID=Europe/Berlin:20251127T230000
SUMMARY:HE 5. Liga Gr. 5 Utzenstorf vs Burgdorf X (17)
UID:7e637bb3-3089-4863-a929-c012acd4c870
STATUS:CONFIRMED
LAST-MODIFIED:20251207T174556Z
DESCRIPTION:5. Liga Herren Gruppe 5\nBegegnungs-Nr: 17\nHeim: Utzenstorf\nGast: Burgdorf X\n\nAdresse: Gotthelfstrasse 15a\, 3427 Utzenstorf\n
LOCATION:Gotthelfstrasse 15a\, 3427 Utzenstorf
CATEGORIES:Saison 2025/26
END:VEVENT
BEGIN:VEVENT
DTSTAMP:20260424T115152Z
DTSTART;TZID=Europe/Berlin:20260326T200000
DTEND;TZID=Europe/Berlin:20260326T230000
SUMMARY:HE 5. Liga Gr. 5 Utzenstorf vs Solothurn VI (21)
UID:7d15b87a-2c71-44b7-ae68-67931ee944c8
STATUS:CONFIRMED
LAST-MODIFIED:20260409T122628Z
DESCRIPTION:5. Liga Herren Gruppe 5\nBegegnungs-Nr: 21\nHeim: Utzenstorf\nGast: Solothurn VI\n\nAdresse: Gotthelfstrasse 15a\, 3427 Utzenstorf\n
LOCATION:Gotthelfstrasse 15a\, 3427 Utzenstorf
CATEGORIES:Saison 2025/26
END:VEVENT
BEGIN:VEVENT
DTSTAMP:20260424T115152Z
DTSTART;TZID=Europe/Berlin:20260305T200000
DTEND;TZID=Europe/Berlin:20260305T230000
SUMMARY:HE 5. Liga Gr. 5 Utzenstorf vs Grenchen II (15)
UID:9cd2a70e-0bf2-49a3-8b10-28f7793b26d8
STATUS:CONFIRMED
LAST-MODIFIED:20260308T174225Z
DESCRIPTION:5. Liga Herren Gruppe 5\nBegegnungs-Nr: 15\nHeim: Utzenstorf\nGast: Grenchen II\n\nAdresse: Gotthelfstrasse 15a\, 3427 Utzenstorf\n
LOCATION:Gotthelfstrasse 15a\, 3427 Utzenstorf
CATEGORIES:Saison 2025/26
END:VEVENT
BEGIN:VEVENT
DTSTAMP:20260424T115152Z
DTSTART;TZID=Europe/Berlin:20260108T200000
DTEND;TZID=Europe/Berlin:20260108T230000
SUMMARY:HE 5. Liga Gr. 5 Utzenstorf vs Lyss VI (1)
UID:ffe720ad-30ac-47c4-847e-5849c9d4bcc3
STATUS:CONFIRMED
LAST-MODIFIED:20260125T002616Z
DESCRIPTION:5. Liga Herren Gruppe 5\nBegegnungs-Nr: 1\nHeim: Utzenstorf\nGast: Lyss VI\n\nAdresse: Gotthelfstrasse 15a\, 3427 Utzenstorf\n
LOCATION:Gotthelfstrasse 15a\, 3427 Utzenstorf
CATEGORIES:Saison 2025/26
END:VEVENT
BEGIN:VEVENT
DTSTAMP:20260424T115152Z
DTSTART;TZID=Europe/Berlin:20260515T000000
DTEND;TZID=Europe/Berlin:20260515T030000
SUMMARY:HE 5. Liga Final Gr. 1 Utzenstorf vs Steffisburg (3)
UID:2cfa5604-c435-4fde-ab5b-5f1e1db17e89
STATUS:CONFIRMED
DESCRIPTION:5. Liga Herren Final Gr. 1\nBegegnungs-Nr: 3\nHeim: Utzenstorf\nGast: Steffisburg\n
LOCATION:
CATEGORIES:Saison 2025/26
END:VEVENT
BEGIN:VEVENT
DTSTAMP:20260424T115152Z
DTSTART;TZID=Europe/Berlin:20251114T194500
DTEND;TZID=Europe/Berlin:20251114T224500
SUMMARY:HE 5. Liga Gr. 5 Grenchen II vs Utzenstorf (15)
UID:8fe3688d-8b26-42ff-8d19-8df1adc6d2cb
STATUS:CONFIRMED
LAST-MODIFIED:20251115T173556Z
DESCRIPTION:5. Liga Herren Gruppe 5\nBegegnungs-Nr: 15\nHeim: Grenchen II\nGast: Utzenstorf\n\nAdresse: Witmattstrasse\, 2540 Grenchen\n
LOCATION:Witmattstrasse\, 2540 Grenchen
CATEGORIES:Saison 2025/26
END:VEVENT
BEGIN:VEVENT
DTSTAMP:20260424T115152Z
DTSTART;TZID=Europe/Berlin:20250905T200000
DTEND;TZID=Europe/Berlin:20250905T230000
SUMMARY:HE 5. Liga Gr. 5 Lyss VI vs Utzenstorf (1)
UID:e4528de8-5415-4530-99bb-bbe298dc12d7
STATUS:CONFIRMED
LAST-MODIFIED:20250907T195241Z
DESCRIPTION:5. Liga Herren Gruppe 5\nBegegnungs-Nr: 1\nHeim: Lyss VI\nGast: Utzenstorf\n\nAdresse: Stegmattweg 15-17\, 3250 Lyss\n
LOCATION:Stegmattweg 15-17\, 3250 Lyss
CATEGORIES:Saison 2025/26
END:VEVENT
BEGIN:VEVENT
DTSTAMP:20260424T115152Z
DTSTART;TZID=Europe/Berlin:20251212T200000
DTEND;TZID=Europe/Berlin:20251212T230000
SUMMARY:HE 5. Liga Gr. 5 Solothurn VI vs Utzenstorf (21)
UID:bffebca4-f940-4b33-8fba-e1d674e93f9f
STATUS:CONFIRMED
LAST-MODIFIED:20251216T120957Z
DESCRIPTION:5. Liga Herren Gruppe 5\nBegegnungs-Nr: 21\nHeim: Solothurn VI\nGast: Utzenstorf\n\nAdresse: Untere Sternengasse 24\, 4500 Solothurn\n
LOCATION:Untere Sternengasse 24\, 4500 Solothurn
CATEGORIES:Saison 2025/26
END:VEVENT
BEGIN:VEVENT
DTSTAMP:20260424T115152Z
DTSTART;TZID=Europe/Berlin:20260313T193000
DTEND;TZID=Europe/Berlin:20260313T223000
SUMMARY:HE 5. Liga Gr. 5 Burgdorf X vs Utzenstorf (17)
UID:43d63aad-ae8c-4f55-85bc-a54d0ada4b9f
STATUS:CONFIRMED
LAST-MODIFIED:20260315T230448Z
DESCRIPTION:5. Liga Herren Gruppe 5\nBegegnungs-Nr: 17\nHeim: Burgdorf X\nGast: Utzenstorf\n\nAdresse: Pestalozzistrasse 69\, 3400 Burgdorf\n
LOCATION:Pestalozzistrasse 69\, 3400 Burgdorf
CATEGORIES:Saison 2025/26
END:VEVENT
BEGIN:VEVENT
DTSTAMP:20260424T115152Z
DTSTART;TZID=Europe/Berlin:20260228T131500
DTEND;TZID=Europe/Berlin:20260228T161500
SUMMARY:HE 5. Liga Gr. 5 Erlach III vs Utzenstorf (12)
UID:ca1caa57-45f2-4a9f-b911-21b0a782f68b
STATUS:CONFIRMED
LAST-MODIFIED:20260302T144931Z
DESCRIPTION:5. Liga Herren Gruppe 5\nBegegnungs-Nr: 12\nHeim: Erlach III\nGast: Utzenstorf\n\nAdresse: Vinelzstrasse 54 (24)\, 3235 Erlach\n
LOCATION:Vinelzstrasse 54 (24)\, 3235 Erlach
CATEGORIES:Saison 2025/26
END:VEVENT
BEGIN:VEVENT
DTSTAMP:20260424T115152Z
DTSTART;TZID=Europe/Berlin:20260123T194500
DTEND;TZID=Europe/Berlin:20260123T224500
SUMMARY:HE 5. Liga Gr. 5 Port IX vs Utzenstorf (5)
UID:94d98436-7aa3-40d3-be41-67cc006f65ad
STATUS:CONFIRMED
LAST-MODIFIED:20260125T002658Z
DESCRIPTION:5. Liga Herren Gruppe 5\nBegegnungs-Nr: 5\nHeim: Port IX\nGast: Utzenstorf\n\nAdresse: Allmendstrasse 23\, 2562 Port\n
LOCATION:Allmendstrasse 23\, 2562 Port
CATEGORIES:Saison 2025/26
END:VEVENT
BEGIN:VEVENT
DTSTAMP:20260424T115152Z
DTSTART;TZID=Europe/Berlin:20260515T000000
DTEND;TZID=Europe/Berlin:20260515T030000
SUMMARY:HE 5. Liga Final Gr. 1 Bern XI vs Utzenstorf (2)
UID:f908922f-159d-47d1-8e69-8dc73b745809
STATUS:CONFIRMED
DESCRIPTION:5. Liga Herren Final Gr. 1\nBegegnungs-Nr: 2\nHeim: Bern XI\nGast: Utzenstorf\n
LOCATION:
CATEGORIES:Saison 2025/26
END:VEVENT
END:VCALENDAR
