BEGIN:VCALENDAR
PRODID:-//nuDatenautomaten//framework iCal4j //DE
VERSION:2.0
CALSCALE:GREGORIAN
BEGIN:VTIMEZONE
TZID:Europe/Berlin
LAST-MODIFIED:20260306T231828Z
TZURL:https://www.tzurl.org/zoneinfo/Europe/Berlin
X-LIC-LOCATION:Europe/Berlin
X-PROLEPTIC-TZNAME:LMT
BEGIN:STANDARD
TZNAME:CET
TZOFFSETFROM:+005328
TZOFFSETTO:+0100
DTSTART:18930401T000000
END:STANDARD
BEGIN:DAYLIGHT
TZNAME:CEST
TZOFFSETFROM:+0100
TZOFFSETTO:+0200
DTSTART:19160430T230000
RDATE:19400401T020000
RDATE:19430329T020000
RDATE:19460414T020000
RDATE:19470406T030000
RDATE:19480418T020000
RDATE:19490410T020000
RDATE:19800406T020000
END:DAYLIGHT
BEGIN:STANDARD
TZNAME:CET
TZOFFSETFROM:+0200
TZOFFSETTO:+0100
DTSTART:19161001T010000
RDATE:19421102T030000
RDATE:19431004T030000
RDATE:19441002T030000
RDATE:19451118T030000
RDATE:19461007T030000
END:STANDARD
BEGIN:DAYLIGHT
TZNAME:CEST
TZOFFSETFROM:+0100
TZOFFSETTO:+0200
DTSTART:19170416T020000
RRULE:FREQ=YEARLY;UNTIL=19180415T010000Z;BYMONTH=4;BYDAY=3MO
END:DAYLIGHT
BEGIN:STANDARD
TZNAME:CET
TZOFFSETFROM:+0200
TZOFFSETTO:+0100
DTSTART:19170917T030000
RRULE:FREQ=YEARLY;UNTIL=19180916T010000Z;BYMONTH=9;BYDAY=3MO
END:STANDARD
BEGIN:DAYLIGHT
TZNAME:CEST
TZOFFSETFROM:+0100
TZOFFSETTO:+0200
DTSTART:19440403T020000
RRULE:FREQ=YEARLY;UNTIL=19450402T010000Z;BYMONTH=4;BYDAY=1MO
END:DAYLIGHT
BEGIN:DAYLIGHT
TZNAME:CEMT
TZOFFSETFROM:+0200
TZOFFSETTO:+0300
DTSTART:19450524T020000
RDATE:19470511T030000
END:DAYLIGHT
BEGIN:DAYLIGHT
TZNAME:CEST
TZOFFSETFROM:+0300
TZOFFSETTO:+0200
DTSTART:19450924T030000
RDATE:19470629T030000
END:DAYLIGHT
BEGIN:STANDARD
TZNAME:CET
TZOFFSETFROM:+0100
TZOFFSETTO:+0100
DTSTART:19460101T000000
RDATE:19800101T000000
END:STANDARD
BEGIN:STANDARD
TZNAME:CET
TZOFFSETFROM:+0200
TZOFFSETTO:+0100
DTSTART:19471005T030000
RRULE:FREQ=YEARLY;UNTIL=19491002T010000Z;BYMONTH=10;BYDAY=1SU
END:STANDARD
BEGIN:STANDARD
TZNAME:CET
TZOFFSETFROM:+0200
TZOFFSETTO:+0100
DTSTART:19800928T030000
RRULE:FREQ=YEARLY;UNTIL=19950924T010000Z;BYMONTH=9;BYDAY=-1SU
END:STANDARD
BEGIN:DAYLIGHT
TZNAME:CEST
TZOFFSETFROM:+0100
TZOFFSETTO:+0200
DTSTART:19810329T020000
RRULE:FREQ=YEARLY;BYMONTH=3;BYDAY=-1SU
END:DAYLIGHT
BEGIN:STANDARD
TZNAME:CET
TZOFFSETFROM:+0200
TZOFFSETTO:+0100
DTSTART:19961027T030000
RRULE:FREQ=YEARLY;BYMONTH=10;BYDAY=-1SU
END:STANDARD
END:VTIMEZONE
BEGIN:VEVENT
DTSTAMP:20260424T135852Z
DTSTART;TZID=Europe/Berlin:20260407T201500
DTEND;TZID=Europe/Berlin:20260407T231500
SUMMARY:O40 3. Liga Gr. 2 Dübendorf-Volketswil II vs Höngg (0)
UID:43a89266-bd91-4d69-a221-9d8d8f5aa425
STATUS:CONFIRMED
LAST-MODIFIED:20260416T104416Z
DESCRIPTION:3. Liga O40 Gruppe 2\nBegegnungs-Nr: 0\nHeim: Dübendorf-Volketswil II\nGast: Höngg\n\nAdresse: Dübendorfstrasse 46\, 8602 Wangen ZH\n
LOCATION:Dübendorfstrasse 46\, 8602 Wangen ZH
CATEGORIES:Saison 2025/26
END:VEVENT
BEGIN:VEVENT
DTSTAMP:20260424T135852Z
DTSTART;TZID=Europe/Berlin:20260217T201500
DTEND;TZID=Europe/Berlin:20260217T231500
SUMMARY:O40 3. Liga Gr. 2 Dübendorf-Volketswil II vs Zürich-Affoltern II (0)
UID:ad84b6ff-bec9-4933-affa-8be42c077dcb
STATUS:CONFIRMED
LAST-MODIFIED:20260225T112238Z
DESCRIPTION:3. Liga O40 Gruppe 2\nBegegnungs-Nr: 0\nHeim: Dübendorf-Volketswil II\nGast: Zürich-Affoltern II\n\nAdresse: Dübendorfstrasse 46\, 8602 Wangen ZH\n
LOCATION:Dübendorfstrasse 46\, 8602 Wangen ZH
CATEGORIES:Saison 2025/26
END:VEVENT
BEGIN:VEVENT
DTSTAMP:20260424T135852Z
DTSTART;TZID=Europe/Berlin:20260317T201500
DTEND;TZID=Europe/Berlin:20260317T231500
SUMMARY:O40 3. Liga Gr. 2 Dübendorf-Volketswil II vs Winterthur II (0)
UID:51689f5e-a554-4758-95c4-ced402b0ca9a
STATUS:CONFIRMED
LAST-MODIFIED:20260318T111339Z
DESCRIPTION:3. Liga O40 Gruppe 2\nBegegnungs-Nr: 0\nHeim: Dübendorf-Volketswil II\nGast: Winterthur II\n\nAdresse: Dübendorfstrasse 46\, 8602 Wangen ZH\n
LOCATION:Dübendorfstrasse 46\, 8602 Wangen ZH
CATEGORIES:Saison 2025/26
END:VEVENT
BEGIN:VEVENT
DTSTAMP:20260424T135852Z
DTSTART;TZID=Europe/Berlin:20251111T201500
DTEND;TZID=Europe/Berlin:20251111T231500
SUMMARY:O40 3. Liga Gr. 2 Dübendorf-Volketswil II vs Pinguin Zürich II (0)
UID:5675309f-fa34-4443-9b3b-a398d351cc31
STATUS:CONFIRMED
LAST-MODIFIED:20251114T142909Z
DESCRIPTION:3. Liga O40 Gruppe 2\nBegegnungs-Nr: 0\nHeim: Dübendorf-Volketswil II\nGast: Pinguin Zürich II\n\nAdresse: Dübendorfstrasse 46\, 8602 Wangen ZH\n
LOCATION:Dübendorfstrasse 46\, 8602 Wangen ZH
CATEGORIES:Saison 2025/26
END:VEVENT
BEGIN:VEVENT
DTSTAMP:20260424T135852Z
DTSTART;TZID=Europe/Berlin:20250812T201500
DTEND;TZID=Europe/Berlin:20250812T231500
SUMMARY:O40 3. Liga Gr. 2 Dübendorf-Volketswil II vs Dübendorf-Volketswil (0)
UID:e6898115-e50f-43fc-a1c7-58fe2f24e08d
STATUS:CONFIRMED
LAST-MODIFIED:20250819T130357Z
DESCRIPTION:3. Liga O40 Gruppe 2\nBegegnungs-Nr: 0\nHeim: Dübendorf-Volketswil II\nGast: Dübendorf-Volketswil\n\nAdresse: Dübendorfstrasse 46\, 8602 Wangen ZH\n
LOCATION:Dübendorfstrasse 46\, 8602 Wangen ZH
CATEGORIES:Saison 2025/26
END:VEVENT
BEGIN:VEVENT
DTSTAMP:20260424T135852Z
DTSTART;TZID=Europe/Berlin:20251118T201500
DTEND;TZID=Europe/Berlin:20251118T231500
SUMMARY:O40 3. Liga Gr. 2 Dübendorf-Volketswil II vs Wolfhausen (0)
UID:fc929c76-2fba-431a-aadd-7c1db30d1109
STATUS:CONFIRMED
LAST-MODIFIED:20251121T095125Z
DESCRIPTION:3. Liga O40 Gruppe 2\nBegegnungs-Nr: 0\nHeim: Dübendorf-Volketswil II\nGast: Wolfhausen\n\nAdresse: Dübendorfstrasse 46\, 8602 Wangen ZH\n
LOCATION:Dübendorfstrasse 46\, 8602 Wangen ZH
CATEGORIES:Saison 2025/26
END:VEVENT
BEGIN:VEVENT
DTSTAMP:20260424T135852Z
DTSTART;TZID=Europe/Berlin:20260115T200000
DTEND;TZID=Europe/Berlin:20260115T230000
SUMMARY:O40 3. Liga Gr. 2 Pinguin Zürich II vs Dübendorf-Volketswil II (0)
UID:06f19872-1a0d-476b-9467-d7c78a165107
STATUS:CONFIRMED
LAST-MODIFIED:20260119T091835Z
DESCRIPTION:3. Liga O40 Gruppe 2\nBegegnungs-Nr: 0\nHeim: Pinguin Zürich II\nGast: Dübendorf-Volketswil II\n\nAdresse: Grindelstrasse 20\, 8303 Bassersdorf\n
LOCATION:Grindelstrasse 20\, 8303 Bassersdorf
CATEGORIES:Saison 2025/26
END:VEVENT
BEGIN:VEVENT
DTSTAMP:20260424T135852Z
DTSTART;TZID=Europe/Berlin:20260106T201500
DTEND;TZID=Europe/Berlin:20260106T231500
SUMMARY:O40 3. Liga Gr. 2 Dübendorf-Volketswil vs Dübendorf-Volketswil II (0)
UID:3403421c-6f24-4e64-bd97-3db73102b44d
STATUS:CONFIRMED
LAST-MODIFIED:20260109T080640Z
DESCRIPTION:3. Liga O40 Gruppe 2\nBegegnungs-Nr: 0\nHeim: Dübendorf-Volketswil\nGast: Dübendorf-Volketswil II\n\nAdresse: Dübendorfstrasse 46\, 8602 Wangen ZH\n
LOCATION:Dübendorfstrasse 46\, 8602 Wangen ZH
CATEGORIES:Saison 2025/26
END:VEVENT
BEGIN:VEVENT
DTSTAMP:20260424T135852Z
DTSTART;TZID=Europe/Berlin:20260330T200000
DTEND;TZID=Europe/Berlin:20260330T230000
SUMMARY:O40 3. Liga Gr. 2 Wolfhausen vs Dübendorf-Volketswil II (0)
UID:b9b76c2e-dc6a-4938-bef7-f6638c67c37c
STATUS:CONFIRMED
LAST-MODIFIED:20260401T133155Z
DESCRIPTION:3. Liga O40 Gruppe 2\nBegegnungs-Nr: 0\nHeim: Wolfhausen\nGast: Dübendorf-Volketswil II\n\nAdresse: Schulstrasse 9\, 8633 Wolfhausen\n
LOCATION:Schulstrasse 9\, 8633 Wolfhausen
CATEGORIES:Saison 2025/26
END:VEVENT
BEGIN:VEVENT
DTSTAMP:20260424T135852Z
DTSTART;TZID=Europe/Berlin:20251024T201500
DTEND;TZID=Europe/Berlin:20251024T231500
SUMMARY:O40 3. Liga Gr. 2 Winterthur II vs Dübendorf-Volketswil II (0)
UID:30b60430-c10c-4530-afb5-f203ee84903d
STATUS:CONFIRMED
LAST-MODIFIED:20251031T144824Z
DESCRIPTION:3. Liga O40 Gruppe 2\nBegegnungs-Nr: 0\nHeim: Winterthur II\nGast: Dübendorf-Volketswil II\n\nAdresse: Buchackerstrasse 54\, 8400 Winterthur\n
LOCATION:Buchackerstrasse 54\, 8400 Winterthur
CATEGORIES:Saison 2025/26
END:VEVENT
BEGIN:VEVENT
DTSTAMP:20260424T135852Z
DTSTART;TZID=Europe/Berlin:20251124T200000
DTEND;TZID=Europe/Berlin:20251124T230000
SUMMARY:O40 3. Liga Gr. 2 Höngg vs Dübendorf-Volketswil II (0)
UID:bfbbf9d4-62e0-4f4c-b16f-b4e59cd01dcd
STATUS:CONFIRMED
LAST-MODIFIED:20251128T134523Z
DESCRIPTION:3. Liga O40 Gruppe 2\nBegegnungs-Nr: 0\nHeim: Höngg\nGast: Dübendorf-Volketswil II\n\nAdresse: Bläsistrasse 2\, 8049 Zürich\n
LOCATION:Bläsistrasse 2\, 8049 Zürich
CATEGORIES:Saison 2025/26
END:VEVENT
BEGIN:VEVENT
DTSTAMP:20260424T135852Z
DTSTART;TZID=Europe/Berlin:20251217T194500
DTEND;TZID=Europe/Berlin:20251217T224500
SUMMARY:O40 3. Liga Gr. 2 Zürich-Affoltern II vs Dübendorf-Volketswil II (0)
UID:778841b7-6c29-4b8b-ac41-ec532acd7e4a
STATUS:CONFIRMED
LAST-MODIFIED:20251218T091307Z
DESCRIPTION:3. Liga O40 Gruppe 2\nBegegnungs-Nr: 0\nHeim: Zürich-Affoltern II\nGast: Dübendorf-Volketswil II\n\nAdresse: Fronwaldstr.115\, 8046 Zürich\n
LOCATION:Fronwaldstr.115\, 8046 Zürich
CATEGORIES:Saison 2025/26
END:VEVENT
END:VCALENDAR
