BEGIN:VCALENDAR
PRODID:-//nuDatenautomaten//framework iCal4j //DE
VERSION:2.0
CALSCALE:GREGORIAN
BEGIN:VTIMEZONE
TZID:Europe/Berlin
LAST-MODIFIED:20260306T231828Z
TZURL:https://www.tzurl.org/zoneinfo/Europe/Berlin
X-LIC-LOCATION:Europe/Berlin
X-PROLEPTIC-TZNAME:LMT
BEGIN:STANDARD
TZNAME:CET
TZOFFSETFROM:+005328
TZOFFSETTO:+0100
DTSTART:18930401T000000
END:STANDARD
BEGIN:DAYLIGHT
TZNAME:CEST
TZOFFSETFROM:+0100
TZOFFSETTO:+0200
DTSTART:19160430T230000
RDATE:19400401T020000
RDATE:19430329T020000
RDATE:19460414T020000
RDATE:19470406T030000
RDATE:19480418T020000
RDATE:19490410T020000
RDATE:19800406T020000
END:DAYLIGHT
BEGIN:STANDARD
TZNAME:CET
TZOFFSETFROM:+0200
TZOFFSETTO:+0100
DTSTART:19161001T010000
RDATE:19421102T030000
RDATE:19431004T030000
RDATE:19441002T030000
RDATE:19451118T030000
RDATE:19461007T030000
END:STANDARD
BEGIN:DAYLIGHT
TZNAME:CEST
TZOFFSETFROM:+0100
TZOFFSETTO:+0200
DTSTART:19170416T020000
RRULE:FREQ=YEARLY;UNTIL=19180415T010000Z;BYMONTH=4;BYDAY=3MO
END:DAYLIGHT
BEGIN:STANDARD
TZNAME:CET
TZOFFSETFROM:+0200
TZOFFSETTO:+0100
DTSTART:19170917T030000
RRULE:FREQ=YEARLY;UNTIL=19180916T010000Z;BYMONTH=9;BYDAY=3MO
END:STANDARD
BEGIN:DAYLIGHT
TZNAME:CEST
TZOFFSETFROM:+0100
TZOFFSETTO:+0200
DTSTART:19440403T020000
RRULE:FREQ=YEARLY;UNTIL=19450402T010000Z;BYMONTH=4;BYDAY=1MO
END:DAYLIGHT
BEGIN:DAYLIGHT
TZNAME:CEMT
TZOFFSETFROM:+0200
TZOFFSETTO:+0300
DTSTART:19450524T020000
RDATE:19470511T030000
END:DAYLIGHT
BEGIN:DAYLIGHT
TZNAME:CEST
TZOFFSETFROM:+0300
TZOFFSETTO:+0200
DTSTART:19450924T030000
RDATE:19470629T030000
END:DAYLIGHT
BEGIN:STANDARD
TZNAME:CET
TZOFFSETFROM:+0100
TZOFFSETTO:+0100
DTSTART:19460101T000000
RDATE:19800101T000000
END:STANDARD
BEGIN:STANDARD
TZNAME:CET
TZOFFSETFROM:+0200
TZOFFSETTO:+0100
DTSTART:19471005T030000
RRULE:FREQ=YEARLY;UNTIL=19491002T010000Z;BYMONTH=10;BYDAY=1SU
END:STANDARD
BEGIN:STANDARD
TZNAME:CET
TZOFFSETFROM:+0200
TZOFFSETTO:+0100
DTSTART:19800928T030000
RRULE:FREQ=YEARLY;UNTIL=19950924T010000Z;BYMONTH=9;BYDAY=-1SU
END:STANDARD
BEGIN:DAYLIGHT
TZNAME:CEST
TZOFFSETFROM:+0100
TZOFFSETTO:+0200
DTSTART:19810329T020000
RRULE:FREQ=YEARLY;BYMONTH=3;BYDAY=-1SU
END:DAYLIGHT
BEGIN:STANDARD
TZNAME:CET
TZOFFSETFROM:+0200
TZOFFSETTO:+0100
DTSTART:19961027T030000
RRULE:FREQ=YEARLY;BYMONTH=10;BYDAY=-1SU
END:STANDARD
END:VTIMEZONE
BEGIN:VEVENT
DTSTAMP:20260424T165358Z
DTSTART;TZID=Europe/Berlin:20251208T200000
DTEND;TZID=Europe/Berlin:20251208T230000
SUMMARY:HE 4. Liga Gr. 4 Grossaffoltern vs Grauholz II (27)
UID:85bdb256-847a-4f3d-a603-43ff93189a9c
STATUS:CONFIRMED
LAST-MODIFIED:20251216T120640Z
DESCRIPTION:4. Liga Herren Gruppe 4\nBegegnungs-Nr: 27\nHeim: Grossaffoltern\nGast: Grauholz II\n\nAdresse: Schulhausstrasse 5 \, 3257 Grossaffoltern\n
LOCATION:Schulhausstrasse 5 \, 3257 Grossaffoltern
CATEGORIES:Saison 2025/26
END:VEVENT
BEGIN:VEVENT
DTSTAMP:20260424T165358Z
DTSTART;TZID=Europe/Berlin:20251117T200000
DTEND;TZID=Europe/Berlin:20251117T230000
SUMMARY:HE 4. Liga Gr. 4 Grossaffoltern vs Burgdorf VII (19)
UID:0d962ed1-d3bb-48bd-a134-1a6c491fad9d
STATUS:CONFIRMED
LAST-MODIFIED:20251122T091048Z
DESCRIPTION:4. Liga Herren Gruppe 4\nBegegnungs-Nr: 19\nHeim: Grossaffoltern\nGast: Burgdorf VII\n\nAdresse: Schulhausstrasse 5 \, 3257 Grossaffoltern\n
LOCATION:Schulhausstrasse 5 \, 3257 Grossaffoltern
CATEGORIES:Saison 2025/26
END:VEVENT
BEGIN:VEVENT
DTSTAMP:20260424T165358Z
DTSTART;TZID=Europe/Berlin:20251027T200000
DTEND;TZID=Europe/Berlin:20251027T230000
SUMMARY:HE 4. Liga Gr. 4 Grossaffoltern vs Ittigen III (13)
UID:13bffa10-0841-44d9-b4a4-86c780a2e46b
STATUS:CONFIRMED
LAST-MODIFIED:20251029T221105Z
DESCRIPTION:4. Liga Herren Gruppe 4\nBegegnungs-Nr: 13\nHeim: Grossaffoltern\nGast: Ittigen III\n\nAdresse: Schulhausstrasse 5 \, 3257 Grossaffoltern\n
LOCATION:Schulhausstrasse 5 \, 3257 Grossaffoltern
CATEGORIES:Saison 2025/26
END:VEVENT
BEGIN:VEVENT
DTSTAMP:20260424T165358Z
DTSTART;TZID=Europe/Berlin:20250908T200000
DTEND;TZID=Europe/Berlin:20250908T230000
SUMMARY:HE 4. Liga Gr. 4 Grossaffoltern vs Bern IX (7)
UID:878ba3fd-a327-46b3-83be-be65a0eab85f
STATUS:CONFIRMED
LAST-MODIFIED:20250918T140710Z
DESCRIPTION:4. Liga Herren Gruppe 4\nBegegnungs-Nr: 7\nHeim: Grossaffoltern\nGast: Bern IX\n\nAdresse: Schulhausstrasse 5 \, 3257 Grossaffoltern\n
LOCATION:Schulhausstrasse 5 \, 3257 Grossaffoltern
CATEGORIES:Saison 2025/26
END:VEVENT
BEGIN:VEVENT
DTSTAMP:20260424T165358Z
DTSTART;TZID=Europe/Berlin:20260316T200000
DTEND;TZID=Europe/Berlin:20260316T230000
SUMMARY:HE 4. Liga Gr. 4 Grossaffoltern vs Münchenbuchsee III (23)
UID:518ad4db-7635-4cd0-a4e7-b4320a2be114
STATUS:CONFIRMED
LAST-MODIFIED:20260327T143546Z
DESCRIPTION:4. Liga Herren Gruppe 4\nBegegnungs-Nr: 23\nHeim: Grossaffoltern\nGast: Münchenbuchsee III\n\nAdresse: Schulhausstrasse 5 \, 3257 Grossaffoltern\n
LOCATION:Schulhausstrasse 5 \, 3257 Grossaffoltern
CATEGORIES:Saison 2025/26
END:VEVENT
BEGIN:VEVENT
DTSTAMP:20260424T165358Z
DTSTART;TZID=Europe/Berlin:20260330T200000
DTEND;TZID=Europe/Berlin:20260330T230000
SUMMARY:HE 4. Liga Gr. 4 Grossaffoltern vs Burgdorf VII (19)
UID:4d7c3970-90c9-49b8-b145-4bc8cd4da6d1
STATUS:CONFIRMED
LAST-MODIFIED:20260409T123026Z
DESCRIPTION:4. Liga Herren Gruppe 4\nBegegnungs-Nr: 19\nHeim: Grossaffoltern\nGast: Burgdorf VII\n\nAdresse: Schulhausstrasse 5 \, 3257 Grossaffoltern\n
LOCATION:Schulhausstrasse 5 \, 3257 Grossaffoltern
CATEGORIES:Saison 2025/26
END:VEVENT
BEGIN:VEVENT
DTSTAMP:20260424T165358Z
DTSTART;TZID=Europe/Berlin:20260209T200000
DTEND;TZID=Europe/Berlin:20260209T230000
SUMMARY:HE 4. Liga Gr. 4 Grossaffoltern vs Köniz II (12)
UID:0c5009bd-e010-493c-85b1-544e9c3ca85c
STATUS:CONFIRMED
LAST-MODIFIED:20260217T213420Z
DESCRIPTION:4. Liga Herren Gruppe 4\nBegegnungs-Nr: 12\nHeim: Grossaffoltern\nGast: Köniz II\n\nAdresse: Schulhausstrasse 5 \, 3257 Grossaffoltern\n
LOCATION:Schulhausstrasse 5 \, 3257 Grossaffoltern
CATEGORIES:Saison 2025/26
END:VEVENT
BEGIN:VEVENT
DTSTAMP:20260424T165358Z
DTSTART;TZID=Europe/Berlin:20260126T200000
DTEND;TZID=Europe/Berlin:20260126T230000
SUMMARY:HE 4. Liga Gr. 4 Grossaffoltern vs Regio Moossee II (2)
UID:52a64ce8-a81c-49dd-934b-7f31c2fff659
STATUS:CONFIRMED
LAST-MODIFIED:20260217T213350Z
DESCRIPTION:4. Liga Herren Gruppe 4\nBegegnungs-Nr: 2\nHeim: Grossaffoltern\nGast: Regio Moossee II\n\nAdresse: Schulhausstrasse 5 \, 3257 Grossaffoltern\n
LOCATION:Schulhausstrasse 5 \, 3257 Grossaffoltern
CATEGORIES:Saison 2025/26
END:VEVENT
BEGIN:VEVENT
DTSTAMP:20260424T165358Z
DTSTART;TZID=Europe/Berlin:20251126T200000
DTEND;TZID=Europe/Berlin:20251126T230000
SUMMARY:HE 4. Liga Gr. 4 Münchenbuchsee III vs Grossaffoltern (23)
UID:2332ac44-7cd5-4480-bea6-2be2a1872c39
STATUS:CONFIRMED
LAST-MODIFIED:20251207T173057Z
DESCRIPTION:4. Liga Herren Gruppe 4\nBegegnungs-Nr: 23\nHeim: Münchenbuchsee III\nGast: Grossaffoltern\n\nAdresse: Laubbergweg 41\, 3053 Münchenbuchsee\n
LOCATION:Laubbergweg 41\, 3053 Münchenbuchsee
CATEGORIES:Saison 2025/26
END:VEVENT
BEGIN:VEVENT
DTSTAMP:20260424T165358Z
DTSTART;TZID=Europe/Berlin:20250902T194500
DTEND;TZID=Europe/Berlin:20250902T224500
SUMMARY:HE 4. Liga Gr. 4 Regio Moossee II vs Grossaffoltern (2)
UID:1edbfde7-f21a-4a8e-b26d-f4caa3aad351
STATUS:CONFIRMED
LAST-MODIFIED:20250907T195742Z
DESCRIPTION:4. Liga Herren Gruppe 4\nBegegnungs-Nr: 2\nHeim: Regio Moossee II\nGast: Grossaffoltern\n\nAdresse: Schulhausstrasse 23-25\, 3302 Moosseedorf\n
LOCATION:Schulhausstrasse 23-25\, 3302 Moosseedorf
CATEGORIES:Saison 2025/26
END:VEVENT
BEGIN:VEVENT
DTSTAMP:20260424T165358Z
DTSTART;TZID=Europe/Berlin:20251020T200000
DTEND;TZID=Europe/Berlin:20251020T230000
SUMMARY:HE 4. Liga Gr. 4 Köniz II vs Grossaffoltern (12)
UID:1d2f2876-a7c7-484b-a556-1bc960be2550
STATUS:CONFIRMED
LAST-MODIFIED:20251029T221056Z
DESCRIPTION:4. Liga Herren Gruppe 4\nBegegnungs-Nr: 12\nHeim: Köniz II\nGast: Grossaffoltern\n\nAdresse: Kirchstrasse 72-76\, 3084 Wabern\n
LOCATION:Kirchstrasse 72-76\, 3084 Wabern
CATEGORIES:Saison 2025/26
END:VEVENT
BEGIN:VEVENT
DTSTAMP:20260424T165358Z
DTSTART;TZID=Europe/Berlin:20260327T200000
DTEND;TZID=Europe/Berlin:20260327T230000
SUMMARY:HE 4. Liga Gr. 4 Grauholz II vs Grossaffoltern (27)
UID:4382734e-891d-4773-8e69-26453616de83
STATUS:CONFIRMED
LAST-MODIFIED:20260409T123019Z
DESCRIPTION:4. Liga Herren Gruppe 4\nBegegnungs-Nr: 27\nHeim: Grauholz II\nGast: Grossaffoltern\n\nAdresse: Schulhausweg 8\, 3324 Hindelbank\n
LOCATION:Schulhausweg 8\, 3324 Hindelbank
CATEGORIES:Saison 2025/26
END:VEVENT
BEGIN:VEVENT
DTSTAMP:20260424T165358Z
DTSTART;TZID=Europe/Berlin:20260223T194500
DTEND;TZID=Europe/Berlin:20260223T224500
SUMMARY:HE 4. Liga Gr. 4 Ittigen III vs Grossaffoltern (13)
UID:60c547f1-a327-4e50-a459-e565f1606fc5
STATUS:CONFIRMED
LAST-MODIFIED:20260224T075439Z
DESCRIPTION:4. Liga Herren Gruppe 4\nBegegnungs-Nr: 13\nHeim: Ittigen III\nGast: Grossaffoltern\n\nAdresse: Fischrainweg 17\, 3048 Worblaufen\n
LOCATION:Fischrainweg 17\, 3048 Worblaufen
CATEGORIES:Saison 2025/26
END:VEVENT
BEGIN:VEVENT
DTSTAMP:20260424T165358Z
DTSTART;TZID=Europe/Berlin:20260121T193000
DTEND;TZID=Europe/Berlin:20260121T223000
SUMMARY:HE 4. Liga Gr. 4 Bern IX vs Grossaffoltern (7)
UID:fc0b7a42-4af2-4af2-8208-74d9bd419862
STATUS:CONFIRMED
LAST-MODIFIED:20260125T001916Z
DESCRIPTION:4. Liga Herren Gruppe 4\nBegegnungs-Nr: 7\nHeim: Bern IX\nGast: Grossaffoltern\n\nAdresse: Papiermühlestrasse 81\, 3014 Bern\n
LOCATION:Papiermühlestrasse 81\, 3014 Bern
CATEGORIES:Saison 2025/26
END:VEVENT
END:VCALENDAR
