BEGIN:VCALENDAR
PRODID:-//nuDatenautomaten//framework iCal4j //DE
VERSION:2.0
CALSCALE:GREGORIAN
BEGIN:VTIMEZONE
TZID:Europe/Berlin
LAST-MODIFIED:20260306T231828Z
TZURL:https://www.tzurl.org/zoneinfo/Europe/Berlin
X-LIC-LOCATION:Europe/Berlin
X-PROLEPTIC-TZNAME:LMT
BEGIN:STANDARD
TZNAME:CET
TZOFFSETFROM:+005328
TZOFFSETTO:+0100
DTSTART:18930401T000000
END:STANDARD
BEGIN:DAYLIGHT
TZNAME:CEST
TZOFFSETFROM:+0100
TZOFFSETTO:+0200
DTSTART:19160430T230000
RDATE:19400401T020000
RDATE:19430329T020000
RDATE:19460414T020000
RDATE:19470406T030000
RDATE:19480418T020000
RDATE:19490410T020000
RDATE:19800406T020000
END:DAYLIGHT
BEGIN:STANDARD
TZNAME:CET
TZOFFSETFROM:+0200
TZOFFSETTO:+0100
DTSTART:19161001T010000
RDATE:19421102T030000
RDATE:19431004T030000
RDATE:19441002T030000
RDATE:19451118T030000
RDATE:19461007T030000
END:STANDARD
BEGIN:DAYLIGHT
TZNAME:CEST
TZOFFSETFROM:+0100
TZOFFSETTO:+0200
DTSTART:19170416T020000
RRULE:FREQ=YEARLY;UNTIL=19180415T010000Z;BYMONTH=4;BYDAY=3MO
END:DAYLIGHT
BEGIN:STANDARD
TZNAME:CET
TZOFFSETFROM:+0200
TZOFFSETTO:+0100
DTSTART:19170917T030000
RRULE:FREQ=YEARLY;UNTIL=19180916T010000Z;BYMONTH=9;BYDAY=3MO
END:STANDARD
BEGIN:DAYLIGHT
TZNAME:CEST
TZOFFSETFROM:+0100
TZOFFSETTO:+0200
DTSTART:19440403T020000
RRULE:FREQ=YEARLY;UNTIL=19450402T010000Z;BYMONTH=4;BYDAY=1MO
END:DAYLIGHT
BEGIN:DAYLIGHT
TZNAME:CEMT
TZOFFSETFROM:+0200
TZOFFSETTO:+0300
DTSTART:19450524T020000
RDATE:19470511T030000
END:DAYLIGHT
BEGIN:DAYLIGHT
TZNAME:CEST
TZOFFSETFROM:+0300
TZOFFSETTO:+0200
DTSTART:19450924T030000
RDATE:19470629T030000
END:DAYLIGHT
BEGIN:STANDARD
TZNAME:CET
TZOFFSETFROM:+0100
TZOFFSETTO:+0100
DTSTART:19460101T000000
RDATE:19800101T000000
END:STANDARD
BEGIN:STANDARD
TZNAME:CET
TZOFFSETFROM:+0200
TZOFFSETTO:+0100
DTSTART:19471005T030000
RRULE:FREQ=YEARLY;UNTIL=19491002T010000Z;BYMONTH=10;BYDAY=1SU
END:STANDARD
BEGIN:STANDARD
TZNAME:CET
TZOFFSETFROM:+0200
TZOFFSETTO:+0100
DTSTART:19800928T030000
RRULE:FREQ=YEARLY;UNTIL=19950924T010000Z;BYMONTH=9;BYDAY=-1SU
END:STANDARD
BEGIN:DAYLIGHT
TZNAME:CEST
TZOFFSETFROM:+0100
TZOFFSETTO:+0200
DTSTART:19810329T020000
RRULE:FREQ=YEARLY;BYMONTH=3;BYDAY=-1SU
END:DAYLIGHT
BEGIN:STANDARD
TZNAME:CET
TZOFFSETFROM:+0200
TZOFFSETTO:+0100
DTSTART:19961027T030000
RRULE:FREQ=YEARLY;BYMONTH=10;BYDAY=-1SU
END:STANDARD
END:VTIMEZONE
BEGIN:VEVENT
DTSTAMP:20260424T114939Z
DTSTART;TZID=Europe/Berlin:20251115T150000
DTEND;TZID=Europe/Berlin:20251115T180000
SUMMARY:HE NLB Gr. 1 Silver Star vs Vevey (0)
UID:78077add-6b71-4c20-a6df-32311cfa7e8e
STATUS:CONFIRMED
LAST-MODIFIED:20251117T125307Z
DESCRIPTION:Herren Nationalliga B Gruppe 1\nBegegnungs-Nr: 0\nHeim: Silver Star\nGast: Vevey\n\nAdresse: Rue de Vermont 33\, 1202 Genève\n
LOCATION:Rue de Vermont 33\, 1202 Genève
CATEGORIES:Saison 2025/26
END:VEVENT
BEGIN:VEVENT
DTSTAMP:20260424T114939Z
DTSTART;TZID=Europe/Berlin:20251213T150000
DTEND;TZID=Europe/Berlin:20251213T180000
SUMMARY:HE NLB Gr. 1 Silver Star vs Heimberg (21)
UID:e7c36fbb-14a1-4263-aeb5-843e8bc691c6
STATUS:CONFIRMED
LAST-MODIFIED:20251216T062035Z
DESCRIPTION:Herren Nationalliga B Gruppe 1\nBegegnungs-Nr: 21\nHeim: Silver Star\nGast: Heimberg\n\nAdresse: Rue de Vermont 33\, 1202 Genève\n
LOCATION:Rue de Vermont 33\, 1202 Genève
CATEGORIES:Saison 2025/26
END:VEVENT
BEGIN:VEVENT
DTSTAMP:20260424T114939Z
DTSTART;TZID=Europe/Berlin:20250907T150000
DTEND;TZID=Europe/Berlin:20250907T180000
SUMMARY:HE NLB Gr. 1 Silver Star vs UGS-Chênois (1)
UID:bb9fc23a-c823-4c76-9efc-4a60c787f649
STATUS:CONFIRMED
LAST-MODIFIED:20250918T112207Z
DESCRIPTION:Herren Nationalliga B Gruppe 1\nBegegnungs-Nr: 1\nHeim: Silver Star\nGast: UGS-Chênois\n\nAdresse: Rue de Vermont 33\, 1202 Genève\n
LOCATION:Rue de Vermont 33\, 1202 Genève
CATEGORIES:Saison 2025/26
END:VEVENT
BEGIN:VEVENT
DTSTAMP:20260424T114939Z
DTSTART;TZID=Europe/Berlin:20251102T150000
DTEND;TZID=Europe/Berlin:20251102T180000
SUMMARY:HE NLB Gr. 1 Silver Star vs Vernier (14)
UID:3cbd43a7-d2b3-426f-b80f-b082a6321479
STATUS:CONFIRMED
LAST-MODIFIED:20251103T080106Z
DESCRIPTION:Herren Nationalliga B Gruppe 1\nBegegnungs-Nr: 14\nHeim: Silver Star\nGast: Vernier\n\nAdresse: Rue de Vermont 33\, 1202 Genève\n
LOCATION:Rue de Vermont 33\, 1202 Genève
CATEGORIES:Saison 2025/26
END:VEVENT
BEGIN:VEVENT
DTSTAMP:20260424T114939Z
DTSTART;TZID=Europe/Berlin:20251214T150000
DTEND;TZID=Europe/Berlin:20251214T180000
SUMMARY:HE NLB Gr. 1 Silver Star vs Bulle (25)
UID:09454034-26a9-435c-8696-91f28956ea9e
STATUS:CONFIRMED
LAST-MODIFIED:20251216T062232Z
DESCRIPTION:Herren Nationalliga B Gruppe 1\nBegegnungs-Nr: 25\nHeim: Silver Star\nGast: Bulle\n\nAdresse: Rue de Vermont 33\, 1202 Genève\n
LOCATION:Rue de Vermont 33\, 1202 Genève
CATEGORIES:Saison 2025/26
END:VEVENT
BEGIN:VEVENT
DTSTAMP:20260424T114939Z
DTSTART;TZID=Europe/Berlin:20260308T153000
DTEND;TZID=Europe/Berlin:20260308T183000
SUMMARY:HE NLB Gr. 1 Silver Star vs Mandement (20)
UID:f9b63d78-0a95-4f24-a7c1-e88df0c8c15d
STATUS:CONFIRMED
LAST-MODIFIED:20260310T064824Z
DESCRIPTION:Herren Nationalliga B Gruppe 1\nBegegnungs-Nr: 20\nHeim: Silver Star\nGast: Mandement\n\nAdresse: Rue de Vermont 33\, 1202 Genève\n
LOCATION:Rue de Vermont 33\, 1202 Genève
CATEGORIES:Saison 2025/26
END:VEVENT
BEGIN:VEVENT
DTSTAMP:20260424T114939Z
DTSTART;TZID=Europe/Berlin:20260418T150000
DTEND;TZID=Europe/Berlin:20260418T180000
SUMMARY:HE NLB Gr. 1 Silver Star vs Basel (27)
UID:90dfe6ed-6a7d-4d2c-904d-fcf85d3fa459
STATUS:CONFIRMED
LAST-MODIFIED:20260420T080449Z
DESCRIPTION:Herren Nationalliga B Gruppe 1\nBegegnungs-Nr: 27\nHeim: Silver Star\nGast: Basel\n\nAdresse: Rue de Vermont 33\, 1202 Genève\n
LOCATION:Rue de Vermont 33\, 1202 Genève
CATEGORIES:Saison 2025/26
END:VEVENT
BEGIN:VEVENT
DTSTAMP:20260424T114939Z
DTSTART;TZID=Europe/Berlin:20260131T150000
DTEND;TZID=Europe/Berlin:20260131T180000
SUMMARY:HE NLB Gr. 1 Silver Star vs Carouge II (5)
UID:0dfb7b58-ff9a-4b44-b80e-74382ea3beea
STATUS:CONFIRMED
LAST-MODIFIED:20260203T080835Z
DESCRIPTION:Herren Nationalliga B Gruppe 1\nBegegnungs-Nr: 5\nHeim: Silver Star\nGast: Carouge II\n\nAdresse: Rue de Vermont 33\, 1202 Genève\n
LOCATION:Rue de Vermont 33\, 1202 Genève
CATEGORIES:Saison 2025/26
END:VEVENT
BEGIN:VEVENT
DTSTAMP:20260424T114939Z
DTSTART;TZID=Europe/Berlin:20260329T150000
DTEND;TZID=Europe/Berlin:20260329T180000
SUMMARY:HE NLB Gr. 1 Vevey vs Silver Star (0)
UID:40699281-54da-406f-a55e-3358182ac272
STATUS:CONFIRMED
LAST-MODIFIED:20260330T075509Z
DESCRIPTION:Herren Nationalliga B Gruppe 1\nBegegnungs-Nr: 0\nHeim: Vevey\nGast: Silver Star\n
LOCATION:
CATEGORIES:Saison 2025/26
END:VEVENT
BEGIN:VEVENT
DTSTAMP:20260424T114939Z
DTSTART;TZID=Europe/Berlin:20251026T160000
DTEND;TZID=Europe/Berlin:20251026T190000
SUMMARY:HE NLB Gr. 1 Mandement vs Silver Star (12)
UID:cdb464dd-1cdd-46a0-9d1f-72982d6b6e17
STATUS:CONFIRMED
LAST-MODIFIED:20251029T083040Z
DESCRIPTION:Herren Nationalliga B Gruppe 1\nBegegnungs-Nr: 12\nHeim: Mandement\nGast: Silver Star\n\nAdresse: Route de la Gare de Satigny 27A\, 1242 Satigny\n
LOCATION:Route de la Gare de Satigny 27A\, 1242 Satigny
CATEGORIES:Saison 2025/26
END:VEVENT
BEGIN:VEVENT
DTSTAMP:20260424T114939Z
DTSTART;TZID=Europe/Berlin:20251116T130000
DTEND;TZID=Europe/Berlin:20251116T160000
SUMMARY:HE NLB Gr. 1 Basel vs Silver Star (19)
UID:dbfc5fa0-6f88-4217-baf2-c79c44f363d1
STATUS:CONFIRMED
LAST-MODIFIED:20251117T125243Z
DESCRIPTION:Herren Nationalliga B Gruppe 1\nBegegnungs-Nr: 19\nHeim: Basel\nGast: Silver Star\n\nAdresse: Schwarzwaldallee 107\, 4058 Basel\n
LOCATION:Schwarzwaldallee 107\, 4058 Basel
CATEGORIES:Saison 2025/26
END:VEVENT
BEGIN:VEVENT
DTSTAMP:20260424T114939Z
DTSTART;TZID=Europe/Berlin:20250921T143000
DTEND;TZID=Europe/Berlin:20250921T173000
SUMMARY:HE NLB Gr. 1 Carouge II vs Silver Star (5)
UID:acc1ae2c-5ddb-49e2-b974-e38bac86011e
STATUS:CONFIRMED
LAST-MODIFIED:20250922T073257Z
DESCRIPTION:Herren Nationalliga B Gruppe 1\nBegegnungs-Nr: 5\nHeim: Carouge II\nGast: Silver Star\n\nAdresse: Route de Veyrier 44\, 1227 Carouge GE\n
LOCATION:Route de Veyrier 44\, 1227 Carouge GE
CATEGORIES:Saison 2025/26
END:VEVENT
BEGIN:VEVENT
DTSTAMP:20260424T114939Z
DTSTART;TZID=Europe/Berlin:20260111T170000
DTEND;TZID=Europe/Berlin:20260111T200000
SUMMARY:HE NLB Gr. 1 UGS-Chênois vs Silver Star (1)
UID:b4dc736d-1585-428c-9375-0bf4d97eb0a9
STATUS:CONFIRMED
LAST-MODIFIED:20260112T202537Z
DESCRIPTION:Herren Nationalliga B Gruppe 1\nBegegnungs-Nr: 1\nHeim: UGS-Chênois\nGast: Silver Star\n\nAdresse: Route de Frontenex 68\, 1208 Genève\n
LOCATION:Route de Frontenex 68\, 1208 Genève
CATEGORIES:Saison 2025/26
END:VEVENT
BEGIN:VEVENT
DTSTAMP:20260424T114939Z
DTSTART;TZID=Europe/Berlin:20260228T150000
DTEND;TZID=Europe/Berlin:20260228T180000
SUMMARY:HE NLB Gr. 1 Vernier vs Silver Star (14)
UID:ce8fc226-d3c2-44c5-87bb-bec00427bf60
STATUS:CONFIRMED
LAST-MODIFIED:20260302T213504Z
DESCRIPTION:Herren Nationalliga B Gruppe 1\nBegegnungs-Nr: 14\nHeim: Vernier\nGast: Silver Star\n\nAdresse: Chemin de Saule 120\, 1233 Bernex\n
LOCATION:Chemin de Saule 120\, 1233 Bernex
CATEGORIES:Saison 2025/26
END:VEVENT
BEGIN:VEVENT
DTSTAMP:20260424T114939Z
DTSTART;TZID=Europe/Berlin:20260221T154500
DTEND;TZID=Europe/Berlin:20260221T184500
SUMMARY:HE NLB Gr. 1 Bulle vs Silver Star (9)
UID:059e49be-b2d7-4967-a8cb-a979aaabfbcf
STATUS:CONFIRMED
LAST-MODIFIED:20260223T152814Z
DESCRIPTION:Herren Nationalliga B Gruppe 1\nBegegnungs-Nr: 9\nHeim: Bulle\nGast: Silver Star\n\nAdresse: Rue du Stade 50\, 1630 Bulle\n
LOCATION:Rue du Stade 50\, 1630 Bulle
CATEGORIES:Saison 2025/26
END:VEVENT
BEGIN:VEVENT
DTSTAMP:20260424T114939Z
DTSTART;TZID=Europe/Berlin:20260328T150000
DTEND;TZID=Europe/Berlin:20260328T180000
SUMMARY:HE NLB Gr. 1 Heimberg vs Silver Star (21)
UID:571cf2af-bf9d-4d7d-84a4-340d08a4cbe7
STATUS:CONFIRMED
LAST-MODIFIED:20260330T074621Z
DESCRIPTION:Herren Nationalliga B Gruppe 1\nBegegnungs-Nr: 21\nHeim: Heimberg\nGast: Silver Star\n\nAdresse: Niesenstrasse 38\, 3627 Heimberg\n
LOCATION:Niesenstrasse 38\, 3627 Heimberg
CATEGORIES:Saison 2025/26
END:VEVENT
END:VCALENDAR
