BEGIN:VCALENDAR
PRODID:-//nuDatenautomaten//framework iCal4j //DE
VERSION:2.0
CALSCALE:GREGORIAN
BEGIN:VTIMEZONE
TZID:Europe/Berlin
LAST-MODIFIED:20260306T231828Z
TZURL:https://www.tzurl.org/zoneinfo/Europe/Berlin
X-LIC-LOCATION:Europe/Berlin
X-PROLEPTIC-TZNAME:LMT
BEGIN:STANDARD
TZNAME:CET
TZOFFSETFROM:+005328
TZOFFSETTO:+0100
DTSTART:18930401T000000
END:STANDARD
BEGIN:DAYLIGHT
TZNAME:CEST
TZOFFSETFROM:+0100
TZOFFSETTO:+0200
DTSTART:19160430T230000
RDATE:19400401T020000
RDATE:19430329T020000
RDATE:19460414T020000
RDATE:19470406T030000
RDATE:19480418T020000
RDATE:19490410T020000
RDATE:19800406T020000
END:DAYLIGHT
BEGIN:STANDARD
TZNAME:CET
TZOFFSETFROM:+0200
TZOFFSETTO:+0100
DTSTART:19161001T010000
RDATE:19421102T030000
RDATE:19431004T030000
RDATE:19441002T030000
RDATE:19451118T030000
RDATE:19461007T030000
END:STANDARD
BEGIN:DAYLIGHT
TZNAME:CEST
TZOFFSETFROM:+0100
TZOFFSETTO:+0200
DTSTART:19170416T020000
RRULE:FREQ=YEARLY;UNTIL=19180415T010000Z;BYMONTH=4;BYDAY=3MO
END:DAYLIGHT
BEGIN:STANDARD
TZNAME:CET
TZOFFSETFROM:+0200
TZOFFSETTO:+0100
DTSTART:19170917T030000
RRULE:FREQ=YEARLY;UNTIL=19180916T010000Z;BYMONTH=9;BYDAY=3MO
END:STANDARD
BEGIN:DAYLIGHT
TZNAME:CEST
TZOFFSETFROM:+0100
TZOFFSETTO:+0200
DTSTART:19440403T020000
RRULE:FREQ=YEARLY;UNTIL=19450402T010000Z;BYMONTH=4;BYDAY=1MO
END:DAYLIGHT
BEGIN:DAYLIGHT
TZNAME:CEMT
TZOFFSETFROM:+0200
TZOFFSETTO:+0300
DTSTART:19450524T020000
RDATE:19470511T030000
END:DAYLIGHT
BEGIN:DAYLIGHT
TZNAME:CEST
TZOFFSETFROM:+0300
TZOFFSETTO:+0200
DTSTART:19450924T030000
RDATE:19470629T030000
END:DAYLIGHT
BEGIN:STANDARD
TZNAME:CET
TZOFFSETFROM:+0100
TZOFFSETTO:+0100
DTSTART:19460101T000000
RDATE:19800101T000000
END:STANDARD
BEGIN:STANDARD
TZNAME:CET
TZOFFSETFROM:+0200
TZOFFSETTO:+0100
DTSTART:19471005T030000
RRULE:FREQ=YEARLY;UNTIL=19491002T010000Z;BYMONTH=10;BYDAY=1SU
END:STANDARD
BEGIN:STANDARD
TZNAME:CET
TZOFFSETFROM:+0200
TZOFFSETTO:+0100
DTSTART:19800928T030000
RRULE:FREQ=YEARLY;UNTIL=19950924T010000Z;BYMONTH=9;BYDAY=-1SU
END:STANDARD
BEGIN:DAYLIGHT
TZNAME:CEST
TZOFFSETFROM:+0100
TZOFFSETTO:+0200
DTSTART:19810329T020000
RRULE:FREQ=YEARLY;BYMONTH=3;BYDAY=-1SU
END:DAYLIGHT
BEGIN:STANDARD
TZNAME:CET
TZOFFSETFROM:+0200
TZOFFSETTO:+0100
DTSTART:19961027T030000
RRULE:FREQ=YEARLY;BYMONTH=10;BYDAY=-1SU
END:STANDARD
END:VTIMEZONE
BEGIN:VEVENT
DTSTAMP:20260424T063740Z
DTSTART;TZID=Europe/Berlin:20251015T194500
DTEND;TZID=Europe/Berlin:20251015T224500
SUMMARY:HE 2. Liga Gr. 2 Thun III vs Wohlensee (1)
UID:1f057ea3-44bc-4863-aa05-fcf9a21b4bbf
STATUS:CONFIRMED
LAST-MODIFIED:20251016T191604Z
DESCRIPTION:2. Liga Herren Gruppe 2\nBegegnungs-Nr: 1\nHeim: Thun III\nGast: Wohlensee\n\nAdresse: Hallerstrasse 28\, 3604 Thun\n
LOCATION:Hallerstrasse 28\, 3604 Thun
CATEGORIES:Saison 2025/26
END:VEVENT
BEGIN:VEVENT
DTSTAMP:20260424T063740Z
DTSTART;TZID=Europe/Berlin:20251108T130000
DTEND;TZID=Europe/Berlin:20251108T160000
SUMMARY:HE 2. Liga Gr. 2 Thun III vs Solothurn III (11)
UID:a98bb262-cd6e-4d0c-b1db-8ca41bf2b169
STATUS:CONFIRMED
LAST-MODIFIED:20251115T171400Z
DESCRIPTION:2. Liga Herren Gruppe 2\nBegegnungs-Nr: 11\nHeim: Thun III\nGast: Solothurn III\n\nAdresse: Hallerstrasse 28\, 3604 Thun\n
LOCATION:Hallerstrasse 28\, 3604 Thun
CATEGORIES:Saison 2025/26
END:VEVENT
BEGIN:VEVENT
DTSTAMP:20260424T063740Z
DTSTART;TZID=Europe/Berlin:20260228T130000
DTEND;TZID=Europe/Berlin:20260228T160000
SUMMARY:HE 2. Liga Gr. 2 Thun III vs Port IV (26)
UID:d581edb1-95d0-45d3-bc80-ee156f1c965b
STATUS:CONFIRMED
LAST-MODIFIED:20260302T144451Z
DESCRIPTION:2. Liga Herren Gruppe 2\nBegegnungs-Nr: 26\nHeim: Thun III\nGast: Port IV\n\nAdresse: Hallerstrasse 28\, 3604 Thun\n
LOCATION:Hallerstrasse 28\, 3604 Thun
CATEGORIES:Saison 2025/26
END:VEVENT
BEGIN:VEVENT
DTSTAMP:20260424T063740Z
DTSTART;TZID=Europe/Berlin:20260207T140000
DTEND;TZID=Europe/Berlin:20260207T170000
SUMMARY:HE 2. Liga Gr. 2 Thun III vs Kirchberg (16)
UID:751a31a1-45e6-4196-a9de-f75c46ba0c00
STATUS:CONFIRMED
LAST-MODIFIED:20260217T212606Z
DESCRIPTION:2. Liga Herren Gruppe 2\nBegegnungs-Nr: 16\nHeim: Thun III\nGast: Kirchberg\n\nAdresse: Hallerstrasse 28\, 3604 Thun\n
LOCATION:Hallerstrasse 28\, 3604 Thun
CATEGORIES:Saison 2025/26
END:VEVENT
BEGIN:VEVENT
DTSTAMP:20260424T063740Z
DTSTART;TZID=Europe/Berlin:20260321T130000
DTEND;TZID=Europe/Berlin:20260321T160000
SUMMARY:HE 2. Liga Gr. 2 Thun III vs Köniz (36)
UID:448fca5a-6f93-4e09-8c7f-f1a90dd17c80
STATUS:CONFIRMED
LAST-MODIFIED:20260327T143327Z
DESCRIPTION:2. Liga Herren Gruppe 2\nBegegnungs-Nr: 36\nHeim: Thun III\nGast: Köniz\n\nAdresse: Hallerstrasse 28\, 3604 Thun\n
LOCATION:Hallerstrasse 28\, 3604 Thun
CATEGORIES:Saison 2025/26
END:VEVENT
BEGIN:VEVENT
DTSTAMP:20260424T063740Z
DTSTART;TZID=Europe/Berlin:20260117T130000
DTEND;TZID=Europe/Berlin:20260117T160000
SUMMARY:HE 2. Liga Gr. 2 Thun III vs Grenchen (6)
UID:38d284b9-fb23-456b-b5f3-f44be75f3ef4
STATUS:CONFIRMED
LAST-MODIFIED:20260125T000311Z
DESCRIPTION:2. Liga Herren Gruppe 2\nBegegnungs-Nr: 6\nHeim: Thun III\nGast: Grenchen\n\nAdresse: Hallerstrasse 28\, 3604 Thun\n
LOCATION:Hallerstrasse 28\, 3604 Thun
CATEGORIES:Saison 2025/26
END:VEVENT
BEGIN:VEVENT
DTSTAMP:20260424T063740Z
DTSTART;TZID=Europe/Berlin:20251217T194500
DTEND;TZID=Europe/Berlin:20251217T224500
SUMMARY:HE 2. Liga Gr. 2 Thun III vs Burgdorf IV (41)
UID:a42fb312-91f9-4200-b92c-4caccf8e9993
STATUS:CONFIRMED
LAST-MODIFIED:20251218T122030Z
DESCRIPTION:2. Liga Herren Gruppe 2\nBegegnungs-Nr: 41\nHeim: Thun III\nGast: Burgdorf IV\n\nAdresse: Hallerstrasse 28\, 3604 Thun\n
LOCATION:Hallerstrasse 28\, 3604 Thun
CATEGORIES:Saison 2025/26
END:VEVENT
BEGIN:VEVENT
DTSTAMP:20260424T063740Z
DTSTART;TZID=Europe/Berlin:20251119T193000
DTEND;TZID=Europe/Berlin:20251119T223000
SUMMARY:HE 2. Liga Gr. 2 Thun III vs Bern II (31)
UID:bc3eb46f-2246-4ea9-ab92-459e610e5bdc
STATUS:CONFIRMED
LAST-MODIFIED:20251122T091559Z
DESCRIPTION:2. Liga Herren Gruppe 2\nBegegnungs-Nr: 31\nHeim: Thun III\nGast: Bern II\n\nAdresse: Hallerstrasse 28\, 3604 Thun\n
LOCATION:Hallerstrasse 28\, 3604 Thun
CATEGORIES:Saison 2025/26
END:VEVENT
BEGIN:VEVENT
DTSTAMP:20260424T063740Z
DTSTART;TZID=Europe/Berlin:20251101T130000
DTEND;TZID=Europe/Berlin:20251101T160000
SUMMARY:HE 2. Liga Gr. 2 Thun III vs Royal Bern (21)
UID:5b45ef13-a493-4f33-b20c-ec1c409600ff
STATUS:CONFIRMED
LAST-MODIFIED:20251111T071937Z
DESCRIPTION:2. Liga Herren Gruppe 2\nBegegnungs-Nr: 21\nHeim: Thun III\nGast: Royal Bern\n\nAdresse: Hallerstrasse 28\, 3604 Thun\n
LOCATION:Hallerstrasse 28\, 3604 Thun
CATEGORIES:Saison 2025/26
END:VEVENT
BEGIN:VEVENT
DTSTAMP:20260424T063740Z
DTSTART;TZID=Europe/Berlin:20250905T194500
DTEND;TZID=Europe/Berlin:20250905T224500
SUMMARY:HE 2. Liga Gr. 2 Kirchberg vs Thun III (16)
UID:261f20bf-3bfb-4b42-9dc3-723991afeecd
STATUS:CONFIRMED
LAST-MODIFIED:20250907T200224Z
DESCRIPTION:2. Liga Herren Gruppe 2\nBegegnungs-Nr: 16\nHeim: Kirchberg\nGast: Thun III\n\nAdresse: Reinhardweg\, 3422 Kirchberg\n
LOCATION:Reinhardweg\, 3422 Kirchberg
CATEGORIES:Saison 2025/26
END:VEVENT
BEGIN:VEVENT
DTSTAMP:20260424T063740Z
DTSTART;TZID=Europe/Berlin:20250912T194500
DTEND;TZID=Europe/Berlin:20250912T224500
SUMMARY:HE 2. Liga Gr. 2 Grenchen vs Thun III (6)
UID:9a787c41-4fd2-4c15-be8f-16e7e0067f74
STATUS:CONFIRMED
LAST-MODIFIED:20250918T141315Z
DESCRIPTION:2. Liga Herren Gruppe 2\nBegegnungs-Nr: 6\nHeim: Grenchen\nGast: Thun III\n\nAdresse: Witmattstrasse\, 2540 Grenchen\n
LOCATION:Witmattstrasse\, 2540 Grenchen
CATEGORIES:Saison 2025/26
END:VEVENT
BEGIN:VEVENT
DTSTAMP:20260424T063740Z
DTSTART;TZID=Europe/Berlin:20260313T193000
DTEND;TZID=Europe/Berlin:20260313T223000
SUMMARY:HE 2. Liga Gr. 2 Bern II vs Thun III (31)
UID:6e17677f-0cc1-401b-9ef8-9dc7260d87a7
STATUS:CONFIRMED
LAST-MODIFIED:20260315T225807Z
DESCRIPTION:2. Liga Herren Gruppe 2\nBegegnungs-Nr: 31\nHeim: Bern II\nGast: Thun III\n\nAdresse: Papiermühlestrasse 81\, 3014 Bern\n
LOCATION:Papiermühlestrasse 81\, 3014 Bern
CATEGORIES:Saison 2025/26
END:VEVENT
BEGIN:VEVENT
DTSTAMP:20260424T063740Z
DTSTART;TZID=Europe/Berlin:20260216T194500
DTEND;TZID=Europe/Berlin:20260216T224500
SUMMARY:HE 2. Liga Gr. 2 Royal Bern vs Thun III (21)
UID:523a80dc-fb98-4220-9f97-663e1daff921
STATUS:CONFIRMED
LAST-MODIFIED:20260217T212627Z
DESCRIPTION:2. Liga Herren Gruppe 2\nBegegnungs-Nr: 21\nHeim: Royal Bern\nGast: Thun III\n\nAdresse: Dändlikerweg 60\, 3014 Bern\n
LOCATION:Dändlikerweg 60\, 3014 Bern
CATEGORIES:Saison 2025/26
END:VEVENT
BEGIN:VEVENT
DTSTAMP:20260424T063740Z
DTSTART;TZID=Europe/Berlin:20260128T194500
DTEND;TZID=Europe/Berlin:20260128T224500
SUMMARY:HE 2. Liga Gr. 2 Solothurn III vs Thun III (11)
UID:7382721e-e0c5-4441-b6f3-a168accab758
STATUS:CONFIRMED
LAST-MODIFIED:20260217T212142Z
DESCRIPTION:2. Liga Herren Gruppe 2\nBegegnungs-Nr: 11\nHeim: Solothurn III\nGast: Thun III\n\nAdresse: Untere Sternengasse 24\, 4500 Solothurn\n
LOCATION:Untere Sternengasse 24\, 4500 Solothurn
CATEGORIES:Saison 2025/26
END:VEVENT
BEGIN:VEVENT
DTSTAMP:20260424T063740Z
DTSTART;TZID=Europe/Berlin:20260108T193000
DTEND;TZID=Europe/Berlin:20260108T223000
SUMMARY:HE 2. Liga Gr. 2 Wohlensee vs Thun III (1)
UID:6c83697a-a095-4a31-97ca-ca0d01eda93b
STATUS:CONFIRMED
LAST-MODIFIED:20260125T000219Z
DESCRIPTION:2. Liga Herren Gruppe 2\nBegegnungs-Nr: 1\nHeim: Wohlensee\nGast: Thun III\n\nAdresse: Kappelenring 36 a\, 3032 Hinterkappelen\n
LOCATION:Kappelenring 36 a\, 3032 Hinterkappelen
CATEGORIES:Saison 2025/26
END:VEVENT
BEGIN:VEVENT
DTSTAMP:20260424T063740Z
DTSTART;TZID=Europe/Berlin:20260318T200000
DTEND;TZID=Europe/Berlin:20260318T230000
SUMMARY:HE 2. Liga Gr. 2 Burgdorf IV vs Thun III (41)
UID:62409614-de83-4fa0-baeb-7899adb96607
STATUS:CONFIRMED
LAST-MODIFIED:20260327T143258Z
DESCRIPTION:2. Liga Herren Gruppe 2\nBegegnungs-Nr: 41\nHeim: Burgdorf IV\nGast: Thun III\n\nAdresse: Pestalozzistrasse 69\, 3400 Burgdorf\n
LOCATION:Pestalozzistrasse 69\, 3400 Burgdorf
CATEGORIES:Saison 2025/26
END:VEVENT
BEGIN:VEVENT
DTSTAMP:20260424T063740Z
DTSTART;TZID=Europe/Berlin:20251208T200000
DTEND;TZID=Europe/Berlin:20251208T230000
SUMMARY:HE 2. Liga Gr. 2 Köniz vs Thun III (36)
UID:86d3a8e1-4569-47de-95c1-b12f97104418
STATUS:CONFIRMED
LAST-MODIFIED:20251216T120244Z
DESCRIPTION:2. Liga Herren Gruppe 2\nBegegnungs-Nr: 36\nHeim: Köniz\nGast: Thun III\n\nAdresse: Kirchstrasse 72-76\, 3084 Wabern\n
LOCATION:Kirchstrasse 72-76\, 3084 Wabern
CATEGORIES:Saison 2025/26
END:VEVENT
BEGIN:VEVENT
DTSTAMP:20260424T063740Z
DTSTART;TZID=Europe/Berlin:20251118T194500
DTEND;TZID=Europe/Berlin:20251118T224500
SUMMARY:HE 2. Liga Gr. 2 Port IV vs Thun III (26)
UID:21b11c78-f7ee-4307-9ca8-20b3f0be7f78
STATUS:CONFIRMED
LAST-MODIFIED:20251122T091610Z
DESCRIPTION:2. Liga Herren Gruppe 2\nBegegnungs-Nr: 26\nHeim: Port IV\nGast: Thun III\n\nAdresse: Allmendstrasse 23\, 2562 Port\n
LOCATION:Allmendstrasse 23\, 2562 Port
CATEGORIES:Saison 2025/26
END:VEVENT
END:VCALENDAR
