BEGIN:VCALENDAR
PRODID:-//nuDatenautomaten//framework iCal4j //DE
VERSION:2.0
CALSCALE:GREGORIAN
BEGIN:VTIMEZONE
TZID:Europe/Berlin
LAST-MODIFIED:20260306T231828Z
TZURL:https://www.tzurl.org/zoneinfo/Europe/Berlin
X-LIC-LOCATION:Europe/Berlin
X-PROLEPTIC-TZNAME:LMT
BEGIN:STANDARD
TZNAME:CET
TZOFFSETFROM:+005328
TZOFFSETTO:+0100
DTSTART:18930401T000000
END:STANDARD
BEGIN:DAYLIGHT
TZNAME:CEST
TZOFFSETFROM:+0100
TZOFFSETTO:+0200
DTSTART:19160430T230000
RDATE:19400401T020000
RDATE:19430329T020000
RDATE:19460414T020000
RDATE:19470406T030000
RDATE:19480418T020000
RDATE:19490410T020000
RDATE:19800406T020000
END:DAYLIGHT
BEGIN:STANDARD
TZNAME:CET
TZOFFSETFROM:+0200
TZOFFSETTO:+0100
DTSTART:19161001T010000
RDATE:19421102T030000
RDATE:19431004T030000
RDATE:19441002T030000
RDATE:19451118T030000
RDATE:19461007T030000
END:STANDARD
BEGIN:DAYLIGHT
TZNAME:CEST
TZOFFSETFROM:+0100
TZOFFSETTO:+0200
DTSTART:19170416T020000
RRULE:FREQ=YEARLY;UNTIL=19180415T010000Z;BYMONTH=4;BYDAY=3MO
END:DAYLIGHT
BEGIN:STANDARD
TZNAME:CET
TZOFFSETFROM:+0200
TZOFFSETTO:+0100
DTSTART:19170917T030000
RRULE:FREQ=YEARLY;UNTIL=19180916T010000Z;BYMONTH=9;BYDAY=3MO
END:STANDARD
BEGIN:DAYLIGHT
TZNAME:CEST
TZOFFSETFROM:+0100
TZOFFSETTO:+0200
DTSTART:19440403T020000
RRULE:FREQ=YEARLY;UNTIL=19450402T010000Z;BYMONTH=4;BYDAY=1MO
END:DAYLIGHT
BEGIN:DAYLIGHT
TZNAME:CEMT
TZOFFSETFROM:+0200
TZOFFSETTO:+0300
DTSTART:19450524T020000
RDATE:19470511T030000
END:DAYLIGHT
BEGIN:DAYLIGHT
TZNAME:CEST
TZOFFSETFROM:+0300
TZOFFSETTO:+0200
DTSTART:19450924T030000
RDATE:19470629T030000
END:DAYLIGHT
BEGIN:STANDARD
TZNAME:CET
TZOFFSETFROM:+0100
TZOFFSETTO:+0100
DTSTART:19460101T000000
RDATE:19800101T000000
END:STANDARD
BEGIN:STANDARD
TZNAME:CET
TZOFFSETFROM:+0200
TZOFFSETTO:+0100
DTSTART:19471005T030000
RRULE:FREQ=YEARLY;UNTIL=19491002T010000Z;BYMONTH=10;BYDAY=1SU
END:STANDARD
BEGIN:STANDARD
TZNAME:CET
TZOFFSETFROM:+0200
TZOFFSETTO:+0100
DTSTART:19800928T030000
RRULE:FREQ=YEARLY;UNTIL=19950924T010000Z;BYMONTH=9;BYDAY=-1SU
END:STANDARD
BEGIN:DAYLIGHT
TZNAME:CEST
TZOFFSETFROM:+0100
TZOFFSETTO:+0200
DTSTART:19810329T020000
RRULE:FREQ=YEARLY;BYMONTH=3;BYDAY=-1SU
END:DAYLIGHT
BEGIN:STANDARD
TZNAME:CET
TZOFFSETFROM:+0200
TZOFFSETTO:+0100
DTSTART:19961027T030000
RRULE:FREQ=YEARLY;BYMONTH=10;BYDAY=-1SU
END:STANDARD
END:VTIMEZONE
BEGIN:VEVENT
DTSTAMP:20260424T084029Z
DTSTART;TZID=Europe/Berlin:20260106T200000
DTEND;TZID=Europe/Berlin:20260106T230000
SUMMARY:HE 6. Liga Gr. 8 Horgen V vs Urdorf IV (0)
UID:0bfc7c51-94d9-4ef5-a64d-d844f838b222
STATUS:CONFIRMED
LAST-MODIFIED:20260112T100658Z
DESCRIPTION:6. Liga Herren Gruppe 8\nBegegnungs-Nr: 0\nHeim: Horgen V\nGast: Urdorf IV\n\nAdresse: Seestrasse 110\, 8810 Horgen\n
LOCATION:Seestrasse 110\, 8810 Horgen
CATEGORIES:Saison 2025/26
END:VEVENT
BEGIN:VEVENT
DTSTAMP:20260424T084029Z
DTSTART;TZID=Europe/Berlin:20260127T200000
DTEND;TZID=Europe/Berlin:20260127T230000
SUMMARY:HE 6. Liga Gr. 8 Horgen V vs Thalwil V (0)
UID:ddbde641-6a94-466a-be24-7c847adce695
STATUS:CONFIRMED
LAST-MODIFIED:20260130T131139Z
DESCRIPTION:6. Liga Herren Gruppe 8\nBegegnungs-Nr: 0\nHeim: Horgen V\nGast: Thalwil V\n\nAdresse: Seestrasse 110\, 8810 Horgen\n
LOCATION:Seestrasse 110\, 8810 Horgen
CATEGORIES:Saison 2025/26
END:VEVENT
BEGIN:VEVENT
DTSTAMP:20260424T084029Z
DTSTART;TZID=Europe/Berlin:20260310T200000
DTEND;TZID=Europe/Berlin:20260310T230000
SUMMARY:HE 6. Liga Gr. 8 Horgen V vs Wettswil II (0)
UID:9c7d3277-9da2-4ee6-b973-fd02ce8fc4c2
STATUS:CONFIRMED
LAST-MODIFIED:20260313T132833Z
DESCRIPTION:6. Liga Herren Gruppe 8\nBegegnungs-Nr: 0\nHeim: Horgen V\nGast: Wettswil II\n\nAdresse: Seestrasse 110\, 8810 Horgen\n
LOCATION:Seestrasse 110\, 8810 Horgen
CATEGORIES:Saison 2025/26
END:VEVENT
BEGIN:VEVENT
DTSTAMP:20260424T084029Z
DTSTART;TZID=Europe/Berlin:20260414T200000
DTEND;TZID=Europe/Berlin:20260414T230000
SUMMARY:HE 6. Liga Gr. 8 Horgen V vs Dietikon-Weiningen III (0)
UID:89bc220e-90a6-4168-be17-0dc0a1bad3f7
STATUS:CONFIRMED
LAST-MODIFIED:20260416T104249Z
DESCRIPTION:6. Liga Herren Gruppe 8\nBegegnungs-Nr: 0\nHeim: Horgen V\nGast: Dietikon-Weiningen III\n\nAdresse: Seestrasse 110\, 8810 Horgen\n
LOCATION:Seestrasse 110\, 8810 Horgen
CATEGORIES:Saison 2025/26
END:VEVENT
BEGIN:VEVENT
DTSTAMP:20260424T084029Z
DTSTART;TZID=Europe/Berlin:20250902T200000
DTEND;TZID=Europe/Berlin:20250902T230000
SUMMARY:HE 6. Liga Gr. 8 Horgen V vs Rapperswil-Jona VIII (0)
UID:5277313a-a796-4835-baed-849f99f3880b
STATUS:CONFIRMED
LAST-MODIFIED:20250905T124658Z
DESCRIPTION:6. Liga Herren Gruppe 8\nBegegnungs-Nr: 0\nHeim: Horgen V\nGast: Rapperswil-Jona VIII\n\nAdresse: Seestrasse 110\, 8810 Horgen\n
LOCATION:Seestrasse 110\, 8810 Horgen
CATEGORIES:Saison 2025/26
END:VEVENT
BEGIN:VEVENT
DTSTAMP:20260424T084029Z
DTSTART;TZID=Europe/Berlin:20250923T200000
DTEND;TZID=Europe/Berlin:20250923T230000
SUMMARY:HE 6. Liga Gr. 8 Horgen V vs Höngg V (0)
UID:03af73ff-7899-453d-8929-a6d67c4e33b6
STATUS:CONFIRMED
LAST-MODIFIED:20251007T060452Z
DESCRIPTION:6. Liga Herren Gruppe 8\nBegegnungs-Nr: 0\nHeim: Horgen V\nGast: Höngg V\n\nAdresse: Seestrasse 110\, 8810 Horgen\n
LOCATION:Seestrasse 110\, 8810 Horgen
CATEGORIES:Saison 2025/26
END:VEVENT
BEGIN:VEVENT
DTSTAMP:20260424T084029Z
DTSTART;TZID=Europe/Berlin:20251104T200000
DTEND;TZID=Europe/Berlin:20251104T230000
SUMMARY:HE 6. Liga Gr. 8 Horgen V vs Rüschlikon II (0)
UID:376b81f2-b4fa-4e69-9b34-b6ec9aa3ad35
STATUS:CONFIRMED
LAST-MODIFIED:20251107T145515Z
DESCRIPTION:6. Liga Herren Gruppe 8\nBegegnungs-Nr: 0\nHeim: Horgen V\nGast: Rüschlikon II\n\nAdresse: Seestrasse 110\, 8810 Horgen\n
LOCATION:Seestrasse 110\, 8810 Horgen
CATEGORIES:Saison 2025/26
END:VEVENT
BEGIN:VEVENT
DTSTAMP:20260424T084029Z
DTSTART;TZID=Europe/Berlin:20260122T200000
DTEND;TZID=Europe/Berlin:20260122T230000
SUMMARY:HE 6. Liga Gr. 8 Rapperswil-Jona VIII vs Horgen V (0)
UID:1ddf6879-70b8-4391-9d65-42e7bd6b9181
STATUS:CONFIRMED
LAST-MODIFIED:20260123T082824Z
DESCRIPTION:6. Liga Herren Gruppe 8\nBegegnungs-Nr: 0\nHeim: Rapperswil-Jona VIII\nGast: Horgen V\n\nAdresse: Holzwiesstrasse 39\, 8645 Jona\n
LOCATION:Holzwiesstrasse 39\, 8645 Jona
CATEGORIES:Saison 2025/26
END:VEVENT
BEGIN:VEVENT
DTSTAMP:20260424T084029Z
DTSTART;TZID=Europe/Berlin:20260304T200000
DTEND;TZID=Europe/Berlin:20260304T230000
SUMMARY:HE 6. Liga Gr. 8 Höngg V vs Horgen V (0)
UID:92cfd65a-b9a2-41a1-afb5-0cced976002e
STATUS:CONFIRMED
LAST-MODIFIED:20260313T132801Z
DESCRIPTION:6. Liga Herren Gruppe 8\nBegegnungs-Nr: 0\nHeim: Höngg V\nGast: Horgen V\n\nAdresse: Bläsistrasse 2\, 8049 Zürich\n
LOCATION:Bläsistrasse 2\, 8049 Zürich
CATEGORIES:Saison 2025/26
END:VEVENT
BEGIN:VEVENT
DTSTAMP:20260424T084029Z
DTSTART;TZID=Europe/Berlin:20260326T201500
DTEND;TZID=Europe/Berlin:20260326T231500
SUMMARY:HE 6. Liga Gr. 8 Rüschlikon II vs Horgen V (0)
UID:8dee2a52-a248-4c7c-a3df-4ab35c33224a
STATUS:CONFIRMED
LAST-MODIFIED:20260401T132726Z
DESCRIPTION:6. Liga Herren Gruppe 8\nBegegnungs-Nr: 0\nHeim: Rüschlikon II\nGast: Horgen V\n\nAdresse: Säumerstrasse 24\, 8803 Rüschlikon\n
LOCATION:Säumerstrasse 24\, 8803 Rüschlikon
CATEGORIES:Saison 2025/26
END:VEVENT
BEGIN:VEVENT
DTSTAMP:20260424T084029Z
DTSTART;TZID=Europe/Berlin:20250825T201500
DTEND;TZID=Europe/Berlin:20250825T231500
SUMMARY:HE 6. Liga Gr. 8 Urdorf IV vs Horgen V (0)
UID:0bf0d1dd-a197-4a48-986a-11b25b0767cb
STATUS:CONFIRMED
LAST-MODIFIED:20250826T114119Z
DESCRIPTION:6. Liga Herren Gruppe 8\nBegegnungs-Nr: 0\nHeim: Urdorf IV\nGast: Horgen V\n\nAdresse: Weihermattstrasse 50\, 8902 Urdorf\n
LOCATION:Weihermattstrasse 50\, 8902 Urdorf
CATEGORIES:Saison 2025/26
END:VEVENT
BEGIN:VEVENT
DTSTAMP:20260424T084029Z
DTSTART;TZID=Europe/Berlin:20250917T201500
DTEND;TZID=Europe/Berlin:20250917T231500
SUMMARY:HE 6. Liga Gr. 8 Thalwil V vs Horgen V (0)
UID:2b734620-28b6-48e2-95de-56ee3b939c93
STATUS:CONFIRMED
LAST-MODIFIED:20250926T135419Z
DESCRIPTION:6. Liga Herren Gruppe 8\nBegegnungs-Nr: 0\nHeim: Thalwil V\nGast: Horgen V\n\nAdresse: Bergstrasse 2\, 8800 Thalwil\n
LOCATION:Bergstrasse 2\, 8800 Thalwil
CATEGORIES:Saison 2025/26
END:VEVENT
BEGIN:VEVENT
DTSTAMP:20260424T084029Z
DTSTART;TZID=Europe/Berlin:20251028T194500
DTEND;TZID=Europe/Berlin:20251028T224500
SUMMARY:HE 6. Liga Gr. 8 Wettswil II vs Horgen V (0)
UID:0b38aa0f-2aed-4479-9f7e-488a4a385022
STATUS:CONFIRMED
LAST-MODIFIED:20251031T144606Z
DESCRIPTION:6. Liga Herren Gruppe 8\nBegegnungs-Nr: 0\nHeim: Wettswil II\nGast: Horgen V\n\nAdresse: Hirsächersteig\, 8907 Wettswil\n
LOCATION:Hirsächersteig\, 8907 Wettswil
CATEGORIES:Saison 2025/26
END:VEVENT
BEGIN:VEVENT
DTSTAMP:20260424T084029Z
DTSTART;TZID=Europe/Berlin:20251202T200000
DTEND;TZID=Europe/Berlin:20251202T230000
SUMMARY:HE 6. Liga Gr. 8 Dietikon-Weiningen III vs Horgen V (0)
UID:d15448e4-2aa7-4404-95ff-1ca7ef8fd3d2
STATUS:CONFIRMED
LAST-MODIFIED:20251205T131236Z
DESCRIPTION:6. Liga Herren Gruppe 8\nBegegnungs-Nr: 0\nHeim: Dietikon-Weiningen III\nGast: Horgen V\n\nAdresse: Bohnackerstrasse 5\, 8953 Dietikon\n
LOCATION:Bohnackerstrasse 5\, 8953 Dietikon
CATEGORIES:Saison 2025/26
END:VEVENT
END:VCALENDAR
