BEGIN:VCALENDAR
PRODID:-//nuDatenautomaten//framework iCal4j //DE
VERSION:2.0
CALSCALE:GREGORIAN
BEGIN:VTIMEZONE
TZID:Europe/Berlin
LAST-MODIFIED:20260306T231828Z
TZURL:https://www.tzurl.org/zoneinfo/Europe/Berlin
X-LIC-LOCATION:Europe/Berlin
X-PROLEPTIC-TZNAME:LMT
BEGIN:STANDARD
TZNAME:CET
TZOFFSETFROM:+005328
TZOFFSETTO:+0100
DTSTART:18930401T000000
END:STANDARD
BEGIN:DAYLIGHT
TZNAME:CEST
TZOFFSETFROM:+0100
TZOFFSETTO:+0200
DTSTART:19160430T230000
RDATE:19400401T020000
RDATE:19430329T020000
RDATE:19460414T020000
RDATE:19470406T030000
RDATE:19480418T020000
RDATE:19490410T020000
RDATE:19800406T020000
END:DAYLIGHT
BEGIN:STANDARD
TZNAME:CET
TZOFFSETFROM:+0200
TZOFFSETTO:+0100
DTSTART:19161001T010000
RDATE:19421102T030000
RDATE:19431004T030000
RDATE:19441002T030000
RDATE:19451118T030000
RDATE:19461007T030000
END:STANDARD
BEGIN:DAYLIGHT
TZNAME:CEST
TZOFFSETFROM:+0100
TZOFFSETTO:+0200
DTSTART:19170416T020000
RRULE:FREQ=YEARLY;UNTIL=19180415T010000Z;BYMONTH=4;BYDAY=3MO
END:DAYLIGHT
BEGIN:STANDARD
TZNAME:CET
TZOFFSETFROM:+0200
TZOFFSETTO:+0100
DTSTART:19170917T030000
RRULE:FREQ=YEARLY;UNTIL=19180916T010000Z;BYMONTH=9;BYDAY=3MO
END:STANDARD
BEGIN:DAYLIGHT
TZNAME:CEST
TZOFFSETFROM:+0100
TZOFFSETTO:+0200
DTSTART:19440403T020000
RRULE:FREQ=YEARLY;UNTIL=19450402T010000Z;BYMONTH=4;BYDAY=1MO
END:DAYLIGHT
BEGIN:DAYLIGHT
TZNAME:CEMT
TZOFFSETFROM:+0200
TZOFFSETTO:+0300
DTSTART:19450524T020000
RDATE:19470511T030000
END:DAYLIGHT
BEGIN:DAYLIGHT
TZNAME:CEST
TZOFFSETFROM:+0300
TZOFFSETTO:+0200
DTSTART:19450924T030000
RDATE:19470629T030000
END:DAYLIGHT
BEGIN:STANDARD
TZNAME:CET
TZOFFSETFROM:+0100
TZOFFSETTO:+0100
DTSTART:19460101T000000
RDATE:19800101T000000
END:STANDARD
BEGIN:STANDARD
TZNAME:CET
TZOFFSETFROM:+0200
TZOFFSETTO:+0100
DTSTART:19471005T030000
RRULE:FREQ=YEARLY;UNTIL=19491002T010000Z;BYMONTH=10;BYDAY=1SU
END:STANDARD
BEGIN:STANDARD
TZNAME:CET
TZOFFSETFROM:+0200
TZOFFSETTO:+0100
DTSTART:19800928T030000
RRULE:FREQ=YEARLY;UNTIL=19950924T010000Z;BYMONTH=9;BYDAY=-1SU
END:STANDARD
BEGIN:DAYLIGHT
TZNAME:CEST
TZOFFSETFROM:+0100
TZOFFSETTO:+0200
DTSTART:19810329T020000
RRULE:FREQ=YEARLY;BYMONTH=3;BYDAY=-1SU
END:DAYLIGHT
BEGIN:STANDARD
TZNAME:CET
TZOFFSETFROM:+0200
TZOFFSETTO:+0100
DTSTART:19961027T030000
RRULE:FREQ=YEARLY;BYMONTH=10;BYDAY=-1SU
END:STANDARD
END:VTIMEZONE
BEGIN:VEVENT
DTSTAMP:20260424T135849Z
DTSTART;TZID=Europe/Berlin:20260410T201500
DTEND;TZID=Europe/Berlin:20260410T231500
SUMMARY:O40 3. Liga Gr. 2 Winterthur II vs Dübendorf-Volketswil (0)
UID:0d431f11-cd04-4a5e-a083-6c999118608c
STATUS:CONFIRMED
LAST-MODIFIED:20260420T123959Z
DESCRIPTION:3. Liga O40 Gruppe 2\nBegegnungs-Nr: 0\nHeim: Winterthur II\nGast: Dübendorf-Volketswil\n\nAdresse: Buchackerstrasse 54\, 8400 Winterthur\n
LOCATION:Buchackerstrasse 54\, 8400 Winterthur
CATEGORIES:Saison 2025/26
END:VEVENT
BEGIN:VEVENT
DTSTAMP:20260424T135849Z
DTSTART;TZID=Europe/Berlin:20260220T201500
DTEND;TZID=Europe/Berlin:20260220T231500
SUMMARY:O40 3. Liga Gr. 2 Winterthur II vs Pinguin Zürich II (0)
UID:c4fc1c1d-7269-4356-b262-30e6146b1d0d
STATUS:CONFIRMED
LAST-MODIFIED:20260225T112247Z
DESCRIPTION:3. Liga O40 Gruppe 2\nBegegnungs-Nr: 0\nHeim: Winterthur II\nGast: Pinguin Zürich II\n\nAdresse: Buchackerstrasse 54\, 8400 Winterthur\n
LOCATION:Buchackerstrasse 54\, 8400 Winterthur
CATEGORIES:Saison 2025/26
END:VEVENT
BEGIN:VEVENT
DTSTAMP:20260424T135849Z
DTSTART;TZID=Europe/Berlin:20260116T201500
DTEND;TZID=Europe/Berlin:20260116T231500
SUMMARY:O40 3. Liga Gr. 2 Winterthur II vs Wolfhausen (0)
UID:b9d6ca19-df1c-434f-bc51-3b41e3cad5ed
STATUS:CONFIRMED
LAST-MODIFIED:20260119T091845Z
DESCRIPTION:3. Liga O40 Gruppe 2\nBegegnungs-Nr: 0\nHeim: Winterthur II\nGast: Wolfhausen\n\nAdresse: Buchackerstrasse 54\, 8400 Winterthur\n
LOCATION:Buchackerstrasse 54\, 8400 Winterthur
CATEGORIES:Saison 2025/26
END:VEVENT
BEGIN:VEVENT
DTSTAMP:20260424T135849Z
DTSTART;TZID=Europe/Berlin:20260227T201500
DTEND;TZID=Europe/Berlin:20260227T231500
SUMMARY:O40 3. Liga Gr. 2 Winterthur II vs Zürich-Affoltern II (0)
UID:be79f29e-ef90-41b6-9384-7d6d0bf90224
STATUS:CONFIRMED
LAST-MODIFIED:20260303T133534Z
DESCRIPTION:3. Liga O40 Gruppe 2\nBegegnungs-Nr: 0\nHeim: Winterthur II\nGast: Zürich-Affoltern II\n\nAdresse: Buchackerstrasse 54\, 8400 Winterthur\n
LOCATION:Buchackerstrasse 54\, 8400 Winterthur
CATEGORIES:Saison 2025/26
END:VEVENT
BEGIN:VEVENT
DTSTAMP:20260424T135849Z
DTSTART;TZID=Europe/Berlin:20250905T201500
DTEND;TZID=Europe/Berlin:20250905T231500
SUMMARY:O40 3. Liga Gr. 2 Winterthur II vs Höngg (0)
UID:de97cfe8-924d-4044-be95-5ad4d6af9311
STATUS:CONFIRMED
LAST-MODIFIED:20250908T141724Z
DESCRIPTION:3. Liga O40 Gruppe 2\nBegegnungs-Nr: 0\nHeim: Winterthur II\nGast: Höngg\n\nAdresse: Buchackerstrasse 54\, 8400 Winterthur\n
LOCATION:Buchackerstrasse 54\, 8400 Winterthur
CATEGORIES:Saison 2025/26
END:VEVENT
BEGIN:VEVENT
DTSTAMP:20260424T135849Z
DTSTART;TZID=Europe/Berlin:20251024T201500
DTEND;TZID=Europe/Berlin:20251024T231500
SUMMARY:O40 3. Liga Gr. 2 Winterthur II vs Dübendorf-Volketswil II (0)
UID:30b60430-c10c-4530-afb5-f203ee84903d
STATUS:CONFIRMED
LAST-MODIFIED:20251031T144824Z
DESCRIPTION:3. Liga O40 Gruppe 2\nBegegnungs-Nr: 0\nHeim: Winterthur II\nGast: Dübendorf-Volketswil II\n\nAdresse: Buchackerstrasse 54\, 8400 Winterthur\n
LOCATION:Buchackerstrasse 54\, 8400 Winterthur
CATEGORIES:Saison 2025/26
END:VEVENT
BEGIN:VEVENT
DTSTAMP:20260424T135849Z
DTSTART;TZID=Europe/Berlin:20260202T200000
DTEND;TZID=Europe/Berlin:20260202T230000
SUMMARY:O40 3. Liga Gr. 2 Höngg vs Winterthur II (0)
UID:4adb1f25-fef9-42a8-834b-40b240735fcf
STATUS:CONFIRMED
LAST-MODIFIED:20260203T143003Z
DESCRIPTION:3. Liga O40 Gruppe 2\nBegegnungs-Nr: 0\nHeim: Höngg\nGast: Winterthur II\n\nAdresse: Bläsistrasse 2\, 8049 Zürich\n
LOCATION:Bläsistrasse 2\, 8049 Zürich
CATEGORIES:Saison 2025/26
END:VEVENT
BEGIN:VEVENT
DTSTAMP:20260424T135849Z
DTSTART;TZID=Europe/Berlin:20260317T201500
DTEND;TZID=Europe/Berlin:20260317T231500
SUMMARY:O40 3. Liga Gr. 2 Dübendorf-Volketswil II vs Winterthur II (0)
UID:51689f5e-a554-4758-95c4-ced402b0ca9a
STATUS:CONFIRMED
LAST-MODIFIED:20260318T111339Z
DESCRIPTION:3. Liga O40 Gruppe 2\nBegegnungs-Nr: 0\nHeim: Dübendorf-Volketswil II\nGast: Winterthur II\n\nAdresse: Dübendorfstrasse 46\, 8602 Wangen ZH\n
LOCATION:Dübendorfstrasse 46\, 8602 Wangen ZH
CATEGORIES:Saison 2025/26
END:VEVENT
BEGIN:VEVENT
DTSTAMP:20260424T135849Z
DTSTART;TZID=Europe/Berlin:20250929T200000
DTEND;TZID=Europe/Berlin:20250929T230000
SUMMARY:O40 3. Liga Gr. 2 Wolfhausen vs Winterthur II (0)
UID:73313077-a951-4c85-bc5c-34e48d3ac1d7
STATUS:CONFIRMED
LAST-MODIFIED:20250930T124742Z
DESCRIPTION:3. Liga O40 Gruppe 2\nBegegnungs-Nr: 0\nHeim: Wolfhausen\nGast: Winterthur II\n\nAdresse: Schulstrasse 9\, 8633 Wolfhausen\n
LOCATION:Schulstrasse 9\, 8633 Wolfhausen
CATEGORIES:Saison 2025/26
END:VEVENT
BEGIN:VEVENT
DTSTAMP:20260424T135849Z
DTSTART;TZID=Europe/Berlin:20250910T194500
DTEND;TZID=Europe/Berlin:20250910T224500
SUMMARY:O40 3. Liga Gr. 2 Zürich-Affoltern II vs Winterthur II (0)
UID:63b7cc8c-e1ae-4bed-952b-fb89fe77d477
STATUS:CONFIRMED
LAST-MODIFIED:20250916T092054Z
DESCRIPTION:3. Liga O40 Gruppe 2\nBegegnungs-Nr: 0\nHeim: Zürich-Affoltern II\nGast: Winterthur II\n\nAdresse: Fronwaldstr.115\, 8046 Zürich\n
LOCATION:Fronwaldstr.115\, 8046 Zürich
CATEGORIES:Saison 2025/26
END:VEVENT
BEGIN:VEVENT
DTSTAMP:20260424T135849Z
DTSTART;TZID=Europe/Berlin:20251125T201500
DTEND;TZID=Europe/Berlin:20251125T231500
SUMMARY:O40 3. Liga Gr. 2 Dübendorf-Volketswil vs Winterthur II (0)
UID:aca93605-0107-41e6-b98a-778d4209b294
STATUS:CONFIRMED
LAST-MODIFIED:20251128T134532Z
DESCRIPTION:3. Liga O40 Gruppe 2\nBegegnungs-Nr: 0\nHeim: Dübendorf-Volketswil\nGast: Winterthur II\n\nAdresse: Dübendorfstrasse 46\, 8602 Wangen ZH\n
LOCATION:Dübendorfstrasse 46\, 8602 Wangen ZH
CATEGORIES:Saison 2025/26
END:VEVENT
BEGIN:VEVENT
DTSTAMP:20260424T135849Z
DTSTART;TZID=Europe/Berlin:20251218T200000
DTEND;TZID=Europe/Berlin:20251218T230000
SUMMARY:O40 3. Liga Gr. 2 Pinguin Zürich II vs Winterthur II (0)
UID:7c51868d-1830-4239-83ba-7cb10a176bd3
STATUS:CONFIRMED
LAST-MODIFIED:20260109T080622Z
DESCRIPTION:3. Liga O40 Gruppe 2\nBegegnungs-Nr: 0\nHeim: Pinguin Zürich II\nGast: Winterthur II\n\nAdresse: Grindelstrasse 20\, 8303 Bassersdorf\n
LOCATION:Grindelstrasse 20\, 8303 Bassersdorf
CATEGORIES:Saison 2025/26
END:VEVENT
END:VCALENDAR
