BEGIN:VCALENDAR
PRODID:-//nuDatenautomaten//framework iCal4j //DE
VERSION:2.0
CALSCALE:GREGORIAN
BEGIN:VTIMEZONE
TZID:Europe/Berlin
LAST-MODIFIED:20260306T231828Z
TZURL:https://www.tzurl.org/zoneinfo/Europe/Berlin
X-LIC-LOCATION:Europe/Berlin
X-PROLEPTIC-TZNAME:LMT
BEGIN:STANDARD
TZNAME:CET
TZOFFSETFROM:+005328
TZOFFSETTO:+0100
DTSTART:18930401T000000
END:STANDARD
BEGIN:DAYLIGHT
TZNAME:CEST
TZOFFSETFROM:+0100
TZOFFSETTO:+0200
DTSTART:19160430T230000
RDATE:19400401T020000
RDATE:19430329T020000
RDATE:19460414T020000
RDATE:19470406T030000
RDATE:19480418T020000
RDATE:19490410T020000
RDATE:19800406T020000
END:DAYLIGHT
BEGIN:STANDARD
TZNAME:CET
TZOFFSETFROM:+0200
TZOFFSETTO:+0100
DTSTART:19161001T010000
RDATE:19421102T030000
RDATE:19431004T030000
RDATE:19441002T030000
RDATE:19451118T030000
RDATE:19461007T030000
END:STANDARD
BEGIN:DAYLIGHT
TZNAME:CEST
TZOFFSETFROM:+0100
TZOFFSETTO:+0200
DTSTART:19170416T020000
RRULE:FREQ=YEARLY;UNTIL=19180415T010000Z;BYMONTH=4;BYDAY=3MO
END:DAYLIGHT
BEGIN:STANDARD
TZNAME:CET
TZOFFSETFROM:+0200
TZOFFSETTO:+0100
DTSTART:19170917T030000
RRULE:FREQ=YEARLY;UNTIL=19180916T010000Z;BYMONTH=9;BYDAY=3MO
END:STANDARD
BEGIN:DAYLIGHT
TZNAME:CEST
TZOFFSETFROM:+0100
TZOFFSETTO:+0200
DTSTART:19440403T020000
RRULE:FREQ=YEARLY;UNTIL=19450402T010000Z;BYMONTH=4;BYDAY=1MO
END:DAYLIGHT
BEGIN:DAYLIGHT
TZNAME:CEMT
TZOFFSETFROM:+0200
TZOFFSETTO:+0300
DTSTART:19450524T020000
RDATE:19470511T030000
END:DAYLIGHT
BEGIN:DAYLIGHT
TZNAME:CEST
TZOFFSETFROM:+0300
TZOFFSETTO:+0200
DTSTART:19450924T030000
RDATE:19470629T030000
END:DAYLIGHT
BEGIN:STANDARD
TZNAME:CET
TZOFFSETFROM:+0100
TZOFFSETTO:+0100
DTSTART:19460101T000000
RDATE:19800101T000000
END:STANDARD
BEGIN:STANDARD
TZNAME:CET
TZOFFSETFROM:+0200
TZOFFSETTO:+0100
DTSTART:19471005T030000
RRULE:FREQ=YEARLY;UNTIL=19491002T010000Z;BYMONTH=10;BYDAY=1SU
END:STANDARD
BEGIN:STANDARD
TZNAME:CET
TZOFFSETFROM:+0200
TZOFFSETTO:+0100
DTSTART:19800928T030000
RRULE:FREQ=YEARLY;UNTIL=19950924T010000Z;BYMONTH=9;BYDAY=-1SU
END:STANDARD
BEGIN:DAYLIGHT
TZNAME:CEST
TZOFFSETFROM:+0100
TZOFFSETTO:+0200
DTSTART:19810329T020000
RRULE:FREQ=YEARLY;BYMONTH=3;BYDAY=-1SU
END:DAYLIGHT
BEGIN:STANDARD
TZNAME:CET
TZOFFSETFROM:+0200
TZOFFSETTO:+0100
DTSTART:19961027T030000
RRULE:FREQ=YEARLY;BYMONTH=10;BYDAY=-1SU
END:STANDARD
END:VTIMEZONE
BEGIN:VEVENT
DTSTAMP:20260424T063718Z
DTSTART;TZID=Europe/Berlin:20250918T193000
DTEND;TZID=Europe/Berlin:20250918T223000
SUMMARY:HE 2. Liga Gr. 2 Wohlensee vs Burgdorf IV (7)
UID:2376abf3-b3f9-46f9-b742-07f1c9c56feb
STATUS:CONFIRMED
LAST-MODIFIED:20250921T150449Z
DESCRIPTION:2. Liga Herren Gruppe 2\nBegegnungs-Nr: 7\nHeim: Wohlensee\nGast: Burgdorf IV\n\nAdresse: Kappelenring 36 a\, 3032 Hinterkappelen\n
LOCATION:Kappelenring 36 a\, 3032 Hinterkappelen
CATEGORIES:Saison 2025/26
END:VEVENT
BEGIN:VEVENT
DTSTAMP:20260424T063718Z
DTSTART;TZID=Europe/Berlin:20260312T193000
DTEND;TZID=Europe/Berlin:20260312T223000
SUMMARY:HE 2. Liga Gr. 2 Wohlensee vs Grenchen (35)
UID:9b1391bb-03e2-4c5e-b618-2d153ff23fac
STATUS:CONFIRMED
LAST-MODIFIED:20260315T225757Z
DESCRIPTION:2. Liga Herren Gruppe 2\nBegegnungs-Nr: 35\nHeim: Wohlensee\nGast: Grenchen\n\nAdresse: Kappelenring 36 a\, 3032 Hinterkappelen\n
LOCATION:Kappelenring 36 a\, 3032 Hinterkappelen
CATEGORIES:Saison 2025/26
END:VEVENT
BEGIN:VEVENT
DTSTAMP:20260424T063718Z
DTSTART;TZID=Europe/Berlin:20260225T193000
DTEND;TZID=Europe/Berlin:20260225T223000
SUMMARY:HE 2. Liga Gr. 2 Wohlensee vs Solothurn III (25)
UID:8e9a0a35-b4ef-49d2-87b3-36371c49732a
STATUS:CONFIRMED
LAST-MODIFIED:20260302T144420Z
DESCRIPTION:2. Liga Herren Gruppe 2\nBegegnungs-Nr: 25\nHeim: Wohlensee\nGast: Solothurn III\n\nAdresse: Kappelenring 36 a\, 3032 Hinterkappelen\n
LOCATION:Kappelenring 36 a\, 3032 Hinterkappelen
CATEGORIES:Saison 2025/26
END:VEVENT
BEGIN:VEVENT
DTSTAMP:20260424T063718Z
DTSTART;TZID=Europe/Berlin:20260305T193000
DTEND;TZID=Europe/Berlin:20260305T223000
SUMMARY:HE 2. Liga Gr. 2 Wohlensee vs Köniz (13)
UID:654c5d59-b815-404b-bd8f-fc9776e688db
STATUS:CONFIRMED
LAST-MODIFIED:20260308T173430Z
DESCRIPTION:2. Liga Herren Gruppe 2\nBegegnungs-Nr: 13\nHeim: Wohlensee\nGast: Köniz\n\nAdresse: Kappelenring 36 a\, 3032 Hinterkappelen\n
LOCATION:Kappelenring 36 a\, 3032 Hinterkappelen
CATEGORIES:Saison 2025/26
END:VEVENT
BEGIN:VEVENT
DTSTAMP:20260424T063718Z
DTSTART;TZID=Europe/Berlin:20260108T193000
DTEND;TZID=Europe/Berlin:20260108T223000
SUMMARY:HE 2. Liga Gr. 2 Wohlensee vs Thun III (1)
UID:6c83697a-a095-4a31-97ca-ca0d01eda93b
STATUS:CONFIRMED
LAST-MODIFIED:20260125T000219Z
DESCRIPTION:2. Liga Herren Gruppe 2\nBegegnungs-Nr: 1\nHeim: Wohlensee\nGast: Thun III\n\nAdresse: Kappelenring 36 a\, 3032 Hinterkappelen\n
LOCATION:Kappelenring 36 a\, 3032 Hinterkappelen
CATEGORIES:Saison 2025/26
END:VEVENT
BEGIN:VEVENT
DTSTAMP:20260424T063718Z
DTSTART;TZID=Europe/Berlin:20260401T193000
DTEND;TZID=Europe/Berlin:20260401T223000
SUMMARY:HE 2. Liga Gr. 2 Wohlensee vs Port IV (45)
UID:728b71b7-78b4-44f8-b1ce-65830f9c8974
STATUS:CONFIRMED
LAST-MODIFIED:20260409T122910Z
DESCRIPTION:2. Liga Herren Gruppe 2\nBegegnungs-Nr: 45\nHeim: Wohlensee\nGast: Port IV\n\nAdresse: Kappelenring 36 a\, 3032 Hinterkappelen\n
LOCATION:Kappelenring 36 a\, 3032 Hinterkappelen
CATEGORIES:Saison 2025/26
END:VEVENT
BEGIN:VEVENT
DTSTAMP:20260424T063718Z
DTSTART;TZID=Europe/Berlin:20260319T193000
DTEND;TZID=Europe/Berlin:20260319T223000
SUMMARY:HE 2. Liga Gr. 2 Wohlensee vs Kirchberg (40)
UID:cf3c23a9-37e9-4cae-8895-9bd2b029fb8f
STATUS:CONFIRMED
LAST-MODIFIED:20260327T143308Z
DESCRIPTION:2. Liga Herren Gruppe 2\nBegegnungs-Nr: 40\nHeim: Wohlensee\nGast: Kirchberg\n\nAdresse: Kappelenring 36 a\, 3032 Hinterkappelen\n
LOCATION:Kappelenring 36 a\, 3032 Hinterkappelen
CATEGORIES:Saison 2025/26
END:VEVENT
BEGIN:VEVENT
DTSTAMP:20260424T063718Z
DTSTART;TZID=Europe/Berlin:20251126T193000
DTEND;TZID=Europe/Berlin:20251126T223000
SUMMARY:HE 2. Liga Gr. 2 Wohlensee vs Bern II (29)
UID:0209d4a7-503e-4622-9b67-d533d794ac08
STATUS:CONFIRMED
LAST-MODIFIED:20251206T233323Z
DESCRIPTION:2. Liga Herren Gruppe 2\nBegegnungs-Nr: 29\nHeim: Wohlensee\nGast: Bern II\n\nAdresse: Kappelenring 36 a\, 3032 Hinterkappelen\n
LOCATION:Kappelenring 36 a\, 3032 Hinterkappelen
CATEGORIES:Saison 2025/26
END:VEVENT
BEGIN:VEVENT
DTSTAMP:20260424T063718Z
DTSTART;TZID=Europe/Berlin:20251022T193000
DTEND;TZID=Europe/Berlin:20251022T223000
SUMMARY:HE 2. Liga Gr. 2 Wohlensee vs Royal Bern (19)
UID:d4c55f7a-c1dc-42d9-a381-2ae1e20a4be5
STATUS:CONFIRMED
LAST-MODIFIED:20251029T220724Z
DESCRIPTION:2. Liga Herren Gruppe 2\nBegegnungs-Nr: 19\nHeim: Wohlensee\nGast: Royal Bern\n\nAdresse: Kappelenring 36 a\, 3032 Hinterkappelen\n
LOCATION:Kappelenring 36 a\, 3032 Hinterkappelen
CATEGORIES:Saison 2025/26
END:VEVENT
BEGIN:VEVENT
DTSTAMP:20260424T063718Z
DTSTART;TZID=Europe/Berlin:20251015T194500
DTEND;TZID=Europe/Berlin:20251015T224500
SUMMARY:HE 2. Liga Gr. 2 Thun III vs Wohlensee (1)
UID:1f057ea3-44bc-4863-aa05-fcf9a21b4bbf
STATUS:CONFIRMED
LAST-MODIFIED:20251016T191604Z
DESCRIPTION:2. Liga Herren Gruppe 2\nBegegnungs-Nr: 1\nHeim: Thun III\nGast: Wohlensee\n\nAdresse: Hallerstrasse 28\, 3604 Thun\n
LOCATION:Hallerstrasse 28\, 3604 Thun
CATEGORIES:Saison 2025/26
END:VEVENT
BEGIN:VEVENT
DTSTAMP:20260424T063718Z
DTSTART;TZID=Europe/Berlin:20250915T200000
DTEND;TZID=Europe/Berlin:20250915T230000
SUMMARY:HE 2. Liga Gr. 2 Köniz vs Wohlensee (13)
UID:b8a79a72-3a88-422a-bb1c-62ffb947ee10
STATUS:CONFIRMED
LAST-MODIFIED:20250918T141306Z
DESCRIPTION:2. Liga Herren Gruppe 2\nBegegnungs-Nr: 13\nHeim: Köniz\nGast: Wohlensee\n\nAdresse: Kirchstrasse 72-76\, 3084 Wabern\n
LOCATION:Kirchstrasse 72-76\, 3084 Wabern
CATEGORIES:Saison 2025/26
END:VEVENT
BEGIN:VEVENT
DTSTAMP:20260424T063718Z
DTSTART;TZID=Europe/Berlin:20260227T193000
DTEND;TZID=Europe/Berlin:20260227T223000
SUMMARY:HE 2. Liga Gr. 2 Bern II vs Wohlensee (29)
UID:1d4fb3a0-68ad-4654-b0ea-b51a094e636d
STATUS:CONFIRMED
LAST-MODIFIED:20260302T144436Z
DESCRIPTION:2. Liga Herren Gruppe 2\nBegegnungs-Nr: 29\nHeim: Bern II\nGast: Wohlensee\n\nAdresse: Papiermühlestrasse 81\, 3014 Bern\n
LOCATION:Papiermühlestrasse 81\, 3014 Bern
CATEGORIES:Saison 2025/26
END:VEVENT
BEGIN:VEVENT
DTSTAMP:20260424T063718Z
DTSTART;TZID=Europe/Berlin:20260223T194500
DTEND;TZID=Europe/Berlin:20260223T224500
SUMMARY:HE 2. Liga Gr. 2 Royal Bern vs Wohlensee (19)
UID:60feb3a6-567c-4643-b4e9-a581ae99df37
STATUS:CONFIRMED
LAST-MODIFIED:20260224T075153Z
DESCRIPTION:2. Liga Herren Gruppe 2\nBegegnungs-Nr: 19\nHeim: Royal Bern\nGast: Wohlensee\n\nAdresse: Dändlikerweg 60\, 3014 Bern\n
LOCATION:Dändlikerweg 60\, 3014 Bern
CATEGORIES:Saison 2025/26
END:VEVENT
BEGIN:VEVENT
DTSTAMP:20260424T063718Z
DTSTART;TZID=Europe/Berlin:20260221T163000
DTEND;TZID=Europe/Berlin:20260221T193000
SUMMARY:HE 2. Liga Gr. 2 Burgdorf IV vs Wohlensee (7)
UID:59a10e29-5fb3-461a-ad72-38bcfb3f466e
STATUS:CONFIRMED
LAST-MODIFIED:20260224T075145Z
DESCRIPTION:2. Liga Herren Gruppe 2\nBegegnungs-Nr: 7\nHeim: Burgdorf IV\nGast: Wohlensee\n\nAdresse: Pestalozzistrasse 69\, 3400 Burgdorf\n
LOCATION:Pestalozzistrasse 69\, 3400 Burgdorf
CATEGORIES:Saison 2025/26
END:VEVENT
BEGIN:VEVENT
DTSTAMP:20260424T063718Z
DTSTART;TZID=Europe/Berlin:20250902T194500
DTEND;TZID=Europe/Berlin:20250902T224500
SUMMARY:HE 2. Liga Gr. 2 Kirchberg vs Wohlensee (40)
UID:e7bca472-2551-42f9-b31b-129b34a1dab4
STATUS:CONFIRMED
LAST-MODIFIED:20250907T200251Z
DESCRIPTION:2. Liga Herren Gruppe 2\nBegegnungs-Nr: 40\nHeim: Kirchberg\nGast: Wohlensee\n\nAdresse: Reinhardweg\, 3422 Kirchberg\n
LOCATION:Reinhardweg\, 3422 Kirchberg
CATEGORIES:Saison 2025/26
END:VEVENT
BEGIN:VEVENT
DTSTAMP:20260424T063718Z
DTSTART;TZID=Europe/Berlin:20251121T194500
DTEND;TZID=Europe/Berlin:20251121T224500
SUMMARY:HE 2. Liga Gr. 2 Grenchen vs Wohlensee (35)
UID:56f70c4d-5e12-4de5-941b-49aad627410f
STATUS:CONFIRMED
LAST-MODIFIED:20251122T091507Z
DESCRIPTION:2. Liga Herren Gruppe 2\nBegegnungs-Nr: 35\nHeim: Grenchen\nGast: Wohlensee\n\nAdresse: Witmattstrasse\, 2540 Grenchen\n
LOCATION:Witmattstrasse\, 2540 Grenchen
CATEGORIES:Saison 2025/26
END:VEVENT
BEGIN:VEVENT
DTSTAMP:20260424T063718Z
DTSTART;TZID=Europe/Berlin:20251105T194500
DTEND;TZID=Europe/Berlin:20251105T224500
SUMMARY:HE 2. Liga Gr. 2 Solothurn III vs Wohlensee (25)
UID:e6877f2c-f313-412f-ad16-a2f2f957b0de
STATUS:CONFIRMED
LAST-MODIFIED:20251115T171225Z
DESCRIPTION:2. Liga Herren Gruppe 2\nBegegnungs-Nr: 25\nHeim: Solothurn III\nGast: Wohlensee\n\nAdresse: Untere Sternengasse 24\, 4500 Solothurn\n
LOCATION:Untere Sternengasse 24\, 4500 Solothurn
CATEGORIES:Saison 2025/26
END:VEVENT
BEGIN:VEVENT
DTSTAMP:20260424T063718Z
DTSTART;TZID=Europe/Berlin:20251212T194500
DTEND;TZID=Europe/Berlin:20251212T224500
SUMMARY:HE 2. Liga Gr. 2 Port IV vs Wohlensee (45)
UID:c18ef160-6b65-4671-9449-b03d72d9114d
STATUS:CONFIRMED
LAST-MODIFIED:20251216T120252Z
DESCRIPTION:2. Liga Herren Gruppe 2\nBegegnungs-Nr: 45\nHeim: Port IV\nGast: Wohlensee\n\nAdresse: Allmendstrasse 23\, 2562 Port\n
LOCATION:Allmendstrasse 23\, 2562 Port
CATEGORIES:Saison 2025/26
END:VEVENT
END:VCALENDAR
