BEGIN:VCALENDAR
PRODID:-//nuDatenautomaten//framework iCal4j //DE
VERSION:2.0
CALSCALE:GREGORIAN
BEGIN:VTIMEZONE
TZID:Europe/Berlin
LAST-MODIFIED:20260306T231828Z
TZURL:https://www.tzurl.org/zoneinfo/Europe/Berlin
X-LIC-LOCATION:Europe/Berlin
X-PROLEPTIC-TZNAME:LMT
BEGIN:STANDARD
TZNAME:CET
TZOFFSETFROM:+005328
TZOFFSETTO:+0100
DTSTART:18930401T000000
END:STANDARD
BEGIN:DAYLIGHT
TZNAME:CEST
TZOFFSETFROM:+0100
TZOFFSETTO:+0200
DTSTART:19160430T230000
RDATE:19400401T020000
RDATE:19430329T020000
RDATE:19460414T020000
RDATE:19470406T030000
RDATE:19480418T020000
RDATE:19490410T020000
RDATE:19800406T020000
END:DAYLIGHT
BEGIN:STANDARD
TZNAME:CET
TZOFFSETFROM:+0200
TZOFFSETTO:+0100
DTSTART:19161001T010000
RDATE:19421102T030000
RDATE:19431004T030000
RDATE:19441002T030000
RDATE:19451118T030000
RDATE:19461007T030000
END:STANDARD
BEGIN:DAYLIGHT
TZNAME:CEST
TZOFFSETFROM:+0100
TZOFFSETTO:+0200
DTSTART:19170416T020000
RRULE:FREQ=YEARLY;UNTIL=19180415T010000Z;BYMONTH=4;BYDAY=3MO
END:DAYLIGHT
BEGIN:STANDARD
TZNAME:CET
TZOFFSETFROM:+0200
TZOFFSETTO:+0100
DTSTART:19170917T030000
RRULE:FREQ=YEARLY;UNTIL=19180916T010000Z;BYMONTH=9;BYDAY=3MO
END:STANDARD
BEGIN:DAYLIGHT
TZNAME:CEST
TZOFFSETFROM:+0100
TZOFFSETTO:+0200
DTSTART:19440403T020000
RRULE:FREQ=YEARLY;UNTIL=19450402T010000Z;BYMONTH=4;BYDAY=1MO
END:DAYLIGHT
BEGIN:DAYLIGHT
TZNAME:CEMT
TZOFFSETFROM:+0200
TZOFFSETTO:+0300
DTSTART:19450524T020000
RDATE:19470511T030000
END:DAYLIGHT
BEGIN:DAYLIGHT
TZNAME:CEST
TZOFFSETFROM:+0300
TZOFFSETTO:+0200
DTSTART:19450924T030000
RDATE:19470629T030000
END:DAYLIGHT
BEGIN:STANDARD
TZNAME:CET
TZOFFSETFROM:+0100
TZOFFSETTO:+0100
DTSTART:19460101T000000
RDATE:19800101T000000
END:STANDARD
BEGIN:STANDARD
TZNAME:CET
TZOFFSETFROM:+0200
TZOFFSETTO:+0100
DTSTART:19471005T030000
RRULE:FREQ=YEARLY;UNTIL=19491002T010000Z;BYMONTH=10;BYDAY=1SU
END:STANDARD
BEGIN:STANDARD
TZNAME:CET
TZOFFSETFROM:+0200
TZOFFSETTO:+0100
DTSTART:19800928T030000
RRULE:FREQ=YEARLY;UNTIL=19950924T010000Z;BYMONTH=9;BYDAY=-1SU
END:STANDARD
BEGIN:DAYLIGHT
TZNAME:CEST
TZOFFSETFROM:+0100
TZOFFSETTO:+0200
DTSTART:19810329T020000
RRULE:FREQ=YEARLY;BYMONTH=3;BYDAY=-1SU
END:DAYLIGHT
BEGIN:STANDARD
TZNAME:CET
TZOFFSETFROM:+0200
TZOFFSETTO:+0100
DTSTART:19961027T030000
RRULE:FREQ=YEARLY;BYMONTH=10;BYDAY=-1SU
END:STANDARD
END:VTIMEZONE
BEGIN:VEVENT
DTSTAMP:20260424T044536Z
DTSTART;TZID=Europe/Berlin:20251014T194500
DTEND;TZID=Europe/Berlin:20251014T224500
SUMMARY:HE 4. Liga Gr. 3 Zofingen II vs BW Rupperswil II (0)
UID:a2ff0081-be72-4bb8-958a-715efac80ac9
STATUS:CONFIRMED
LAST-MODIFIED:20251016T145744Z
DESCRIPTION:4. Liga Herren Gruppe 3\nBegegnungs-Nr: 0\nHeim: Zofingen II\nGast: BW Rupperswil II\n\nAdresse: Strengelbacherstrasse 14\, 4800 Zofingen\n
LOCATION:Strengelbacherstrasse 14\, 4800 Zofingen
CATEGORIES:Saison 2025/26
END:VEVENT
BEGIN:VEVENT
DTSTAMP:20260424T044536Z
DTSTART;TZID=Europe/Berlin:20251118T194500
DTEND;TZID=Europe/Berlin:20251118T224500
SUMMARY:HE 4. Liga Gr. 3 Zofingen II vs Aarau III (0)
UID:b3f5b695-aad9-4241-8eb6-c5a5a6c18446
STATUS:CONFIRMED
LAST-MODIFIED:20251120T083313Z
DESCRIPTION:4. Liga Herren Gruppe 3\nBegegnungs-Nr: 0\nHeim: Zofingen II\nGast: Aarau III\n\nAdresse: Strengelbacherstrasse 14\, 4800 Zofingen\n
LOCATION:Strengelbacherstrasse 14\, 4800 Zofingen
CATEGORIES:Saison 2025/26
END:VEVENT
BEGIN:VEVENT
DTSTAMP:20260424T044536Z
DTSTART;TZID=Europe/Berlin:20251216T194500
DTEND;TZID=Europe/Berlin:20251216T224500
SUMMARY:HE 4. Liga Gr. 3 Zofingen II vs Gelterkinden II (0)
UID:3dda1c40-bd84-4256-8a07-a41821ed3edb
STATUS:CONFIRMED
LAST-MODIFIED:20251217T080447Z
DESCRIPTION:4. Liga Herren Gruppe 3\nBegegnungs-Nr: 0\nHeim: Zofingen II\nGast: Gelterkinden II\n\nAdresse: Strengelbacherstrasse 14\, 4800 Zofingen\n
LOCATION:Strengelbacherstrasse 14\, 4800 Zofingen
CATEGORIES:Saison 2025/26
END:VEVENT
BEGIN:VEVENT
DTSTAMP:20260424T044536Z
DTSTART;TZID=Europe/Berlin:20260203T194500
DTEND;TZID=Europe/Berlin:20260203T224500
SUMMARY:HE 4. Liga Gr. 3 Zofingen II vs Bremgarten VII (0)
UID:de7460f7-954d-463b-b3ad-2d72ac68cfb9
STATUS:CONFIRMED
LAST-MODIFIED:20260211T093740Z
DESCRIPTION:4. Liga Herren Gruppe 3\nBegegnungs-Nr: 0\nHeim: Zofingen II\nGast: Bremgarten VII\n\nAdresse: Strengelbacherstrasse 14\, 4800 Zofingen\n
LOCATION:Strengelbacherstrasse 14\, 4800 Zofingen
CATEGORIES:Saison 2025/26
END:VEVENT
BEGIN:VEVENT
DTSTAMP:20260424T044536Z
DTSTART;TZID=Europe/Berlin:20260224T194500
DTEND;TZID=Europe/Berlin:20260224T224500
SUMMARY:HE 4. Liga Gr. 3 Zofingen II vs Birrfeld (0)
UID:25c692af-0d88-4ffd-83c7-2e9f77e28e26
STATUS:CONFIRMED
LAST-MODIFIED:20260225T111844Z
DESCRIPTION:4. Liga Herren Gruppe 3\nBegegnungs-Nr: 0\nHeim: Zofingen II\nGast: Birrfeld\n\nAdresse: Strengelbacherstrasse 14\, 4800 Zofingen\n
LOCATION:Strengelbacherstrasse 14\, 4800 Zofingen
CATEGORIES:Saison 2025/26
END:VEVENT
BEGIN:VEVENT
DTSTAMP:20260424T044536Z
DTSTART;TZID=Europe/Berlin:20260331T194500
DTEND;TZID=Europe/Berlin:20260331T224500
SUMMARY:HE 4. Liga Gr. 3 Zofingen II vs Olten V (0)
UID:83623631-b5b6-4496-a30a-ddceed284dda
STATUS:CONFIRMED
LAST-MODIFIED:20260416T093736Z
DESCRIPTION:4. Liga Herren Gruppe 3\nBegegnungs-Nr: 0\nHeim: Zofingen II\nGast: Olten V\n\nAdresse: Strengelbacherstrasse 14\, 4800 Zofingen\n
LOCATION:Strengelbacherstrasse 14\, 4800 Zofingen
CATEGORIES:Saison 2025/26
END:VEVENT
BEGIN:VEVENT
DTSTAMP:20260424T044536Z
DTSTART;TZID=Europe/Berlin:20250902T194500
DTEND;TZID=Europe/Berlin:20250902T224500
SUMMARY:HE 4. Liga Gr. 3 Zofingen II vs Frick III (0)
UID:e7dc36b4-7fd3-42af-b922-532e37d2d719
STATUS:CONFIRMED
LAST-MODIFIED:20250905T121420Z
DESCRIPTION:4. Liga Herren Gruppe 3\nBegegnungs-Nr: 0\nHeim: Zofingen II\nGast: Frick III\n\nAdresse: Strengelbacherstrasse 14\, 4800 Zofingen\n
LOCATION:Strengelbacherstrasse 14\, 4800 Zofingen
CATEGORIES:Saison 2025/26
END:VEVENT
BEGIN:VEVENT
DTSTAMP:20260424T044536Z
DTSTART;TZID=Europe/Berlin:20251101T151500
DTEND;TZID=Europe/Berlin:20251101T181500
SUMMARY:HE 4. Liga Gr. 3 Birrfeld vs Zofingen II (0)
UID:30d45bd8-8b4b-4430-8355-d1d96616a310
STATUS:CONFIRMED
LAST-MODIFIED:20251107T143223Z
DESCRIPTION:4. Liga Herren Gruppe 3\nBegegnungs-Nr: 0\nHeim: Birrfeld\nGast: Zofingen II\n\nAdresse: Zentralstrasse 30\, 5242 Birr\n
LOCATION:Zentralstrasse 30\, 5242 Birr
CATEGORIES:Saison 2025/26
END:VEVENT
BEGIN:VEVENT
DTSTAMP:20260424T044536Z
DTSTART;TZID=Europe/Berlin:20251126T200000
DTEND;TZID=Europe/Berlin:20251126T230000
SUMMARY:HE 4. Liga Gr. 3 Olten V vs Zofingen II (0)
UID:88a4b2ba-f794-4d7a-abbb-f55350c26717
STATUS:CONFIRMED
LAST-MODIFIED:20251128T134055Z
DESCRIPTION:4. Liga Herren Gruppe 3\nBegegnungs-Nr: 0\nHeim: Olten V\nGast: Zofingen II\n\nAdresse: Stockackerstrasse 17\, 5013 Niedergösgen\n
LOCATION:Stockackerstrasse 17\, 5013 Niedergösgen
CATEGORIES:Saison 2025/26
END:VEVENT
BEGIN:VEVENT
DTSTAMP:20260424T044536Z
DTSTART;TZID=Europe/Berlin:20260112T200000
DTEND;TZID=Europe/Berlin:20260112T230000
SUMMARY:HE 4. Liga Gr. 3 Frick III vs Zofingen II (0)
UID:83bf490c-9a8d-4001-894a-8dfc0025bed3
STATUS:CONFIRMED
LAST-MODIFIED:20260115T094725Z
DESCRIPTION:4. Liga Herren Gruppe 3\nBegegnungs-Nr: 0\nHeim: Frick III\nGast: Zofingen II\n\nAdresse: Schulstrasse 51\, 5070 Frick\n
LOCATION:Schulstrasse 51\, 5070 Frick
CATEGORIES:Saison 2025/26
END:VEVENT
BEGIN:VEVENT
DTSTAMP:20260424T044536Z
DTSTART;TZID=Europe/Berlin:20260209T203000
DTEND;TZID=Europe/Berlin:20260209T233000
SUMMARY:HE 4. Liga Gr. 3 BW Rupperswil II vs Zofingen II (0)
UID:c66d2def-cb38-41b8-bf1a-e6639bc5b288
STATUS:CONFIRMED
LAST-MODIFIED:20260211T093845Z
DESCRIPTION:4. Liga Herren Gruppe 3\nBegegnungs-Nr: 0\nHeim: BW Rupperswil II\nGast: Zofingen II\n\nAdresse: -\, 5102 Rupperswil\n
LOCATION:-\, 5102 Rupperswil
CATEGORIES:Saison 2025/26
END:VEVENT
BEGIN:VEVENT
DTSTAMP:20260424T044536Z
DTSTART;TZID=Europe/Berlin:20260313T194500
DTEND;TZID=Europe/Berlin:20260313T224500
SUMMARY:HE 4. Liga Gr. 3 Aarau III vs Zofingen II (0)
UID:1fa02a6f-0fd8-4492-af7d-e39f8190d4de
STATUS:CONFIRMED
LAST-MODIFIED:20260420T133926Z
DESCRIPTION:4. Liga Herren Gruppe 3\nBegegnungs-Nr: 0\nHeim: Aarau III\nGast: Zofingen II\n\nAdresse: Weltistrasse 20\, 5000 Aarau\n
LOCATION:Weltistrasse 20\, 5000 Aarau
CATEGORIES:Saison 2025/26
END:VEVENT
BEGIN:VEVENT
DTSTAMP:20260424T044536Z
DTSTART;TZID=Europe/Berlin:20250827T201500
DTEND;TZID=Europe/Berlin:20250827T231500
SUMMARY:HE 4. Liga Gr. 3 Gelterkinden II vs Zofingen II (0)
UID:2fd8ad50-46f8-441f-80af-9cf9fcbf07b4
STATUS:CONFIRMED
LAST-MODIFIED:20250905T121411Z
DESCRIPTION:4. Liga Herren Gruppe 3\nBegegnungs-Nr: 0\nHeim: Gelterkinden II\nGast: Zofingen II\n\nAdresse: Turnhallenstrasse 18\, 4460 Gelterkinden\n
LOCATION:Turnhallenstrasse 18\, 4460 Gelterkinden
CATEGORIES:Saison 2025/26
END:VEVENT
BEGIN:VEVENT
DTSTAMP:20260424T044536Z
DTSTART;TZID=Europe/Berlin:20250919T201500
DTEND;TZID=Europe/Berlin:20250919T231500
SUMMARY:HE 4. Liga Gr. 3 Bremgarten VII vs Zofingen II (0)
UID:661b65c7-a3f5-4686-ae29-16ee1843efe2
STATUS:CONFIRMED
LAST-MODIFIED:20250926T123545Z
DESCRIPTION:4. Liga Herren Gruppe 3\nBegegnungs-Nr: 0\nHeim: Bremgarten VII\nGast: Zofingen II\n\nAdresse: Badstrasse 3\, 5620 Bremgarten\n
LOCATION:Badstrasse 3\, 5620 Bremgarten
CATEGORIES:Saison 2025/26
END:VEVENT
END:VCALENDAR
