BEGIN:VCALENDAR
PRODID:-//nuDatenautomaten//framework iCal4j //DE
VERSION:2.0
CALSCALE:GREGORIAN
BEGIN:VTIMEZONE
TZID:Europe/Berlin
LAST-MODIFIED:20260306T231828Z
TZURL:https://www.tzurl.org/zoneinfo/Europe/Berlin
X-LIC-LOCATION:Europe/Berlin
X-PROLEPTIC-TZNAME:LMT
BEGIN:STANDARD
TZNAME:CET
TZOFFSETFROM:+005328
TZOFFSETTO:+0100
DTSTART:18930401T000000
END:STANDARD
BEGIN:DAYLIGHT
TZNAME:CEST
TZOFFSETFROM:+0100
TZOFFSETTO:+0200
DTSTART:19160430T230000
RDATE:19400401T020000
RDATE:19430329T020000
RDATE:19460414T020000
RDATE:19470406T030000
RDATE:19480418T020000
RDATE:19490410T020000
RDATE:19800406T020000
END:DAYLIGHT
BEGIN:STANDARD
TZNAME:CET
TZOFFSETFROM:+0200
TZOFFSETTO:+0100
DTSTART:19161001T010000
RDATE:19421102T030000
RDATE:19431004T030000
RDATE:19441002T030000
RDATE:19451118T030000
RDATE:19461007T030000
END:STANDARD
BEGIN:DAYLIGHT
TZNAME:CEST
TZOFFSETFROM:+0100
TZOFFSETTO:+0200
DTSTART:19170416T020000
RRULE:FREQ=YEARLY;UNTIL=19180415T010000Z;BYMONTH=4;BYDAY=3MO
END:DAYLIGHT
BEGIN:STANDARD
TZNAME:CET
TZOFFSETFROM:+0200
TZOFFSETTO:+0100
DTSTART:19170917T030000
RRULE:FREQ=YEARLY;UNTIL=19180916T010000Z;BYMONTH=9;BYDAY=3MO
END:STANDARD
BEGIN:DAYLIGHT
TZNAME:CEST
TZOFFSETFROM:+0100
TZOFFSETTO:+0200
DTSTART:19440403T020000
RRULE:FREQ=YEARLY;UNTIL=19450402T010000Z;BYMONTH=4;BYDAY=1MO
END:DAYLIGHT
BEGIN:DAYLIGHT
TZNAME:CEMT
TZOFFSETFROM:+0200
TZOFFSETTO:+0300
DTSTART:19450524T020000
RDATE:19470511T030000
END:DAYLIGHT
BEGIN:DAYLIGHT
TZNAME:CEST
TZOFFSETFROM:+0300
TZOFFSETTO:+0200
DTSTART:19450924T030000
RDATE:19470629T030000
END:DAYLIGHT
BEGIN:STANDARD
TZNAME:CET
TZOFFSETFROM:+0100
TZOFFSETTO:+0100
DTSTART:19460101T000000
RDATE:19800101T000000
END:STANDARD
BEGIN:STANDARD
TZNAME:CET
TZOFFSETFROM:+0200
TZOFFSETTO:+0100
DTSTART:19471005T030000
RRULE:FREQ=YEARLY;UNTIL=19491002T010000Z;BYMONTH=10;BYDAY=1SU
END:STANDARD
BEGIN:STANDARD
TZNAME:CET
TZOFFSETFROM:+0200
TZOFFSETTO:+0100
DTSTART:19800928T030000
RRULE:FREQ=YEARLY;UNTIL=19950924T010000Z;BYMONTH=9;BYDAY=-1SU
END:STANDARD
BEGIN:DAYLIGHT
TZNAME:CEST
TZOFFSETFROM:+0100
TZOFFSETTO:+0200
DTSTART:19810329T020000
RRULE:FREQ=YEARLY;BYMONTH=3;BYDAY=-1SU
END:DAYLIGHT
BEGIN:STANDARD
TZNAME:CET
TZOFFSETFROM:+0200
TZOFFSETTO:+0100
DTSTART:19961027T030000
RRULE:FREQ=YEARLY;BYMONTH=10;BYDAY=-1SU
END:STANDARD
END:VTIMEZONE
BEGIN:VEVENT
DTSTAMP:20260423T224749Z
DTSTART;TZID=Europe/Berlin:20251020T200000
DTEND;TZID=Europe/Berlin:20251020T230000
SUMMARY:He 2. Liga Gr. 2 Baar III vs Rotkreuz (0)
UID:82877c69-037b-487a-b611-7869dfafe5a3
STATUS:CONFIRMED
LAST-MODIFIED:20251101T110114Z
DESCRIPTION:2. Liga Herren Gruppe 2\nBegegnungs-Nr: 0\nHeim: Baar III\nGast: Rotkreuz\n\nAdresse: Rigistrasse 175/177\, 6340 Baar\n
LOCATION:Rigistrasse 175/177\, 6340 Baar
CATEGORIES:Saison 2025/26
END:VEVENT
BEGIN:VEVENT
DTSTAMP:20260423T224749Z
DTSTART;TZID=Europe/Berlin:20260302T200000
DTEND;TZID=Europe/Berlin:20260302T230000
SUMMARY:He 2. Liga Gr. 2 Baar III vs Goldau (0)
UID:03b26cb2-70c3-457a-8b89-1a9ab635e07e
STATUS:CONFIRMED
LAST-MODIFIED:20260308T182352Z
DESCRIPTION:2. Liga Herren Gruppe 2\nBegegnungs-Nr: 0\nHeim: Baar III\nGast: Goldau\n\nAdresse: Rigistrasse 175/177\, 6340 Baar\n
LOCATION:Rigistrasse 175/177\, 6340 Baar
CATEGORIES:Saison 2025/26
END:VEVENT
BEGIN:VEVENT
DTSTAMP:20260423T224749Z
DTSTART;TZID=Europe/Berlin:20260119T200000
DTEND;TZID=Europe/Berlin:20260119T230000
SUMMARY:He 2. Liga Gr. 2 Baar III vs Zug (0)
UID:df644799-ea9e-4d0f-add5-b82b2e62bf04
STATUS:CONFIRMED
LAST-MODIFIED:20260122T173824Z
DESCRIPTION:2. Liga Herren Gruppe 2\nBegegnungs-Nr: 0\nHeim: Baar III\nGast: Zug\n\nAdresse: Rigistrasse 175/177\, 6340 Baar\n
LOCATION:Rigistrasse 175/177\, 6340 Baar
CATEGORIES:Saison 2025/26
END:VEVENT
BEGIN:VEVENT
DTSTAMP:20260423T224749Z
DTSTART;TZID=Europe/Berlin:20260105T200000
DTEND;TZID=Europe/Berlin:20260105T230000
SUMMARY:He 2. Liga Gr. 2 Baar III vs Hünenberg II (0)
UID:b134bbd2-7b78-4a4b-b0af-8cb8ce241d03
STATUS:CONFIRMED
LAST-MODIFIED:20260106T170651Z
DESCRIPTION:2. Liga Herren Gruppe 2\nBegegnungs-Nr: 0\nHeim: Baar III\nGast: Hünenberg II\n\nAdresse: Rigistrasse 175/177\, 6340 Baar\n
LOCATION:Rigistrasse 175/177\, 6340 Baar
CATEGORIES:Saison 2025/26
END:VEVENT
BEGIN:VEVENT
DTSTAMP:20260423T224749Z
DTSTART;TZID=Europe/Berlin:20250915T200000
DTEND;TZID=Europe/Berlin:20250915T230000
SUMMARY:He 2. Liga Gr. 2 Baar III vs Schenkon III (0)
UID:6b60c2aa-368c-4ebb-b07c-ceba20ac1f4e
STATUS:CONFIRMED
LAST-MODIFIED:20250930T052818Z
DESCRIPTION:2. Liga Herren Gruppe 2\nBegegnungs-Nr: 0\nHeim: Baar III\nGast: Schenkon III\n\nAdresse: Rigistrasse 175/177\, 6340 Baar\n
LOCATION:Rigistrasse 175/177\, 6340 Baar
CATEGORIES:Saison 2025/26
END:VEVENT
BEGIN:VEVENT
DTSTAMP:20260423T224749Z
DTSTART;TZID=Europe/Berlin:20250825T200000
DTEND;TZID=Europe/Berlin:20250825T230000
SUMMARY:He 2. Liga Gr. 2 Baar III vs Kriens IV (0)
UID:4eb62012-ef05-4046-bbe4-ec17e5285f0e
STATUS:CONFIRMED
LAST-MODIFIED:20250831T092116Z
DESCRIPTION:2. Liga Herren Gruppe 2\nBegegnungs-Nr: 0\nHeim: Baar III\nGast: Kriens IV\n\nAdresse: Rigistrasse 175/177\, 6340 Baar\n
LOCATION:Rigistrasse 175/177\, 6340 Baar
CATEGORIES:Saison 2025/26
END:VEVENT
BEGIN:VEVENT
DTSTAMP:20260423T224749Z
DTSTART;TZID=Europe/Berlin:20250901T200000
DTEND;TZID=Europe/Berlin:20250901T230000
SUMMARY:He 2. Liga Gr. 2 Baar III vs Rapid Luzern V (0)
UID:2e0cb8a5-25e4-4be1-83a9-082bc863eb07
STATUS:CONFIRMED
LAST-MODIFIED:20250907T155506Z
DESCRIPTION:2. Liga Herren Gruppe 2\nBegegnungs-Nr: 0\nHeim: Baar III\nGast: Rapid Luzern V\n\nAdresse: Rigistrasse 175/177\, 6340 Baar\n
LOCATION:Rigistrasse 175/177\, 6340 Baar
CATEGORIES:Saison 2025/26
END:VEVENT
BEGIN:VEVENT
DTSTAMP:20260423T224749Z
DTSTART;TZID=Europe/Berlin:20260226T200000
DTEND;TZID=Europe/Berlin:20260226T230000
SUMMARY:He 2. Liga Gr. 2 Goldau vs Baar III (0)
UID:71d9b996-3d3e-42a7-a6b7-a6c2e10e9d42
STATUS:CONFIRMED
LAST-MODIFIED:20260308T182334Z
DESCRIPTION:2. Liga Herren Gruppe 2\nBegegnungs-Nr: 0\nHeim: Goldau\nGast: Baar III\n\nAdresse: Zaystrasse\, 6410 Goldau\n
LOCATION:Zaystrasse\, 6410 Goldau
CATEGORIES:Saison 2025/26
END:VEVENT
BEGIN:VEVENT
DTSTAMP:20260423T224749Z
DTSTART;TZID=Europe/Berlin:20251105T200000
DTEND;TZID=Europe/Berlin:20251105T230000
SUMMARY:He 2. Liga Gr. 2 Zug vs Baar III (0)
UID:8e85a8aa-ffee-48d6-8820-a24773e76915
STATUS:CONFIRMED
LAST-MODIFIED:20251125T134408Z
DESCRIPTION:2. Liga Herren Gruppe 2\nBegegnungs-Nr: 0\nHeim: Zug\nGast: Baar III\n\nAdresse: Lüssiweg 24\, 6300 Zug\n
LOCATION:Lüssiweg 24\, 6300 Zug
CATEGORIES:Saison 2025/26
END:VEVENT
BEGIN:VEVENT
DTSTAMP:20260423T224749Z
DTSTART;TZID=Europe/Berlin:20250925T200000
DTEND;TZID=Europe/Berlin:20250925T230000
SUMMARY:He 2. Liga Gr. 2 Hünenberg II vs Baar III (0)
UID:084d9b35-8310-46c4-bc20-9e2368799a97
STATUS:CONFIRMED
LAST-MODIFIED:20250930T053719Z
DESCRIPTION:2. Liga Herren Gruppe 2\nBegegnungs-Nr: 0\nHeim: Hünenberg II\nGast: Baar III\n\nAdresse: Lindenbergstrasse 25\, 6331 Hünenberg\n
LOCATION:Lindenbergstrasse 25\, 6331 Hünenberg
CATEGORIES:Saison 2025/26
END:VEVENT
BEGIN:VEVENT
DTSTAMP:20260423T224749Z
DTSTART;TZID=Europe/Berlin:20260116T200000
DTEND;TZID=Europe/Berlin:20260116T230000
SUMMARY:He 2. Liga Gr. 2 Rotkreuz vs Baar III (0)
UID:a7b6d187-3d10-408c-90e1-4cf3ce4d73a5
STATUS:CONFIRMED
LAST-MODIFIED:20260122T173746Z
DESCRIPTION:2. Liga Herren Gruppe 2\nBegegnungs-Nr: 0\nHeim: Rotkreuz\nGast: Baar III\n\nAdresse: Buonaserstr. 23\, 6343 Rotkreuz\n
LOCATION:Buonaserstr. 23\, 6343 Rotkreuz
CATEGORIES:Saison 2025/26
END:VEVENT
BEGIN:VEVENT
DTSTAMP:20260423T224749Z
DTSTART;TZID=Europe/Berlin:20260328T130000
DTEND;TZID=Europe/Berlin:20260328T160000
SUMMARY:He 2. Liga Gr. 2 Rapid Luzern V vs Baar III (0)
UID:d87e9ae4-dc38-4542-8d37-3cfb8452d1cd
STATUS:CONFIRMED
LAST-MODIFIED:20260329T152609Z
DESCRIPTION:2. Liga Herren Gruppe 2\nBegegnungs-Nr: 0\nHeim: Rapid Luzern V\nGast: Baar III\n\nAdresse: Kreuzbuchstr. 60\, 6006 Luzern\n
LOCATION:Kreuzbuchstr. 60\, 6006 Luzern
CATEGORIES:Saison 2025/26
END:VEVENT
BEGIN:VEVENT
DTSTAMP:20260423T224749Z
DTSTART;TZID=Europe/Berlin:20251219T201500
DTEND;TZID=Europe/Berlin:20251219T231500
SUMMARY:He 2. Liga Gr. 2 Schenkon III vs Baar III (0)
UID:69e659a4-c2f8-4504-9df6-50dcce7597a3
STATUS:CONFIRMED
LAST-MODIFIED:20260106T170703Z
DESCRIPTION:2. Liga Herren Gruppe 2\nBegegnungs-Nr: 0\nHeim: Schenkon III\nGast: Baar III\n6214 Schenkon\n
LOCATION:6214 Schenkon
CATEGORIES:Saison 2025/26
END:VEVENT
BEGIN:VEVENT
DTSTAMP:20260423T224749Z
DTSTART;TZID=Europe/Berlin:20251125T200000
DTEND;TZID=Europe/Berlin:20251125T230000
SUMMARY:He 2. Liga Gr. 2 Kriens IV vs Baar III (0)
UID:1821bfe1-9d4a-4ef6-ac8c-3c13cda6756f
STATUS:CONFIRMED
LAST-MODIFIED:20251205T123617Z
DESCRIPTION:2. Liga Herren Gruppe 2\nBegegnungs-Nr: 0\nHeim: Kriens IV\nGast: Baar III\n\nAdresse: Krauerstrasse 1\, 6010 Kriens\n
LOCATION:Krauerstrasse 1\, 6010 Kriens
CATEGORIES:Saison 2025/26
END:VEVENT
END:VCALENDAR
