BEGIN:VCALENDAR
PRODID:-//nuDatenautomaten//framework iCal4j //DE
VERSION:2.0
CALSCALE:GREGORIAN
BEGIN:VTIMEZONE
TZID:Europe/Berlin
LAST-MODIFIED:20260306T231828Z
TZURL:https://www.tzurl.org/zoneinfo/Europe/Berlin
X-LIC-LOCATION:Europe/Berlin
X-PROLEPTIC-TZNAME:LMT
BEGIN:STANDARD
TZNAME:CET
TZOFFSETFROM:+005328
TZOFFSETTO:+0100
DTSTART:18930401T000000
END:STANDARD
BEGIN:DAYLIGHT
TZNAME:CEST
TZOFFSETFROM:+0100
TZOFFSETTO:+0200
DTSTART:19160430T230000
RDATE:19400401T020000
RDATE:19430329T020000
RDATE:19460414T020000
RDATE:19470406T030000
RDATE:19480418T020000
RDATE:19490410T020000
RDATE:19800406T020000
END:DAYLIGHT
BEGIN:STANDARD
TZNAME:CET
TZOFFSETFROM:+0200
TZOFFSETTO:+0100
DTSTART:19161001T010000
RDATE:19421102T030000
RDATE:19431004T030000
RDATE:19441002T030000
RDATE:19451118T030000
RDATE:19461007T030000
END:STANDARD
BEGIN:DAYLIGHT
TZNAME:CEST
TZOFFSETFROM:+0100
TZOFFSETTO:+0200
DTSTART:19170416T020000
RRULE:FREQ=YEARLY;UNTIL=19180415T010000Z;BYMONTH=4;BYDAY=3MO
END:DAYLIGHT
BEGIN:STANDARD
TZNAME:CET
TZOFFSETFROM:+0200
TZOFFSETTO:+0100
DTSTART:19170917T030000
RRULE:FREQ=YEARLY;UNTIL=19180916T010000Z;BYMONTH=9;BYDAY=3MO
END:STANDARD
BEGIN:DAYLIGHT
TZNAME:CEST
TZOFFSETFROM:+0100
TZOFFSETTO:+0200
DTSTART:19440403T020000
RRULE:FREQ=YEARLY;UNTIL=19450402T010000Z;BYMONTH=4;BYDAY=1MO
END:DAYLIGHT
BEGIN:DAYLIGHT
TZNAME:CEMT
TZOFFSETFROM:+0200
TZOFFSETTO:+0300
DTSTART:19450524T020000
RDATE:19470511T030000
END:DAYLIGHT
BEGIN:DAYLIGHT
TZNAME:CEST
TZOFFSETFROM:+0300
TZOFFSETTO:+0200
DTSTART:19450924T030000
RDATE:19470629T030000
END:DAYLIGHT
BEGIN:STANDARD
TZNAME:CET
TZOFFSETFROM:+0100
TZOFFSETTO:+0100
DTSTART:19460101T000000
RDATE:19800101T000000
END:STANDARD
BEGIN:STANDARD
TZNAME:CET
TZOFFSETFROM:+0200
TZOFFSETTO:+0100
DTSTART:19471005T030000
RRULE:FREQ=YEARLY;UNTIL=19491002T010000Z;BYMONTH=10;BYDAY=1SU
END:STANDARD
BEGIN:STANDARD
TZNAME:CET
TZOFFSETFROM:+0200
TZOFFSETTO:+0100
DTSTART:19800928T030000
RRULE:FREQ=YEARLY;UNTIL=19950924T010000Z;BYMONTH=9;BYDAY=-1SU
END:STANDARD
BEGIN:DAYLIGHT
TZNAME:CEST
TZOFFSETFROM:+0100
TZOFFSETTO:+0200
DTSTART:19810329T020000
RRULE:FREQ=YEARLY;BYMONTH=3;BYDAY=-1SU
END:DAYLIGHT
BEGIN:STANDARD
TZNAME:CET
TZOFFSETFROM:+0200
TZOFFSETTO:+0100
DTSTART:19961027T030000
RRULE:FREQ=YEARLY;BYMONTH=10;BYDAY=-1SU
END:STANDARD
END:VTIMEZONE
BEGIN:VEVENT
DTSTAMP:20260424T082518Z
DTSTART;TZID=Europe/Berlin:20251205T194500
DTEND;TZID=Europe/Berlin:20251205T224500
SUMMARY:O40 3. Liga Gr. 1 Regio Moossee vs Niederscherli (32)
UID:2b8a5959-7abc-48b4-b0a9-6bdd3eff7bd4
STATUS:CONFIRMED
LAST-MODIFIED:20251207T182511Z
DESCRIPTION:3. Liga O40 Gruppe 1 \nBegegnungs-Nr: 32\nHeim: Regio Moossee\nGast: Niederscherli\n\nAdresse: Schulhausstrasse 23-25\, 3302 Moosseedorf\n
LOCATION:Schulhausstrasse 23-25\, 3302 Moosseedorf
CATEGORIES:Saison 2025/26
END:VEVENT
BEGIN:VEVENT
DTSTAMP:20260424T082518Z
DTSTART;TZID=Europe/Berlin:20251121T194500
DTEND;TZID=Europe/Berlin:20251121T224500
SUMMARY:O40 3. Liga Gr. 1 Regio Moossee vs Heimberg II (23)
UID:396449d1-b714-421a-9a7d-72dfaa430d99
STATUS:CONFIRMED
LAST-MODIFIED:20251122T091219Z
DESCRIPTION:3. Liga O40 Gruppe 1 \nBegegnungs-Nr: 23\nHeim: Regio Moossee\nGast: Heimberg II\n\nAdresse: Schulhausstrasse 23-25\, 3302 Moosseedorf\n
LOCATION:Schulhausstrasse 23-25\, 3302 Moosseedorf
CATEGORIES:Saison 2025/26
END:VEVENT
BEGIN:VEVENT
DTSTAMP:20260424T082518Z
DTSTART;TZID=Europe/Berlin:20251021T194500
DTEND;TZID=Europe/Berlin:20251021T224500
SUMMARY:O40 3. Liga Gr. 1 Regio Moossee vs Stettlen (16)
UID:4d5e4016-2a39-4052-943b-9d6af2cdf70f
STATUS:CONFIRMED
LAST-MODIFIED:20251029T221641Z
DESCRIPTION:3. Liga O40 Gruppe 1 \nBegegnungs-Nr: 16\nHeim: Regio Moossee\nGast: Stettlen\n\nAdresse: Schulhausstrasse 23-25\, 3302 Moosseedorf\n
LOCATION:Schulhausstrasse 23-25\, 3302 Moosseedorf
CATEGORIES:Saison 2025/26
END:VEVENT
BEGIN:VEVENT
DTSTAMP:20260424T082518Z
DTSTART;TZID=Europe/Berlin:20250916T194500
DTEND;TZID=Europe/Berlin:20250916T224500
SUMMARY:O40 3. Liga Gr. 1 Regio Moossee vs Tiefenau (6)
UID:e09e82bf-dfeb-44bf-b24d-c650c9009ba3
STATUS:CONFIRMED
LAST-MODIFIED:20250918T140229Z
DESCRIPTION:3. Liga O40 Gruppe 1 \nBegegnungs-Nr: 6\nHeim: Regio Moossee\nGast: Tiefenau\n\nAdresse: Schulhausstrasse 23-25\, 3302 Moosseedorf\n
LOCATION:Schulhausstrasse 23-25\, 3302 Moosseedorf
CATEGORIES:Saison 2025/26
END:VEVENT
BEGIN:VEVENT
DTSTAMP:20260424T082518Z
DTSTART;TZID=Europe/Berlin:20260310T194500
DTEND;TZID=Europe/Berlin:20260310T224500
SUMMARY:O40 3. Liga Gr. 1 Regio Moossee vs bls Spiez (28)
UID:de0accc6-304b-4c13-a58c-9951c618b6e1
STATUS:CONFIRMED
LAST-MODIFIED:20260315T230619Z
DESCRIPTION:3. Liga O40 Gruppe 1 \nBegegnungs-Nr: 28\nHeim: Regio Moossee\nGast: bls Spiez\n\nAdresse: Schulhausstrasse 23-25\, 3302 Moosseedorf\n
LOCATION:Schulhausstrasse 23-25\, 3302 Moosseedorf
CATEGORIES:Saison 2025/26
END:VEVENT
BEGIN:VEVENT
DTSTAMP:20260424T082518Z
DTSTART;TZID=Europe/Berlin:20260217T194500
DTEND;TZID=Europe/Berlin:20260217T224500
SUMMARY:O40 3. Liga Gr. 1 Regio Moossee vs Münsingen (20)
UID:aa17815f-3d8a-4ec2-acf4-a73b9ff0b356
STATUS:CONFIRMED
LAST-MODIFIED:20260218T140226Z
DESCRIPTION:3. Liga O40 Gruppe 1 \nBegegnungs-Nr: 20\nHeim: Regio Moossee\nGast: Münsingen\n\nAdresse: Schulhausstrasse 23-25\, 3302 Moosseedorf\n
LOCATION:Schulhausstrasse 23-25\, 3302 Moosseedorf
CATEGORIES:Saison 2025/26
END:VEVENT
BEGIN:VEVENT
DTSTAMP:20260424T082518Z
DTSTART;TZID=Europe/Berlin:20260106T194500
DTEND;TZID=Europe/Berlin:20260106T224500
SUMMARY:O40 3. Liga Gr. 1 Regio Moossee vs Ostermundigen II (1)
UID:3542c07b-53ae-47d6-9b3e-141b43d99dd0
STATUS:CONFIRMED
LAST-MODIFIED:20260125T003104Z
DESCRIPTION:3. Liga O40 Gruppe 1 \nBegegnungs-Nr: 1\nHeim: Regio Moossee\nGast: Ostermundigen II\n\nAdresse: Schulhausstrasse 23-25\, 3302 Moosseedorf\n
LOCATION:Schulhausstrasse 23-25\, 3302 Moosseedorf
CATEGORIES:Saison 2025/26
END:VEVENT
BEGIN:VEVENT
DTSTAMP:20260424T082518Z
DTSTART;TZID=Europe/Berlin:20260127T194500
DTEND;TZID=Europe/Berlin:20260127T224500
SUMMARY:O40 3. Liga Gr. 1 Regio Moossee vs Langnau II (11)
UID:aa97319d-cb7f-495d-9e17-2699539fc97c
STATUS:CONFIRMED
LAST-MODIFIED:20260217T213618Z
DESCRIPTION:3. Liga O40 Gruppe 1 \nBegegnungs-Nr: 11\nHeim: Regio Moossee\nGast: Langnau II\n\nAdresse: Schulhausstrasse 23-25\, 3302 Moosseedorf\n
LOCATION:Schulhausstrasse 23-25\, 3302 Moosseedorf
CATEGORIES:Saison 2025/26
END:VEVENT
BEGIN:VEVENT
DTSTAMP:20260424T082518Z
DTSTART;TZID=Europe/Berlin:20251202T194500
DTEND;TZID=Europe/Berlin:20251202T224500
SUMMARY:O40 3. Liga Gr. 1 bls Spiez vs Regio Moossee (28)
UID:7e435024-f92a-4b9d-8a02-42d1f98dc3d8
STATUS:CONFIRMED
LAST-MODIFIED:20251207T182440Z
DESCRIPTION:3. Liga O40 Gruppe 1 \nBegegnungs-Nr: 28\nHeim: bls Spiez\nGast: Regio Moossee\n\nAdresse: Hofachernweg 19 / Oberlandstr. 89\, 3700 Spiez\n
LOCATION:Hofachernweg 19 / Oberlandstr. 89\, 3700 Spiez
CATEGORIES:Saison 2025/26
END:VEVENT
BEGIN:VEVENT
DTSTAMP:20260424T082518Z
DTSTART;TZID=Europe/Berlin:20251031T200000
DTEND;TZID=Europe/Berlin:20251031T230000
SUMMARY:O40 3. Liga Gr. 1 Münsingen vs Regio Moossee (20)
UID:a7dd86ee-771c-4a95-b587-2f1fe322cb9d
STATUS:CONFIRMED
LAST-MODIFIED:20251101T150559Z
DESCRIPTION:3. Liga O40 Gruppe 1 \nBegegnungs-Nr: 20\nHeim: Münsingen\nGast: Regio Moossee\n\nAdresse: Turnhallenweg 8\, 3110 Münsingen\n
LOCATION:Turnhallenweg 8\, 3110 Münsingen
CATEGORIES:Saison 2025/26
END:VEVENT
BEGIN:VEVENT
DTSTAMP:20260424T082518Z
DTSTART;TZID=Europe/Berlin:20250826T193000
DTEND;TZID=Europe/Berlin:20250826T223000
SUMMARY:O40 3. Liga Gr. 1 Ostermundigen II vs Regio Moossee (1)
UID:d4efaedf-f2e8-46b3-97c0-87966f004e84
STATUS:CONFIRMED
LAST-MODIFIED:20250912T164314Z
DESCRIPTION:3. Liga O40 Gruppe 1 \nBegegnungs-Nr: 1\nHeim: Ostermundigen II\nGast: Regio Moossee\n\nAdresse: Dennigkofenweg 169\, 3072 Ostermundigen\n
LOCATION:Dennigkofenweg 169\, 3072 Ostermundigen
CATEGORIES:Saison 2025/26
END:VEVENT
BEGIN:VEVENT
DTSTAMP:20260424T082518Z
DTSTART;TZID=Europe/Berlin:20251004T140000
DTEND;TZID=Europe/Berlin:20251004T170000
SUMMARY:O40 3. Liga Gr. 1 Langnau II vs Regio Moossee (11)
UID:bd4cc98e-bc8e-429d-9954-352cb9da7325
STATUS:CONFIRMED
LAST-MODIFIED:20251004T193128Z
DESCRIPTION:3. Liga O40 Gruppe 1 \nBegegnungs-Nr: 11\nHeim: Langnau II\nGast: Regio Moossee\n\nAdresse: Bleicheweg 11\, 3550 Langnau\n
LOCATION:Bleicheweg 11\, 3550 Langnau
CATEGORIES:Saison 2025/26
END:VEVENT
BEGIN:VEVENT
DTSTAMP:20260424T082518Z
DTSTART;TZID=Europe/Berlin:20260323T200000
DTEND;TZID=Europe/Berlin:20260323T230000
SUMMARY:O40 3. Liga Gr. 1 Niederscherli vs Regio Moossee (32)
UID:bb75d60a-b673-433e-9f74-d82f367cab9e
STATUS:CONFIRMED
LAST-MODIFIED:20260409T123257Z
DESCRIPTION:3. Liga O40 Gruppe 1 \nBegegnungs-Nr: 32\nHeim: Niederscherli\nGast: Regio Moossee\n\nAdresse: Bodengässli 6\, 3145 Niederscherli\n
LOCATION:Bodengässli 6\, 3145 Niederscherli
CATEGORIES:Saison 2025/26
END:VEVENT
BEGIN:VEVENT
DTSTAMP:20260424T082518Z
DTSTART;TZID=Europe/Berlin:20260307T110000
DTEND;TZID=Europe/Berlin:20260307T140000
SUMMARY:O40 3. Liga Gr. 1 Heimberg II vs Regio Moossee (23)
UID:50681a79-e115-4e3b-99e3-68d3a9bacfb7
STATUS:CONFIRMED
LAST-MODIFIED:20260308T174359Z
DESCRIPTION:3. Liga O40 Gruppe 1 \nBegegnungs-Nr: 23\nHeim: Heimberg II\nGast: Regio Moossee\n\nAdresse: Niesenstrasse 38\, 3627 Heimberg\n
LOCATION:Niesenstrasse 38\, 3627 Heimberg
CATEGORIES:Saison 2025/26
END:VEVENT
BEGIN:VEVENT
DTSTAMP:20260424T082518Z
DTSTART;TZID=Europe/Berlin:20260209T194500
DTEND;TZID=Europe/Berlin:20260209T224500
SUMMARY:O40 3. Liga Gr. 1 Stettlen vs Regio Moossee (16)
UID:b481f0be-51df-4ae8-adb2-af8e2b7168eb
STATUS:CONFIRMED
LAST-MODIFIED:20260217T213637Z
DESCRIPTION:3. Liga O40 Gruppe 1 \nBegegnungs-Nr: 16\nHeim: Stettlen\nGast: Regio Moossee\n\nAdresse: Bernstrasse 45\, 3066 Stettlen\n
LOCATION:Bernstrasse 45\, 3066 Stettlen
CATEGORIES:Saison 2025/26
END:VEVENT
BEGIN:VEVENT
DTSTAMP:20260424T082518Z
DTSTART;TZID=Europe/Berlin:20260115T194500
DTEND;TZID=Europe/Berlin:20260115T224500
SUMMARY:O40 3. Liga Gr. 1 Tiefenau vs Regio Moossee (6)
UID:ae388f70-dd95-481d-8997-e8ee5f1e27c4
STATUS:CONFIRMED
LAST-MODIFIED:20260124T235712Z
DESCRIPTION:3. Liga O40 Gruppe 1 \nBegegnungs-Nr: 6\nHeim: Tiefenau\nGast: Regio Moossee\n\nAdresse: Studerstrasse 56\, 3004 Bern\n
LOCATION:Studerstrasse 56\, 3004 Bern
CATEGORIES:Saison 2025/26
END:VEVENT
END:VCALENDAR
