BEGIN:VCALENDAR
PRODID:-//nuDatenautomaten//framework iCal4j //DE
VERSION:2.0
CALSCALE:GREGORIAN
BEGIN:VTIMEZONE
TZID:Europe/Berlin
LAST-MODIFIED:20260306T231828Z
TZURL:https://www.tzurl.org/zoneinfo/Europe/Berlin
X-LIC-LOCATION:Europe/Berlin
X-PROLEPTIC-TZNAME:LMT
BEGIN:STANDARD
TZNAME:CET
TZOFFSETFROM:+005328
TZOFFSETTO:+0100
DTSTART:18930401T000000
END:STANDARD
BEGIN:DAYLIGHT
TZNAME:CEST
TZOFFSETFROM:+0100
TZOFFSETTO:+0200
DTSTART:19160430T230000
RDATE:19400401T020000
RDATE:19430329T020000
RDATE:19460414T020000
RDATE:19470406T030000
RDATE:19480418T020000
RDATE:19490410T020000
RDATE:19800406T020000
END:DAYLIGHT
BEGIN:STANDARD
TZNAME:CET
TZOFFSETFROM:+0200
TZOFFSETTO:+0100
DTSTART:19161001T010000
RDATE:19421102T030000
RDATE:19431004T030000
RDATE:19441002T030000
RDATE:19451118T030000
RDATE:19461007T030000
END:STANDARD
BEGIN:DAYLIGHT
TZNAME:CEST
TZOFFSETFROM:+0100
TZOFFSETTO:+0200
DTSTART:19170416T020000
RRULE:FREQ=YEARLY;UNTIL=19180415T010000Z;BYMONTH=4;BYDAY=3MO
END:DAYLIGHT
BEGIN:STANDARD
TZNAME:CET
TZOFFSETFROM:+0200
TZOFFSETTO:+0100
DTSTART:19170917T030000
RRULE:FREQ=YEARLY;UNTIL=19180916T010000Z;BYMONTH=9;BYDAY=3MO
END:STANDARD
BEGIN:DAYLIGHT
TZNAME:CEST
TZOFFSETFROM:+0100
TZOFFSETTO:+0200
DTSTART:19440403T020000
RRULE:FREQ=YEARLY;UNTIL=19450402T010000Z;BYMONTH=4;BYDAY=1MO
END:DAYLIGHT
BEGIN:DAYLIGHT
TZNAME:CEMT
TZOFFSETFROM:+0200
TZOFFSETTO:+0300
DTSTART:19450524T020000
RDATE:19470511T030000
END:DAYLIGHT
BEGIN:DAYLIGHT
TZNAME:CEST
TZOFFSETFROM:+0300
TZOFFSETTO:+0200
DTSTART:19450924T030000
RDATE:19470629T030000
END:DAYLIGHT
BEGIN:STANDARD
TZNAME:CET
TZOFFSETFROM:+0100
TZOFFSETTO:+0100
DTSTART:19460101T000000
RDATE:19800101T000000
END:STANDARD
BEGIN:STANDARD
TZNAME:CET
TZOFFSETFROM:+0200
TZOFFSETTO:+0100
DTSTART:19471005T030000
RRULE:FREQ=YEARLY;UNTIL=19491002T010000Z;BYMONTH=10;BYDAY=1SU
END:STANDARD
BEGIN:STANDARD
TZNAME:CET
TZOFFSETFROM:+0200
TZOFFSETTO:+0100
DTSTART:19800928T030000
RRULE:FREQ=YEARLY;UNTIL=19950924T010000Z;BYMONTH=9;BYDAY=-1SU
END:STANDARD
BEGIN:DAYLIGHT
TZNAME:CEST
TZOFFSETFROM:+0100
TZOFFSETTO:+0200
DTSTART:19810329T020000
RRULE:FREQ=YEARLY;BYMONTH=3;BYDAY=-1SU
END:DAYLIGHT
BEGIN:STANDARD
TZNAME:CET
TZOFFSETFROM:+0200
TZOFFSETTO:+0100
DTSTART:19961027T030000
RRULE:FREQ=YEARLY;BYMONTH=10;BYDAY=-1SU
END:STANDARD
END:VTIMEZONE
BEGIN:VEVENT
DTSTAMP:20260424T063714Z
DTSTART;TZID=Europe/Berlin:20251115T143000
DTEND;TZID=Europe/Berlin:20251115T173000
SUMMARY:JUG\, 3.Li\, Gr.7\, ZR Wädenswil III vs Dübendorf-Volketswil (4)
UID:f6650a33-d9dd-455b-be0b-ba465b9dab9a
STATUS:CONFIRMED
LAST-MODIFIED:20251121T100431Z
DESCRIPTION:Jugend\, 3. Liga\, Gruppe 7\, Zwischenrunde\nBegegnungs-Nr: 4\nHeim: Wädenswil III\nGast: Dübendorf-Volketswil\n\nAdresse: Fuhrstrasse 16b\, 8820 Wädenswil\n
LOCATION:Fuhrstrasse 16b\, 8820 Wädenswil
CATEGORIES:Saison 2025/26
END:VEVENT
BEGIN:VEVENT
DTSTAMP:20260424T063714Z
DTSTART;TZID=Europe/Berlin:20251115T130000
DTEND;TZID=Europe/Berlin:20251115T160000
SUMMARY:JUG\, 3.Li\, Gr.7\, ZR Wädenswil III vs Ettenhausen II (1)
UID:3a42e16b-f78a-4f82-84cb-e51615c37f69
STATUS:CONFIRMED
LAST-MODIFIED:20251121T100409Z
DESCRIPTION:Jugend\, 3. Liga\, Gruppe 7\, Zwischenrunde\nBegegnungs-Nr: 1\nHeim: Wädenswil III\nGast: Ettenhausen II\nHalle: Poule in Wädenswil\, TH Fuhr\nAdresse: Fuhrstrasse 16b\, 8820 Wädenswil\n
LOCATION:Poule in Wädenswil\, TH Fuhr Fuhrstrasse 16b\, 8820 Wädenswil
CATEGORIES:Saison 2025/26
END:VEVENT
BEGIN:VEVENT
DTSTAMP:20260424T063714Z
DTSTART;TZID=Europe/Berlin:20250830T130000
DTEND;TZID=Europe/Berlin:20250830T160000
SUMMARY:JUG\, 3.Li\, Gr.7\, VR Horgen II vs Wädenswil III (1)
UID:029a268d-f521-4312-813e-86ab08d93f6c
STATUS:CONFIRMED
LAST-MODIFIED:20250902T125140Z
DESCRIPTION:Jugend\, 3. Liga\, Gruppe 7\, Vorrunde\nBegegnungs-Nr: 1\nHeim: Horgen II\nGast: Wädenswil III\nHalle: Poule in Horgen\, Bildungszentrum 2. UG\nAdresse: Seestrasse 110\, 8810 Horgen\n
LOCATION:Poule in Horgen\, Bildungszentrum 2. UG Seestrasse 110\, 8810 Horgen
CATEGORIES:Saison 2025/26
END:VEVENT
BEGIN:VEVENT
DTSTAMP:20260424T063714Z
DTSTART;TZID=Europe/Berlin:20250830T143000
DTEND;TZID=Europe/Berlin:20250830T173000
SUMMARY:JUG\, 3.Li\, Gr.7\, VR Meilen-Männedorf III vs Wädenswil III (2)
UID:f961adfe-9e56-408f-982f-68bb5340f654
STATUS:CONFIRMED
LAST-MODIFIED:20250905T124807Z
DESCRIPTION:Jugend\, 3. Liga\, Gruppe 7\, Vorrunde\nBegegnungs-Nr: 2\nHeim: Meilen-Männedorf III\nGast: Wädenswil III\n\nAdresse: Schulstrasse 10\, 8708 Männedorf\n
LOCATION:Schulstrasse 10\, 8708 Männedorf
CATEGORIES:Saison 2025/26
END:VEVENT
BEGIN:VEVENT
DTSTAMP:20260424T063714Z
DTSTART;TZID=Europe/Berlin:20251115T160000
DTEND;TZID=Europe/Berlin:20251115T190000
SUMMARY:JUG\, 3.Li\, Gr.7\, ZR Zürich II vs Wädenswil III (6)
UID:f78ae78a-eec9-4abf-9840-694a3bd9ada3
STATUS:CONFIRMED
LAST-MODIFIED:20251124T150903Z
DESCRIPTION:Jugend\, 3. Liga\, Gruppe 7\, Zwischenrunde\nBegegnungs-Nr: 6\nHeim: Zürich II\nGast: Wädenswil III\n\nAdresse: Wehntalerstrasse 283\, 8046 Zürich\n
LOCATION:Wehntalerstrasse 283\, 8046 Zürich
CATEGORIES:Saison 2025/26
END:VEVENT
BEGIN:VEVENT
DTSTAMP:20260424T063714Z
DTSTART;TZID=Europe/Berlin:20260328T130000
DTEND;TZID=Europe/Berlin:20260328T160000
SUMMARY:JUG\, 3.Li\, Gr.9\, Final TSV Zumikon II vs Wädenswil III (1)
UID:a26bea66-cde5-45cc-b863-03be1362b02f
STATUS:CONFIRMED
LAST-MODIFIED:20260328T163224Z
DESCRIPTION:Jugend\, 3. Liga\, Gruppe 9\, Final\nBegegnungs-Nr: 1\nHeim: TSV Zumikon II\nGast: Wädenswil III\nHalle: Poule in Zumikon\, TH Farlifang\nAdresse: Dorfstrasse 45\, 8126 Zumikon\n
LOCATION:Poule in Zumikon\, TH Farlifang Dorfstrasse 45\, 8126 Zumikon
CATEGORIES:Saison 2025/26
END:VEVENT
BEGIN:VEVENT
DTSTAMP:20260424T063714Z
DTSTART;TZID=Europe/Berlin:20260328T143000
DTEND;TZID=Europe/Berlin:20260328T173000
SUMMARY:JUG\, 3.Li\, Gr.9\, Final Bülach III vs Wädenswil III (2)
UID:0e82a295-e231-4a42-83c2-f1a195d59cf7
STATUS:CONFIRMED
LAST-MODIFIED:20260328T163255Z
DESCRIPTION:Jugend\, 3. Liga\, Gruppe 9\, Final\nBegegnungs-Nr: 2\nHeim: Bülach III\nGast: Wädenswil III\n\nAdresse: Schwerzgruebstrasse 28\, 8180 Bülach\n
LOCATION:Schwerzgruebstrasse 28\, 8180 Bülach
CATEGORIES:Saison 2025/26
END:VEVENT
END:VCALENDAR
