BEGIN:VCALENDAR
PRODID:-//nuDatenautomaten//framework iCal4j //DE
VERSION:2.0
CALSCALE:GREGORIAN
BEGIN:VTIMEZONE
TZID:Europe/Berlin
LAST-MODIFIED:20260306T231828Z
TZURL:https://www.tzurl.org/zoneinfo/Europe/Berlin
X-LIC-LOCATION:Europe/Berlin
X-PROLEPTIC-TZNAME:LMT
BEGIN:STANDARD
TZNAME:CET
TZOFFSETFROM:+005328
TZOFFSETTO:+0100
DTSTART:18930401T000000
END:STANDARD
BEGIN:DAYLIGHT
TZNAME:CEST
TZOFFSETFROM:+0100
TZOFFSETTO:+0200
DTSTART:19160430T230000
RDATE:19400401T020000
RDATE:19430329T020000
RDATE:19460414T020000
RDATE:19470406T030000
RDATE:19480418T020000
RDATE:19490410T020000
RDATE:19800406T020000
END:DAYLIGHT
BEGIN:STANDARD
TZNAME:CET
TZOFFSETFROM:+0200
TZOFFSETTO:+0100
DTSTART:19161001T010000
RDATE:19421102T030000
RDATE:19431004T030000
RDATE:19441002T030000
RDATE:19451118T030000
RDATE:19461007T030000
END:STANDARD
BEGIN:DAYLIGHT
TZNAME:CEST
TZOFFSETFROM:+0100
TZOFFSETTO:+0200
DTSTART:19170416T020000
RRULE:FREQ=YEARLY;UNTIL=19180415T010000Z;BYMONTH=4;BYDAY=3MO
END:DAYLIGHT
BEGIN:STANDARD
TZNAME:CET
TZOFFSETFROM:+0200
TZOFFSETTO:+0100
DTSTART:19170917T030000
RRULE:FREQ=YEARLY;UNTIL=19180916T010000Z;BYMONTH=9;BYDAY=3MO
END:STANDARD
BEGIN:DAYLIGHT
TZNAME:CEST
TZOFFSETFROM:+0100
TZOFFSETTO:+0200
DTSTART:19440403T020000
RRULE:FREQ=YEARLY;UNTIL=19450402T010000Z;BYMONTH=4;BYDAY=1MO
END:DAYLIGHT
BEGIN:DAYLIGHT
TZNAME:CEMT
TZOFFSETFROM:+0200
TZOFFSETTO:+0300
DTSTART:19450524T020000
RDATE:19470511T030000
END:DAYLIGHT
BEGIN:DAYLIGHT
TZNAME:CEST
TZOFFSETFROM:+0300
TZOFFSETTO:+0200
DTSTART:19450924T030000
RDATE:19470629T030000
END:DAYLIGHT
BEGIN:STANDARD
TZNAME:CET
TZOFFSETFROM:+0100
TZOFFSETTO:+0100
DTSTART:19460101T000000
RDATE:19800101T000000
END:STANDARD
BEGIN:STANDARD
TZNAME:CET
TZOFFSETFROM:+0200
TZOFFSETTO:+0100
DTSTART:19471005T030000
RRULE:FREQ=YEARLY;UNTIL=19491002T010000Z;BYMONTH=10;BYDAY=1SU
END:STANDARD
BEGIN:STANDARD
TZNAME:CET
TZOFFSETFROM:+0200
TZOFFSETTO:+0100
DTSTART:19800928T030000
RRULE:FREQ=YEARLY;UNTIL=19950924T010000Z;BYMONTH=9;BYDAY=-1SU
END:STANDARD
BEGIN:DAYLIGHT
TZNAME:CEST
TZOFFSETFROM:+0100
TZOFFSETTO:+0200
DTSTART:19810329T020000
RRULE:FREQ=YEARLY;BYMONTH=3;BYDAY=-1SU
END:DAYLIGHT
BEGIN:STANDARD
TZNAME:CET
TZOFFSETFROM:+0200
TZOFFSETTO:+0100
DTSTART:19961027T030000
RRULE:FREQ=YEARLY;BYMONTH=10;BYDAY=-1SU
END:STANDARD
END:VTIMEZONE
BEGIN:VEVENT
DTSTAMP:20260424T115059Z
DTSTART;TZID=Europe/Berlin:20250908T201500
DTEND;TZID=Europe/Berlin:20250908T231500
SUMMARY:ME L4 Gr 5\, Tours 1&2 Domdidier vs Ependes (0)
UID:12578385-879d-4588-acfc-02c937c38100
STATUS:CONFIRMED
LAST-MODIFIED:20250910T230645Z
DESCRIPTION:4ème ligue Hommes Groupe 5\, Tours 1&2\nBegegnungs-Nr: 0\nHeim: Domdidier\nGast: Ependes\n\nAdresse: Pré-de-la-Cour\, 1564 Domdidier\n
LOCATION:Pré-de-la-Cour\, 1564 Domdidier
CATEGORIES:Saison 2025/26
END:VEVENT
BEGIN:VEVENT
DTSTAMP:20260424T115059Z
DTSTART;TZID=Europe/Berlin:20250929T201500
DTEND;TZID=Europe/Berlin:20250929T231500
SUMMARY:ME L4 Gr 5\, Tours 1&2 Domdidier vs Estavayer (0)
UID:58d92178-d4f7-4a0b-a00e-f815aaebb9b2
STATUS:CONFIRMED
LAST-MODIFIED:20250930T095819Z
DESCRIPTION:4ème ligue Hommes Groupe 5\, Tours 1&2\nBegegnungs-Nr: 0\nHeim: Domdidier\nGast: Estavayer\n\nAdresse: Pré-de-la-Cour\, 1564 Domdidier\n
LOCATION:Pré-de-la-Cour\, 1564 Domdidier
CATEGORIES:Saison 2025/26
END:VEVENT
BEGIN:VEVENT
DTSTAMP:20260424T115059Z
DTSTART;TZID=Europe/Berlin:20251027T201500
DTEND;TZID=Europe/Berlin:20251027T231500
SUMMARY:ME L4 Gr 5\, Tours 1&2 Domdidier vs Cheyres (0)
UID:9ec00608-25ae-495c-a0ad-25214dd12f2d
STATUS:CONFIRMED
LAST-MODIFIED:20251028T113327Z
DESCRIPTION:4ème ligue Hommes Groupe 5\, Tours 1&2\nBegegnungs-Nr: 0\nHeim: Domdidier\nGast: Cheyres\n\nAdresse: Pré-de-la-Cour\, 1564 Domdidier\n
LOCATION:Pré-de-la-Cour\, 1564 Domdidier
CATEGORIES:Saison 2025/26
END:VEVENT
BEGIN:VEVENT
DTSTAMP:20260424T115059Z
DTSTART;TZID=Europe/Berlin:20251117T201500
DTEND;TZID=Europe/Berlin:20251117T231500
SUMMARY:ME L4 Gr 5\, Tours 1&2 Domdidier vs Ependes II (0)
UID:471c3176-6f09-4465-884a-e18373d0284e
STATUS:CONFIRMED
LAST-MODIFIED:20251121T100551Z
DESCRIPTION:4ème ligue Hommes Groupe 5\, Tours 1&2\nBegegnungs-Nr: 0\nHeim: Domdidier\nGast: Ependes II\n\nAdresse: Pré-de-la-Cour\, 1564 Domdidier\n
LOCATION:Pré-de-la-Cour\, 1564 Domdidier
CATEGORIES:Saison 2025/26
END:VEVENT
BEGIN:VEVENT
DTSTAMP:20260424T115059Z
DTSTART;TZID=Europe/Berlin:20251208T201500
DTEND;TZID=Europe/Berlin:20251208T231500
SUMMARY:ME L4 Gr 5\, Tours 1&2 Domdidier vs Avry-Rosé III (0)
UID:1f5a40ae-019e-4ab2-b9e6-b8f8f2e46ebb
STATUS:CONFIRMED
LAST-MODIFIED:20251213T094946Z
DESCRIPTION:4ème ligue Hommes Groupe 5\, Tours 1&2\nBegegnungs-Nr: 0\nHeim: Domdidier\nGast: Avry-Rosé III\n\nAdresse: Pré-de-la-Cour\, 1564 Domdidier\n
LOCATION:Pré-de-la-Cour\, 1564 Domdidier
CATEGORIES:Saison 2025/26
END:VEVENT
BEGIN:VEVENT
DTSTAMP:20260424T115059Z
DTSTART;TZID=Europe/Berlin:20260209T201500
DTEND;TZID=Europe/Berlin:20260209T231500
SUMMARY:ME L5 Gr 3\, Tours 3&4 Domdidier vs Bulle VI (0)
UID:b3d1d4f6-0772-4677-a474-061526c6884b
STATUS:CONFIRMED
LAST-MODIFIED:20260210T114747Z
DESCRIPTION:5ème ligue Hommes Groupe 3\, Tours 3&4\nBegegnungs-Nr: 0\nHeim: Domdidier\nGast: Bulle VI\n\nAdresse: Pré-de-la-Cour\, 1564 Domdidier\n
LOCATION:Pré-de-la-Cour\, 1564 Domdidier
CATEGORIES:Saison 2025/26
END:VEVENT
BEGIN:VEVENT
DTSTAMP:20260424T115059Z
DTSTART;TZID=Europe/Berlin:20260309T201500
DTEND;TZID=Europe/Berlin:20260309T231500
SUMMARY:ME L5 Gr 3\, Tours 3&4 Domdidier vs Domdidier II (0)
UID:87076547-4fce-48d2-a79e-9d41f02f22bd
STATUS:CONFIRMED
LAST-MODIFIED:20260311T161941Z
DESCRIPTION:5ème ligue Hommes Groupe 3\, Tours 3&4\nBegegnungs-Nr: 0\nHeim: Domdidier\nGast: Domdidier II\n\nAdresse: Pré-de-la-Cour\, 1564 Domdidier\n
LOCATION:Pré-de-la-Cour\, 1564 Domdidier
CATEGORIES:Saison 2025/26
END:VEVENT
BEGIN:VEVENT
DTSTAMP:20260424T115059Z
DTSTART;TZID=Europe/Berlin:20260330T201500
DTEND;TZID=Europe/Berlin:20260330T231500
SUMMARY:ME L5 Gr 3\, Tours 3&4 Domdidier vs Rossens V (0)
UID:0f4824be-ca68-488d-842c-be103e63e533
STATUS:CONFIRMED
LAST-MODIFIED:20260407T193525Z
DESCRIPTION:5ème ligue Hommes Groupe 3\, Tours 3&4\nBegegnungs-Nr: 0\nHeim: Domdidier\nGast: Rossens V\n\nAdresse: Pré-de-la-Cour\, 1564 Domdidier\n
LOCATION:Pré-de-la-Cour\, 1564 Domdidier
CATEGORIES:Saison 2025/26
END:VEVENT
BEGIN:VEVENT
DTSTAMP:20260424T115059Z
DTSTART;TZID=Europe/Berlin:20260427T201500
DTEND;TZID=Europe/Berlin:20260427T231500
SUMMARY:ME L5 Gr 3\, Tours 3&4 Domdidier vs Avry-Rosé VI (0)
UID:689b6815-4586-4d65-8efc-558a1f28d713
STATUS:CONFIRMED
DESCRIPTION:5ème ligue Hommes Groupe 3\, Tours 3&4\nBegegnungs-Nr: 0\nHeim: Domdidier\nGast: Avry-Rosé VI\n\nAdresse: Pré-de-la-Cour\, 1564 Domdidier\n
LOCATION:Pré-de-la-Cour\, 1564 Domdidier
CATEGORIES:Saison 2025/26
END:VEVENT
BEGIN:VEVENT
DTSTAMP:20260424T115059Z
DTSTART;TZID=Europe/Berlin:20260119T201500
DTEND;TZID=Europe/Berlin:20260119T231500
SUMMARY:ME L5 Gr 3\, Tours 3&4 Domdidier vs Avry-Rosé IV (0)
UID:40f00d47-7b54-4b94-b094-09d6206e57db
STATUS:CONFIRMED
LAST-MODIFIED:20260121T122514Z
DESCRIPTION:5ème ligue Hommes Groupe 3\, Tours 3&4\nBegegnungs-Nr: 0\nHeim: Domdidier\nGast: Avry-Rosé IV\n\nAdresse: Pré-de-la-Cour\, 1564 Domdidier\n
LOCATION:Pré-de-la-Cour\, 1564 Domdidier
CATEGORIES:Saison 2025/26
END:VEVENT
BEGIN:VEVENT
DTSTAMP:20260424T115059Z
DTSTART;TZID=Europe/Berlin:20250904T194500
DTEND;TZID=Europe/Berlin:20250904T224500
SUMMARY:ME L4 Gr 5\, Tours 1&2 Cheyres vs Domdidier (0)
UID:83fb888e-11a6-4fd3-8f64-13fbf3a486e0
STATUS:CONFIRMED
LAST-MODIFIED:20250906T154328Z
DESCRIPTION:4ème ligue Hommes Groupe 5\, Tours 1&2\nBegegnungs-Nr: 0\nHeim: Cheyres\nGast: Domdidier\n\nAdresse: Rue de la Gare 10\, 1468 Cheyres\n
LOCATION:Rue de la Gare 10\, 1468 Cheyres
CATEGORIES:Saison 2025/26
END:VEVENT
BEGIN:VEVENT
DTSTAMP:20260424T115059Z
DTSTART;TZID=Europe/Berlin:20250917T194500
DTEND;TZID=Europe/Berlin:20250917T224500
SUMMARY:ME L4 Gr 5\, Tours 1&2 Ependes II vs Domdidier (0)
UID:ffb927d5-b62b-4cb0-a1d4-5cc2b182e7ce
STATUS:CONFIRMED
LAST-MODIFIED:20250918T181955Z
DESCRIPTION:4ème ligue Hommes Groupe 5\, Tours 1&2\nBegegnungs-Nr: 0\nHeim: Ependes II\nGast: Domdidier\n\nAdresse: -\, 1731 Ependes FR\n
LOCATION:-\, 1731 Ependes FR
CATEGORIES:Saison 2025/26
END:VEVENT
BEGIN:VEVENT
DTSTAMP:20260424T115059Z
DTSTART;TZID=Europe/Berlin:20251009T193000
DTEND;TZID=Europe/Berlin:20251009T223000
SUMMARY:ME L4 Gr 5\, Tours 1&2 Avry-Rosé III vs Domdidier (0)
UID:890cb2c6-7a5a-4ec2-b547-ff4e5d5b0ba7
STATUS:CONFIRMED
LAST-MODIFIED:20251011T112254Z
DESCRIPTION:4ème ligue Hommes Groupe 5\, Tours 1&2\nBegegnungs-Nr: 0\nHeim: Avry-Rosé III\nGast: Domdidier\n\nAdresse: Route du Château 15\, 1754 Avry-sur-Matran\n
LOCATION:Route du Château 15\, 1754 Avry-sur-Matran
CATEGORIES:Saison 2025/26
END:VEVENT
BEGIN:VEVENT
DTSTAMP:20260424T115059Z
DTSTART;TZID=Europe/Berlin:20251105T194500
DTEND;TZID=Europe/Berlin:20251105T224500
SUMMARY:ME L4 Gr 5\, Tours 1&2 Ependes vs Domdidier (0)
UID:4f803d61-2c30-49ca-885f-86f83f9c641e
STATUS:CONFIRMED
LAST-MODIFIED:20251109T122609Z
DESCRIPTION:4ème ligue Hommes Groupe 5\, Tours 1&2\nBegegnungs-Nr: 0\nHeim: Ependes\nGast: Domdidier\n\nAdresse: -\, 1731 Ependes FR\n
LOCATION:-\, 1731 Ependes FR
CATEGORIES:Saison 2025/26
END:VEVENT
BEGIN:VEVENT
DTSTAMP:20260424T115059Z
DTSTART;TZID=Europe/Berlin:20251128T193000
DTEND;TZID=Europe/Berlin:20251128T223000
SUMMARY:ME L4 Gr 5\, Tours 1&2 Estavayer vs Domdidier (0)
UID:1c26a7a5-f9ba-4008-b0e5-c31d183fbec4
STATUS:CONFIRMED
LAST-MODIFIED:20251130T120801Z
DESCRIPTION:4ème ligue Hommes Groupe 5\, Tours 1&2\nBegegnungs-Nr: 0\nHeim: Estavayer\nGast: Domdidier\n\nAdresse: Avenue de la Gare 111\, 1470 Estavayer-le-Lac\n
LOCATION:Avenue de la Gare 111\, 1470 Estavayer-le-Lac
CATEGORIES:Saison 2025/26
END:VEVENT
BEGIN:VEVENT
DTSTAMP:20260424T115059Z
DTSTART;TZID=Europe/Berlin:20260224T200000
DTEND;TZID=Europe/Berlin:20260224T230000
SUMMARY:ME L5 Gr 3\, Tours 3&4 Avry-Rosé VI vs Domdidier (0)
UID:3615ab5c-5aaf-4d9a-99f4-618ce0238c6c
STATUS:CONFIRMED
LAST-MODIFIED:20260225T224909Z
DESCRIPTION:5ème ligue Hommes Groupe 3\, Tours 3&4\nBegegnungs-Nr: 0\nHeim: Avry-Rosé VI\nGast: Domdidier\n\nAdresse: Route du Château 15\, 1754 Avry-sur-Matran\n
LOCATION:Route du Château 15\, 1754 Avry-sur-Matran
CATEGORIES:Saison 2025/26
END:VEVENT
BEGIN:VEVENT
DTSTAMP:20260424T115059Z
DTSTART;TZID=Europe/Berlin:20260319T200000
DTEND;TZID=Europe/Berlin:20260319T230000
SUMMARY:ME L5 Gr 3\, Tours 3&4 Avry-Rosé IV vs Domdidier (0)
UID:9bffd964-94dc-4686-9460-3fa5bbf6648d
STATUS:CONFIRMED
LAST-MODIFIED:20260321T102721Z
DESCRIPTION:5ème ligue Hommes Groupe 3\, Tours 3&4\nBegegnungs-Nr: 0\nHeim: Avry-Rosé IV\nGast: Domdidier\n\nAdresse: Route du Château 15\, 1754 Avry-sur-Matran\n
LOCATION:Route du Château 15\, 1754 Avry-sur-Matran
CATEGORIES:Saison 2025/26
END:VEVENT
BEGIN:VEVENT
DTSTAMP:20260424T115059Z
DTSTART;TZID=Europe/Berlin:20260420T200000
DTEND;TZID=Europe/Berlin:20260420T230000
SUMMARY:ME L5 Gr 3\, Tours 3&4 Bulle VI vs Domdidier (0)
UID:19fb4dfd-3655-4f3e-b602-8e354880c534
STATUS:CONFIRMED
LAST-MODIFIED:20260423T075706Z
DESCRIPTION:5ème ligue Hommes Groupe 3\, Tours 3&4\nBegegnungs-Nr: 0\nHeim: Bulle VI\nGast: Domdidier\n\nAdresse: Rue du Stade 50\, 1630 Bulle\n
LOCATION:Rue du Stade 50\, 1630 Bulle
CATEGORIES:Saison 2025/26
END:VEVENT
BEGIN:VEVENT
DTSTAMP:20260424T115059Z
DTSTART;TZID=Europe/Berlin:20260112T201500
DTEND;TZID=Europe/Berlin:20260112T231500
SUMMARY:ME L5 Gr 3\, Tours 3&4 Domdidier II vs Domdidier (0)
UID:3085f8a8-ac6b-4b4c-9b67-8683e8a94f6f
STATUS:CONFIRMED
LAST-MODIFIED:20260114T192714Z
DESCRIPTION:5ème ligue Hommes Groupe 3\, Tours 3&4\nBegegnungs-Nr: 0\nHeim: Domdidier II\nGast: Domdidier\n\nAdresse: Pré-de-la-Cour\, 1564 Domdidier\n
LOCATION:Pré-de-la-Cour\, 1564 Domdidier
CATEGORIES:Saison 2025/26
END:VEVENT
BEGIN:VEVENT
DTSTAMP:20260424T115059Z
DTSTART;TZID=Europe/Berlin:20260202T200000
DTEND;TZID=Europe/Berlin:20260202T230000
SUMMARY:ME L5 Gr 3\, Tours 3&4 Rossens V vs Domdidier (0)
UID:d0c95d4a-5543-4088-9056-90b7be1b601b
STATUS:CONFIRMED
LAST-MODIFIED:20260203T175356Z
DESCRIPTION:5ème ligue Hommes Groupe 3\, Tours 3&4\nBegegnungs-Nr: 0\nHeim: Rossens V\nGast: Domdidier\n\nAdresse: Route du Jordil 14\, 1728 Rossens\n
LOCATION:Route du Jordil 14\, 1728 Rossens
CATEGORIES:Saison 2025/26
END:VEVENT
END:VCALENDAR
