BEGIN:VCALENDAR
PRODID:-//nuDatenautomaten//framework iCal4j //DE
VERSION:2.0
CALSCALE:GREGORIAN
BEGIN:VTIMEZONE
TZID:Europe/Berlin
LAST-MODIFIED:20260306T231828Z
TZURL:https://www.tzurl.org/zoneinfo/Europe/Berlin
X-LIC-LOCATION:Europe/Berlin
X-PROLEPTIC-TZNAME:LMT
BEGIN:STANDARD
TZNAME:CET
TZOFFSETFROM:+005328
TZOFFSETTO:+0100
DTSTART:18930401T000000
END:STANDARD
BEGIN:DAYLIGHT
TZNAME:CEST
TZOFFSETFROM:+0100
TZOFFSETTO:+0200
DTSTART:19160430T230000
RDATE:19400401T020000
RDATE:19430329T020000
RDATE:19460414T020000
RDATE:19470406T030000
RDATE:19480418T020000
RDATE:19490410T020000
RDATE:19800406T020000
END:DAYLIGHT
BEGIN:STANDARD
TZNAME:CET
TZOFFSETFROM:+0200
TZOFFSETTO:+0100
DTSTART:19161001T010000
RDATE:19421102T030000
RDATE:19431004T030000
RDATE:19441002T030000
RDATE:19451118T030000
RDATE:19461007T030000
END:STANDARD
BEGIN:DAYLIGHT
TZNAME:CEST
TZOFFSETFROM:+0100
TZOFFSETTO:+0200
DTSTART:19170416T020000
RRULE:FREQ=YEARLY;UNTIL=19180415T010000Z;BYMONTH=4;BYDAY=3MO
END:DAYLIGHT
BEGIN:STANDARD
TZNAME:CET
TZOFFSETFROM:+0200
TZOFFSETTO:+0100
DTSTART:19170917T030000
RRULE:FREQ=YEARLY;UNTIL=19180916T010000Z;BYMONTH=9;BYDAY=3MO
END:STANDARD
BEGIN:DAYLIGHT
TZNAME:CEST
TZOFFSETFROM:+0100
TZOFFSETTO:+0200
DTSTART:19440403T020000
RRULE:FREQ=YEARLY;UNTIL=19450402T010000Z;BYMONTH=4;BYDAY=1MO
END:DAYLIGHT
BEGIN:DAYLIGHT
TZNAME:CEMT
TZOFFSETFROM:+0200
TZOFFSETTO:+0300
DTSTART:19450524T020000
RDATE:19470511T030000
END:DAYLIGHT
BEGIN:DAYLIGHT
TZNAME:CEST
TZOFFSETFROM:+0300
TZOFFSETTO:+0200
DTSTART:19450924T030000
RDATE:19470629T030000
END:DAYLIGHT
BEGIN:STANDARD
TZNAME:CET
TZOFFSETFROM:+0100
TZOFFSETTO:+0100
DTSTART:19460101T000000
RDATE:19800101T000000
END:STANDARD
BEGIN:STANDARD
TZNAME:CET
TZOFFSETFROM:+0200
TZOFFSETTO:+0100
DTSTART:19471005T030000
RRULE:FREQ=YEARLY;UNTIL=19491002T010000Z;BYMONTH=10;BYDAY=1SU
END:STANDARD
BEGIN:STANDARD
TZNAME:CET
TZOFFSETFROM:+0200
TZOFFSETTO:+0100
DTSTART:19800928T030000
RRULE:FREQ=YEARLY;UNTIL=19950924T010000Z;BYMONTH=9;BYDAY=-1SU
END:STANDARD
BEGIN:DAYLIGHT
TZNAME:CEST
TZOFFSETFROM:+0100
TZOFFSETTO:+0200
DTSTART:19810329T020000
RRULE:FREQ=YEARLY;BYMONTH=3;BYDAY=-1SU
END:DAYLIGHT
BEGIN:STANDARD
TZNAME:CET
TZOFFSETFROM:+0200
TZOFFSETTO:+0100
DTSTART:19961027T030000
RRULE:FREQ=YEARLY;BYMONTH=10;BYDAY=-1SU
END:STANDARD
END:VTIMEZONE
BEGIN:VEVENT
DTSTAMP:20260424T115048Z
DTSTART;TZID=Europe/Berlin:20251017T200000
DTEND;TZID=Europe/Berlin:20251017T230000
SUMMARY:HE 4. Liga Gr. 6 Solothurn V vs Brügg II (12)
UID:985f3b43-5724-4ffa-8ca3-baa81f9b97b3
STATUS:CONFIRMED
LAST-MODIFIED:20251020T114337Z
DESCRIPTION:4. Liga Herren Gruppe 6\nBegegnungs-Nr: 12\nHeim: Solothurn V\nGast: Brügg II\n\nAdresse: Untere Sternengasse 24\, 4500 Solothurn\n
LOCATION:Untere Sternengasse 24\, 4500 Solothurn
CATEGORIES:Saison 2025/26
END:VEVENT
BEGIN:VEVENT
DTSTAMP:20260424T115048Z
DTSTART;TZID=Europe/Berlin:20250905T200000
DTEND;TZID=Europe/Berlin:20250905T230000
SUMMARY:HE 4. Liga Gr. 6 Solothurn V vs Lyss III (4)
UID:f232c72e-858d-471a-9f67-fd238b610b0d
STATUS:CONFIRMED
LAST-MODIFIED:20250907T195611Z
DESCRIPTION:4. Liga Herren Gruppe 6\nBegegnungs-Nr: 4\nHeim: Solothurn V\nGast: Lyss III\n\nAdresse: Untere Sternengasse 24\, 4500 Solothurn\n
LOCATION:Untere Sternengasse 24\, 4500 Solothurn
CATEGORIES:Saison 2025/26
END:VEVENT
BEGIN:VEVENT
DTSTAMP:20260424T115048Z
DTSTART;TZID=Europe/Berlin:20251203T194500
DTEND;TZID=Europe/Berlin:20251203T224500
SUMMARY:HE 4. Liga Gr. 6 Solothurn V vs Studen (22)
UID:edb16a9e-16fc-461b-87a7-b30e7af40ba8
STATUS:CONFIRMED
LAST-MODIFIED:20251207T181401Z
DESCRIPTION:4. Liga Herren Gruppe 6\nBegegnungs-Nr: 22\nHeim: Solothurn V\nGast: Studen\n\nAdresse: Untere Sternengasse 24\, 4500 Solothurn\n
LOCATION:Untere Sternengasse 24\, 4500 Solothurn
CATEGORIES:Saison 2025/26
END:VEVENT
BEGIN:VEVENT
DTSTAMP:20260424T115048Z
DTSTART;TZID=Europe/Berlin:20260401T194500
DTEND;TZID=Europe/Berlin:20260401T224500
SUMMARY:HE 4. Liga Gr. 6 Solothurn V vs Aarberg V (26)
UID:cca9baa7-1292-4153-b2d6-fdf56668c1c5
STATUS:CONFIRMED
LAST-MODIFIED:20260409T122616Z
DESCRIPTION:4. Liga Herren Gruppe 6\nBegegnungs-Nr: 26\nHeim: Solothurn V\nGast: Aarberg V\n\nAdresse: Untere Sternengasse 24\, 4500 Solothurn\n
LOCATION:Untere Sternengasse 24\, 4500 Solothurn
CATEGORIES:Saison 2025/26
END:VEVENT
BEGIN:VEVENT
DTSTAMP:20260424T115048Z
DTSTART;TZID=Europe/Berlin:20260306T200000
DTEND;TZID=Europe/Berlin:20260306T230000
SUMMARY:HE 4. Liga Gr. 6 Solothurn V vs Port VII (17)
UID:3c8ab996-410b-4ec2-8d4e-7fc8a27f5ec8
STATUS:CONFIRMED
LAST-MODIFIED:20260308T174939Z
DESCRIPTION:4. Liga Herren Gruppe 6\nBegegnungs-Nr: 17\nHeim: Solothurn V\nGast: Port VII\n\nAdresse: Untere Sternengasse 24\, 4500 Solothurn\n
LOCATION:Untere Sternengasse 24\, 4500 Solothurn
CATEGORIES:Saison 2025/26
END:VEVENT
BEGIN:VEVENT
DTSTAMP:20260424T115048Z
DTSTART;TZID=Europe/Berlin:20260213T200000
DTEND;TZID=Europe/Berlin:20260213T230000
SUMMARY:HE 4. Liga Gr. 6 Solothurn V vs Erlach II (16)
UID:74d9f9eb-a096-4b44-8bc8-c90d90e1922a
STATUS:CONFIRMED
LAST-MODIFIED:20260217T214029Z
DESCRIPTION:4. Liga Herren Gruppe 6\nBegegnungs-Nr: 16\nHeim: Solothurn V\nGast: Erlach II\n\nAdresse: Untere Sternengasse 24\, 4500 Solothurn\n
LOCATION:Untere Sternengasse 24\, 4500 Solothurn
CATEGORIES:Saison 2025/26
END:VEVENT
BEGIN:VEVENT
DTSTAMP:20260424T115048Z
DTSTART;TZID=Europe/Berlin:20260121T194500
DTEND;TZID=Europe/Berlin:20260121T224500
SUMMARY:HE 4. Liga Gr. 6 Solothurn V vs Pieterlen II (8)
UID:e29cd3d0-f6d0-45be-9363-7d8a27e033e7
STATUS:CONFIRMED
LAST-MODIFIED:20260125T002107Z
DESCRIPTION:4. Liga Herren Gruppe 6\nBegegnungs-Nr: 8\nHeim: Solothurn V\nGast: Pieterlen II\n\nAdresse: Untere Sternengasse 24\, 4500 Solothurn\n
LOCATION:Untere Sternengasse 24\, 4500 Solothurn
CATEGORIES:Saison 2025/26
END:VEVENT
BEGIN:VEVENT
DTSTAMP:20260424T115048Z
DTSTART;TZID=Europe/Berlin:20250918T200000
DTEND;TZID=Europe/Berlin:20250918T230000
SUMMARY:HE 4. Liga Gr. 6 Pieterlen II vs Solothurn V (8)
UID:6b39ad2c-41fd-4e70-812e-bf0f4912be1f
STATUS:CONFIRMED
LAST-MODIFIED:20250921T150323Z
DESCRIPTION:4. Liga Herren Gruppe 6\nBegegnungs-Nr: 8\nHeim: Pieterlen II\nGast: Solothurn V\n\nAdresse: Bielstrasse 9\, 2542 Pieterlen\n
LOCATION:Bielstrasse 9\, 2542 Pieterlen
CATEGORIES:Saison 2025/26
END:VEVENT
BEGIN:VEVENT
DTSTAMP:20260424T115048Z
DTSTART;TZID=Europe/Berlin:20251027T200000
DTEND;TZID=Europe/Berlin:20251027T230000
SUMMARY:HE 4. Liga Gr. 6 Erlach II vs Solothurn V (16)
UID:b987a6ed-23c3-4feb-a1a5-6ab7d9aab708
STATUS:CONFIRMED
LAST-MODIFIED:20251029T221200Z
DESCRIPTION:4. Liga Herren Gruppe 6\nBegegnungs-Nr: 16\nHeim: Erlach II\nGast: Solothurn V\n\nAdresse: Vinelzstrasse 54 (24)\, 3235 Erlach\n
LOCATION:Vinelzstrasse 54 (24)\, 3235 Erlach
CATEGORIES:Saison 2025/26
END:VEVENT
BEGIN:VEVENT
DTSTAMP:20260424T115048Z
DTSTART;TZID=Europe/Berlin:20251210T201500
DTEND;TZID=Europe/Berlin:20251210T231500
SUMMARY:HE 4. Liga Gr. 6 Aarberg V vs Solothurn V (26)
UID:08ca7ef2-be62-4a3d-96aa-a907bdb35607
STATUS:CONFIRMED
LAST-MODIFIED:20251216T120720Z
DESCRIPTION:4. Liga Herren Gruppe 6\nBegegnungs-Nr: 26\nHeim: Aarberg V\nGast: Solothurn V\n\nAdresse: Nidaustrasse 7\, 3270 Aarberg\n
LOCATION:Nidaustrasse 7\, 3270 Aarberg
CATEGORIES:Saison 2025/26
END:VEVENT
BEGIN:VEVENT
DTSTAMP:20260424T115048Z
DTSTART;TZID=Europe/Berlin:20251114T194500
DTEND;TZID=Europe/Berlin:20251114T224500
SUMMARY:HE 4. Liga Gr. 6 Port VII vs Solothurn V (17)
UID:050fd875-9e67-4630-a1bc-2d3efc902759
STATUS:CONFIRMED
LAST-MODIFIED:20251115T174505Z
DESCRIPTION:4. Liga Herren Gruppe 6\nBegegnungs-Nr: 17\nHeim: Port VII\nGast: Solothurn V\n\nAdresse: Allmendstrasse 23\, 2562 Port\n
LOCATION:Allmendstrasse 23\, 2562 Port
CATEGORIES:Saison 2025/26
END:VEVENT
BEGIN:VEVENT
DTSTAMP:20260424T115048Z
DTSTART;TZID=Europe/Berlin:20260310T200000
DTEND;TZID=Europe/Berlin:20260310T230000
SUMMARY:HE 4. Liga Gr. 6 Studen vs Solothurn V (22)
UID:247d4537-7007-4962-bfde-62b5e53ef854
STATUS:CONFIRMED
LAST-MODIFIED:20260315T230305Z
DESCRIPTION:4. Liga Herren Gruppe 6\nBegegnungs-Nr: 22\nHeim: Studen\nGast: Solothurn V\n\nAdresse: -\, 2557 Studen\n
LOCATION:-\, 2557 Studen
CATEGORIES:Saison 2025/26
END:VEVENT
BEGIN:VEVENT
DTSTAMP:20260424T115048Z
DTSTART;TZID=Europe/Berlin:20260204T200000
DTEND;TZID=Europe/Berlin:20260204T230000
SUMMARY:HE 4. Liga Gr. 6 Brügg II vs Solothurn V (12)
UID:dcd26554-25ef-4d4d-864c-e0ab21e4432e
STATUS:CONFIRMED
LAST-MODIFIED:20260217T213908Z
DESCRIPTION:4. Liga Herren Gruppe 6\nBegegnungs-Nr: 12\nHeim: Brügg II\nGast: Solothurn V\n\nAdresse: Bärletweg 7\, 2555 Brügg\n
LOCATION:Bärletweg 7\, 2555 Brügg
CATEGORIES:Saison 2025/26
END:VEVENT
BEGIN:VEVENT
DTSTAMP:20260424T115048Z
DTSTART;TZID=Europe/Berlin:20260106T200000
DTEND;TZID=Europe/Berlin:20260106T230000
SUMMARY:HE 4. Liga Gr. 6 Lyss III vs Solothurn V (4)
UID:d4a23f2d-3a84-4b46-b588-c26cf9af8648
STATUS:CONFIRMED
LAST-MODIFIED:20260125T002055Z
DESCRIPTION:4. Liga Herren Gruppe 6\nBegegnungs-Nr: 4\nHeim: Lyss III\nGast: Solothurn V\n\nAdresse: Stegmattweg 15-17\, 3250 Lyss\n
LOCATION:Stegmattweg 15-17\, 3250 Lyss
CATEGORIES:Saison 2025/26
END:VEVENT
END:VCALENDAR
