BEGIN:VCALENDAR
PRODID:-//nuDatenautomaten//framework iCal4j //DE
VERSION:2.0
CALSCALE:GREGORIAN
BEGIN:VTIMEZONE
TZID:Europe/Berlin
LAST-MODIFIED:20260306T231828Z
TZURL:https://www.tzurl.org/zoneinfo/Europe/Berlin
X-LIC-LOCATION:Europe/Berlin
X-PROLEPTIC-TZNAME:LMT
BEGIN:STANDARD
TZNAME:CET
TZOFFSETFROM:+005328
TZOFFSETTO:+0100
DTSTART:18930401T000000
END:STANDARD
BEGIN:DAYLIGHT
TZNAME:CEST
TZOFFSETFROM:+0100
TZOFFSETTO:+0200
DTSTART:19160430T230000
RDATE:19400401T020000
RDATE:19430329T020000
RDATE:19460414T020000
RDATE:19470406T030000
RDATE:19480418T020000
RDATE:19490410T020000
RDATE:19800406T020000
END:DAYLIGHT
BEGIN:STANDARD
TZNAME:CET
TZOFFSETFROM:+0200
TZOFFSETTO:+0100
DTSTART:19161001T010000
RDATE:19421102T030000
RDATE:19431004T030000
RDATE:19441002T030000
RDATE:19451118T030000
RDATE:19461007T030000
END:STANDARD
BEGIN:DAYLIGHT
TZNAME:CEST
TZOFFSETFROM:+0100
TZOFFSETTO:+0200
DTSTART:19170416T020000
RRULE:FREQ=YEARLY;UNTIL=19180415T010000Z;BYMONTH=4;BYDAY=3MO
END:DAYLIGHT
BEGIN:STANDARD
TZNAME:CET
TZOFFSETFROM:+0200
TZOFFSETTO:+0100
DTSTART:19170917T030000
RRULE:FREQ=YEARLY;UNTIL=19180916T010000Z;BYMONTH=9;BYDAY=3MO
END:STANDARD
BEGIN:DAYLIGHT
TZNAME:CEST
TZOFFSETFROM:+0100
TZOFFSETTO:+0200
DTSTART:19440403T020000
RRULE:FREQ=YEARLY;UNTIL=19450402T010000Z;BYMONTH=4;BYDAY=1MO
END:DAYLIGHT
BEGIN:DAYLIGHT
TZNAME:CEMT
TZOFFSETFROM:+0200
TZOFFSETTO:+0300
DTSTART:19450524T020000
RDATE:19470511T030000
END:DAYLIGHT
BEGIN:DAYLIGHT
TZNAME:CEST
TZOFFSETFROM:+0300
TZOFFSETTO:+0200
DTSTART:19450924T030000
RDATE:19470629T030000
END:DAYLIGHT
BEGIN:STANDARD
TZNAME:CET
TZOFFSETFROM:+0100
TZOFFSETTO:+0100
DTSTART:19460101T000000
RDATE:19800101T000000
END:STANDARD
BEGIN:STANDARD
TZNAME:CET
TZOFFSETFROM:+0200
TZOFFSETTO:+0100
DTSTART:19471005T030000
RRULE:FREQ=YEARLY;UNTIL=19491002T010000Z;BYMONTH=10;BYDAY=1SU
END:STANDARD
BEGIN:STANDARD
TZNAME:CET
TZOFFSETFROM:+0200
TZOFFSETTO:+0100
DTSTART:19800928T030000
RRULE:FREQ=YEARLY;UNTIL=19950924T010000Z;BYMONTH=9;BYDAY=-1SU
END:STANDARD
BEGIN:DAYLIGHT
TZNAME:CEST
TZOFFSETFROM:+0100
TZOFFSETTO:+0200
DTSTART:19810329T020000
RRULE:FREQ=YEARLY;BYMONTH=3;BYDAY=-1SU
END:DAYLIGHT
BEGIN:STANDARD
TZNAME:CET
TZOFFSETFROM:+0200
TZOFFSETTO:+0100
DTSTART:19961027T030000
RRULE:FREQ=YEARLY;BYMONTH=10;BYDAY=-1SU
END:STANDARD
END:VTIMEZONE
BEGIN:VEVENT
DTSTAMP:20260424T063723Z
DTSTART;TZID=Europe/Berlin:20250910T194500
DTEND;TZID=Europe/Berlin:20250910T224500
SUMMARY:O40 2. Liga Worb vs Thun (8)
UID:5c08ba7c-29f8-45b6-8a75-e44dd29c9aab
STATUS:CONFIRMED
LAST-MODIFIED:20250918T140318Z
DESCRIPTION:2. Liga O40 \nBegegnungs-Nr: 8\nHeim: Worb\nGast: Thun\n\nAdresse: Rosenweg 9\, 3075 Rüfenacht BE\n
LOCATION:Rosenweg 9\, 3075 Rüfenacht BE
CATEGORIES:Saison 2025/26
END:VEVENT
BEGIN:VEVENT
DTSTAMP:20260424T063723Z
DTSTART;TZID=Europe/Berlin:20251114T194500
DTEND;TZID=Europe/Berlin:20251114T224500
SUMMARY:O40 2. Liga Worb vs Bern II (20)
UID:9be40560-22e8-4b1f-851e-281c37b6041a
STATUS:CONFIRMED
LAST-MODIFIED:20251115T172809Z
DESCRIPTION:2. Liga O40 \nBegegnungs-Nr: 20\nHeim: Worb\nGast: Bern II\n\nAdresse: Rosenweg 9\, 3075 Rüfenacht BE\n
LOCATION:Rosenweg 9\, 3075 Rüfenacht BE
CATEGORIES:Saison 2025/26
END:VEVENT
BEGIN:VEVENT
DTSTAMP:20260424T063723Z
DTSTART;TZID=Europe/Berlin:20251031T194500
DTEND;TZID=Europe/Berlin:20251031T224500
SUMMARY:O40 2. Liga Worb vs Burgdorf III (14)
UID:2d2c8ea7-decc-46b7-83f7-d4a774fb5804
STATUS:CONFIRMED
LAST-MODIFIED:20251101T150751Z
DESCRIPTION:2. Liga O40 \nBegegnungs-Nr: 14\nHeim: Worb\nGast: Burgdorf III\n\nAdresse: Rosenweg 9\, 3075 Rüfenacht BE\n
LOCATION:Rosenweg 9\, 3075 Rüfenacht BE
CATEGORIES:Saison 2025/26
END:VEVENT
BEGIN:VEVENT
DTSTAMP:20260424T063723Z
DTSTART;TZID=Europe/Berlin:20260325T194500
DTEND;TZID=Europe/Berlin:20260325T224500
SUMMARY:O40 2. Liga Worb vs Ostermundigen (27)
UID:667cac1d-dafc-4255-99d6-c15e06f2051f
STATUS:CONFIRMED
LAST-MODIFIED:20260409T122723Z
DESCRIPTION:2. Liga O40 \nBegegnungs-Nr: 27\nHeim: Worb\nGast: Ostermundigen\n\nAdresse: Rosenweg 9\, 3075 Rüfenacht BE\n
LOCATION:Rosenweg 9\, 3075 Rüfenacht BE
CATEGORIES:Saison 2025/26
END:VEVENT
BEGIN:VEVENT
DTSTAMP:20260424T063723Z
DTSTART;TZID=Europe/Berlin:20260318T194500
DTEND;TZID=Europe/Berlin:20260318T224500
SUMMARY:O40 2. Liga Worb vs Port II (24)
UID:618bbf0a-4cfa-4ca5-b008-355da57366e3
STATUS:CONFIRMED
LAST-MODIFIED:20260327T144444Z
DESCRIPTION:2. Liga O40 \nBegegnungs-Nr: 24\nHeim: Worb\nGast: Port II\n\nAdresse: Rosenweg 9\, 3075 Rüfenacht BE\n
LOCATION:Rosenweg 9\, 3075 Rüfenacht BE
CATEGORIES:Saison 2025/26
END:VEVENT
BEGIN:VEVENT
DTSTAMP:20260424T063723Z
DTSTART;TZID=Europe/Berlin:20260204T194500
DTEND;TZID=Europe/Berlin:20260204T224500
SUMMARY:O40 2. Liga Worb vs Royal Bern (9)
UID:948ee151-0c0f-4007-aae8-9e443f7589cd
STATUS:CONFIRMED
LAST-MODIFIED:20260217T214439Z
DESCRIPTION:2. Liga O40 \nBegegnungs-Nr: 9\nHeim: Worb\nGast: Royal Bern\n\nAdresse: Rosenweg 9\, 3075 Rüfenacht BE\n
LOCATION:Rosenweg 9\, 3075 Rüfenacht BE
CATEGORIES:Saison 2025/26
END:VEVENT
BEGIN:VEVENT
DTSTAMP:20260424T063723Z
DTSTART;TZID=Europe/Berlin:20260116T194500
DTEND;TZID=Europe/Berlin:20260116T224500
SUMMARY:O40 2. Liga Worb vs Langnau (3)
UID:1813b7bb-0f13-48b5-be4a-f0fc1611b63c
STATUS:CONFIRMED
LAST-MODIFIED:20260125T002856Z
DESCRIPTION:2. Liga O40 \nBegegnungs-Nr: 3\nHeim: Worb\nGast: Langnau\n\nAdresse: Rosenweg 9\, 3075 Rüfenacht BE\n
LOCATION:Rosenweg 9\, 3075 Rüfenacht BE
CATEGORIES:Saison 2025/26
END:VEVENT
BEGIN:VEVENT
DTSTAMP:20260424T063723Z
DTSTART;TZID=Europe/Berlin:20250903T200000
DTEND;TZID=Europe/Berlin:20250903T230000
SUMMARY:O40 2. Liga Langnau vs Worb (3)
UID:69b50a73-a08e-4121-87da-e3b578162262
STATUS:CONFIRMED
LAST-MODIFIED:20250907T195057Z
DESCRIPTION:2. Liga O40 \nBegegnungs-Nr: 3\nHeim: Langnau\nGast: Worb\n\nAdresse: Bleicheweg 11\, 3550 Langnau\n
LOCATION:Bleicheweg 11\, 3550 Langnau
CATEGORIES:Saison 2025/26
END:VEVENT
BEGIN:VEVENT
DTSTAMP:20260424T063723Z
DTSTART;TZID=Europe/Berlin:20251209T193000
DTEND;TZID=Europe/Berlin:20251209T223000
SUMMARY:O40 2. Liga Ostermundigen vs Worb (27)
UID:4ae5c53e-984f-4f6b-8732-ec1c0d2d6fc8
STATUS:CONFIRMED
LAST-MODIFIED:20251216T121019Z
DESCRIPTION:2. Liga O40 \nBegegnungs-Nr: 27\nHeim: Ostermundigen\nGast: Worb\n\nAdresse: Dennigkofenweg 169\, 3072 Ostermundigen\n
LOCATION:Dennigkofenweg 169\, 3072 Ostermundigen
CATEGORIES:Saison 2025/26
END:VEVENT
BEGIN:VEVENT
DTSTAMP:20260424T063723Z
DTSTART;TZID=Europe/Berlin:20251216T194500
DTEND;TZID=Europe/Berlin:20251216T224500
SUMMARY:O40 2. Liga Port II vs Worb (24)
UID:f325f1d0-fc02-439b-a47d-9700ecf52b5c
STATUS:CONFIRMED
LAST-MODIFIED:20251218T122307Z
DESCRIPTION:2. Liga O40 \nBegegnungs-Nr: 24\nHeim: Port II\nGast: Worb\n\nAdresse: Allmendstrasse 23\, 2562 Port\n
LOCATION:Allmendstrasse 23\, 2562 Port
CATEGORIES:Saison 2025/26
END:VEVENT
BEGIN:VEVENT
DTSTAMP:20260424T063723Z
DTSTART;TZID=Europe/Berlin:20251107T194500
DTEND;TZID=Europe/Berlin:20251107T224500
SUMMARY:O40 2. Liga Royal Bern vs Worb (9)
UID:33d4492b-2731-4750-8296-01f2c19270a6
STATUS:CONFIRMED
LAST-MODIFIED:20251115T172823Z
DESCRIPTION:2. Liga O40 \nBegegnungs-Nr: 9\nHeim: Royal Bern\nGast: Worb\n\nAdresse: Dändlikerweg 60\, 3014 Bern\n
LOCATION:Dändlikerweg 60\, 3014 Bern
CATEGORIES:Saison 2025/26
END:VEVENT
BEGIN:VEVENT
DTSTAMP:20260424T063723Z
DTSTART;TZID=Europe/Berlin:20260305T200000
DTEND;TZID=Europe/Berlin:20260305T230000
SUMMARY:O40 2. Liga Bern II vs Worb (20)
UID:50535734-021f-4dd4-ac28-579d23e4408f
STATUS:CONFIRMED
LAST-MODIFIED:20260308T174329Z
DESCRIPTION:2. Liga O40 \nBegegnungs-Nr: 20\nHeim: Bern II\nGast: Worb\n\nAdresse: Mädergutstrasse 58\, 3018 Bern\n
LOCATION:Mädergutstrasse 58\, 3018 Bern
CATEGORIES:Saison 2025/26
END:VEVENT
BEGIN:VEVENT
DTSTAMP:20260424T063723Z
DTSTART;TZID=Europe/Berlin:20260320T193000
DTEND;TZID=Europe/Berlin:20260320T223000
SUMMARY:O40 2. Liga Burgdorf III vs Worb (14)
UID:f5cb1e4a-49e0-4e76-9f07-6c8c614634ae
STATUS:CONFIRMED
LAST-MODIFIED:20260327T144508Z
DESCRIPTION:2. Liga O40 \nBegegnungs-Nr: 14\nHeim: Burgdorf III\nGast: Worb\n\nAdresse: Pestalozzistrasse 69\, 3400 Burgdorf\n
LOCATION:Pestalozzistrasse 69\, 3400 Burgdorf
CATEGORIES:Saison 2025/26
END:VEVENT
BEGIN:VEVENT
DTSTAMP:20260424T063723Z
DTSTART;TZID=Europe/Berlin:20260124T130000
DTEND;TZID=Europe/Berlin:20260124T160000
SUMMARY:O40 2. Liga Thun vs Worb (8)
UID:aefa48ab-48d7-430f-8ed4-546b14d571c9
STATUS:CONFIRMED
LAST-MODIFIED:20260125T002932Z
DESCRIPTION:2. Liga O40 \nBegegnungs-Nr: 8\nHeim: Thun\nGast: Worb\n\nAdresse: Hallerstrasse 28\, 3604 Thun\n
LOCATION:Hallerstrasse 28\, 3604 Thun
CATEGORIES:Saison 2025/26
END:VEVENT
END:VCALENDAR
