BEGIN:VCALENDAR
PRODID:-//nuDatenautomaten//framework iCal4j //DE
VERSION:2.0
CALSCALE:GREGORIAN
BEGIN:VTIMEZONE
TZID:Europe/Berlin
LAST-MODIFIED:20260306T231828Z
TZURL:https://www.tzurl.org/zoneinfo/Europe/Berlin
X-LIC-LOCATION:Europe/Berlin
X-PROLEPTIC-TZNAME:LMT
BEGIN:STANDARD
TZNAME:CET
TZOFFSETFROM:+005328
TZOFFSETTO:+0100
DTSTART:18930401T000000
END:STANDARD
BEGIN:DAYLIGHT
TZNAME:CEST
TZOFFSETFROM:+0100
TZOFFSETTO:+0200
DTSTART:19160430T230000
RDATE:19400401T020000
RDATE:19430329T020000
RDATE:19460414T020000
RDATE:19470406T030000
RDATE:19480418T020000
RDATE:19490410T020000
RDATE:19800406T020000
END:DAYLIGHT
BEGIN:STANDARD
TZNAME:CET
TZOFFSETFROM:+0200
TZOFFSETTO:+0100
DTSTART:19161001T010000
RDATE:19421102T030000
RDATE:19431004T030000
RDATE:19441002T030000
RDATE:19451118T030000
RDATE:19461007T030000
END:STANDARD
BEGIN:DAYLIGHT
TZNAME:CEST
TZOFFSETFROM:+0100
TZOFFSETTO:+0200
DTSTART:19170416T020000
RRULE:FREQ=YEARLY;UNTIL=19180415T010000Z;BYMONTH=4;BYDAY=3MO
END:DAYLIGHT
BEGIN:STANDARD
TZNAME:CET
TZOFFSETFROM:+0200
TZOFFSETTO:+0100
DTSTART:19170917T030000
RRULE:FREQ=YEARLY;UNTIL=19180916T010000Z;BYMONTH=9;BYDAY=3MO
END:STANDARD
BEGIN:DAYLIGHT
TZNAME:CEST
TZOFFSETFROM:+0100
TZOFFSETTO:+0200
DTSTART:19440403T020000
RRULE:FREQ=YEARLY;UNTIL=19450402T010000Z;BYMONTH=4;BYDAY=1MO
END:DAYLIGHT
BEGIN:DAYLIGHT
TZNAME:CEMT
TZOFFSETFROM:+0200
TZOFFSETTO:+0300
DTSTART:19450524T020000
RDATE:19470511T030000
END:DAYLIGHT
BEGIN:DAYLIGHT
TZNAME:CEST
TZOFFSETFROM:+0300
TZOFFSETTO:+0200
DTSTART:19450924T030000
RDATE:19470629T030000
END:DAYLIGHT
BEGIN:STANDARD
TZNAME:CET
TZOFFSETFROM:+0100
TZOFFSETTO:+0100
DTSTART:19460101T000000
RDATE:19800101T000000
END:STANDARD
BEGIN:STANDARD
TZNAME:CET
TZOFFSETFROM:+0200
TZOFFSETTO:+0100
DTSTART:19471005T030000
RRULE:FREQ=YEARLY;UNTIL=19491002T010000Z;BYMONTH=10;BYDAY=1SU
END:STANDARD
BEGIN:STANDARD
TZNAME:CET
TZOFFSETFROM:+0200
TZOFFSETTO:+0100
DTSTART:19800928T030000
RRULE:FREQ=YEARLY;UNTIL=19950924T010000Z;BYMONTH=9;BYDAY=-1SU
END:STANDARD
BEGIN:DAYLIGHT
TZNAME:CEST
TZOFFSETFROM:+0100
TZOFFSETTO:+0200
DTSTART:19810329T020000
RRULE:FREQ=YEARLY;BYMONTH=3;BYDAY=-1SU
END:DAYLIGHT
BEGIN:STANDARD
TZNAME:CET
TZOFFSETFROM:+0200
TZOFFSETTO:+0100
DTSTART:19961027T030000
RRULE:FREQ=YEARLY;BYMONTH=10;BYDAY=-1SU
END:STANDARD
END:VTIMEZONE
BEGIN:VEVENT
DTSTAMP:20260424T163248Z
DTSTART;TZID=Europe/Berlin:20250830T130000
DTEND;TZID=Europe/Berlin:20250830T160000
SUMMARY:JUG\, 2.Li\, Gr.2\, VR Uster II vs Rapperswil-Jona (1)
UID:03f4e638-f9e2-4f60-9008-43bab3778280
STATUS:CONFIRMED
LAST-MODIFIED:20250902T094520Z
DESCRIPTION:Jugend\, 2. Liga\, Gruppe 2\, Vorrunde\nBegegnungs-Nr: 1\nHeim: Uster II\nGast: Rapperswil-Jona\nHalle: Poule in Uster\, Schulhaus Pünt\nAdresse: Wilstrasse 30 / Zürcherstrasse\, 8610 Uster\n
LOCATION:Poule in Uster\, Schulhaus Pünt Wilstrasse 30 / Zürcherstrasse\, 8610 Uster
CATEGORIES:Saison 2025/26
END:VEVENT
BEGIN:VEVENT
DTSTAMP:20260424T163248Z
DTSTART;TZID=Europe/Berlin:20250830T143000
DTEND;TZID=Europe/Berlin:20250830T173000
SUMMARY:JUG\, 2.Li\, Gr.2\, VR Uster II vs Wädenswil (4)
UID:ddbe0d5d-b12c-471b-81bd-53070371abf3
STATUS:CONFIRMED
LAST-MODIFIED:20250902T094606Z
DESCRIPTION:Jugend\, 2. Liga\, Gruppe 2\, Vorrunde\nBegegnungs-Nr: 4\nHeim: Uster II\nGast: Wädenswil\n\nAdresse: Wilstrasse 30 / Zürcherstrasse\, 8610 Uster\n
LOCATION:Wilstrasse 30 / Zürcherstrasse\, 8610 Uster
CATEGORIES:Saison 2025/26
END:VEVENT
BEGIN:VEVENT
DTSTAMP:20260424T163248Z
DTSTART;TZID=Europe/Berlin:20251115T143000
DTEND;TZID=Europe/Berlin:20251115T173000
SUMMARY:JUG\, 2.Li\, Gr.5\, ZR Uster II vs Kloten II (4)
UID:0d827b84-5dfc-4197-a8e3-2f5290de8363
STATUS:CONFIRMED
LAST-MODIFIED:20251121T095720Z
DESCRIPTION:Jugend\, 2. Liga\, Gruppe 5\, Zwischenrunde\nBegegnungs-Nr: 4\nHeim: Uster II\nGast: Kloten II\n\nAdresse: Wilstrasse 30 / Zürcherstrasse\, 8610 Uster\n
LOCATION:Wilstrasse 30 / Zürcherstrasse\, 8610 Uster
CATEGORIES:Saison 2025/26
END:VEVENT
BEGIN:VEVENT
DTSTAMP:20260424T163248Z
DTSTART;TZID=Europe/Berlin:20251115T130000
DTEND;TZID=Europe/Berlin:20251115T160000
SUMMARY:JUG\, 2.Li\, Gr.5\, ZR Uster II vs Meilen-Männedorf (1)
UID:739e54f0-f691-4285-9394-ea0ce61da7ce
STATUS:CONFIRMED
LAST-MODIFIED:20251121T095657Z
DESCRIPTION:Jugend\, 2. Liga\, Gruppe 5\, Zwischenrunde\nBegegnungs-Nr: 1\nHeim: Uster II\nGast: Meilen-Männedorf\nHalle: Poule in Uster\, Schulhaus Pünt\nAdresse: Wilstrasse 30 / Zürcherstrasse\, 8610 Uster\n
LOCATION:Poule in Uster\, Schulhaus Pünt Wilstrasse 30 / Zürcherstrasse\, 8610 Uster
CATEGORIES:Saison 2025/26
END:VEVENT
BEGIN:VEVENT
DTSTAMP:20260424T163248Z
DTSTART;TZID=Europe/Berlin:20260328T143000
DTEND;TZID=Europe/Berlin:20260328T173000
SUMMARY:JUG\, 2.Li\, Gr.5\, Final Uster II vs Horn (4)
UID:c63e1926-4783-4f97-9d80-a29131497ca1
STATUS:CONFIRMED
LAST-MODIFIED:20260401T135506Z
DESCRIPTION:Jugend\, 2. Liga\, Gruppe 5\, Final\nBegegnungs-Nr: 4\nHeim: Uster II\nGast: Horn\n\nAdresse: Wilstrasse 30 / Zürcherstrasse\, 8610 Uster\n
LOCATION:Wilstrasse 30 / Zürcherstrasse\, 8610 Uster
CATEGORIES:Saison 2025/26
END:VEVENT
BEGIN:VEVENT
DTSTAMP:20260424T163248Z
DTSTART;TZID=Europe/Berlin:20260328T130000
DTEND;TZID=Europe/Berlin:20260328T160000
SUMMARY:JUG\, 2.Li\, Gr.5\, Final Uster II vs Meilen-Männedorf (1)
UID:a2dc8423-b076-4628-b57e-b0be47a4159b
STATUS:CONFIRMED
LAST-MODIFIED:20260401T135431Z
DESCRIPTION:Jugend\, 2. Liga\, Gruppe 5\, Final\nBegegnungs-Nr: 1\nHeim: Uster II\nGast: Meilen-Männedorf\nHalle: Poule in Uster\, Schulhaus Pünt\nAdresse: Wilstrasse 30 / Zürcherstrasse\, 8610 Uster\n
LOCATION:Poule in Uster\, Schulhaus Pünt Wilstrasse 30 / Zürcherstrasse\, 8610 Uster
CATEGORIES:Saison 2025/26
END:VEVENT
BEGIN:VEVENT
DTSTAMP:20260424T163248Z
DTSTART;TZID=Europe/Berlin:20250830T160000
DTEND;TZID=Europe/Berlin:20250830T190000
SUMMARY:JUG\, 2.Li\, Gr.2\, VR Young Stars ZH II vs Uster II (6)
UID:e8fbb34d-a7c1-474f-9964-e38b93c10f54
STATUS:CONFIRMED
LAST-MODIFIED:20250902T094630Z
DESCRIPTION:Jugend\, 2. Liga\, Gruppe 2\, Vorrunde\nBegegnungs-Nr: 6\nHeim: Young Stars ZH II\nGast: Uster II\n\nAdresse: Balgriststrasse 55\, 8008 Zürich\n
LOCATION:Balgriststrasse 55\, 8008 Zürich
CATEGORIES:Saison 2025/26
END:VEVENT
BEGIN:VEVENT
DTSTAMP:20260424T163248Z
DTSTART;TZID=Europe/Berlin:20251115T160000
DTEND;TZID=Europe/Berlin:20251115T190000
SUMMARY:JUG\, 2.Li\, Gr.5\, ZR Steckborn-Homburg vs Uster II (6)
UID:185fe6fc-bc38-40d3-b5df-36d8e92e027d
STATUS:CONFIRMED
LAST-MODIFIED:20251121T095739Z
DESCRIPTION:Jugend\, 2. Liga\, Gruppe 5\, Zwischenrunde\nBegegnungs-Nr: 6\nHeim: Steckborn-Homburg\nGast: Uster II\n\nAdresse: Feldbach\, 8266 Steckborn\n
LOCATION:Feldbach\, 8266 Steckborn
CATEGORIES:Saison 2025/26
END:VEVENT
BEGIN:VEVENT
DTSTAMP:20260424T163248Z
DTSTART;TZID=Europe/Berlin:20260328T160000
DTEND;TZID=Europe/Berlin:20260328T190000
SUMMARY:JUG\, 2.Li\, Gr.5\, Final Rapperswil-Jona vs Uster II (6)
UID:ec1aa1b0-d4b6-46d8-bde4-1a1eac71301d
STATUS:CONFIRMED
LAST-MODIFIED:20260401T135542Z
DESCRIPTION:Jugend\, 2. Liga\, Gruppe 5\, Final\nBegegnungs-Nr: 6\nHeim: Rapperswil-Jona\nGast: Uster II\n\nAdresse: Kreuzstrasse 43\, 8640 Rapperswil\n
LOCATION:Kreuzstrasse 43\, 8640 Rapperswil
CATEGORIES:Saison 2025/26
END:VEVENT
END:VCALENDAR
