BEGIN:VCALENDAR
PRODID:-//nuDatenautomaten//framework iCal4j //DE
VERSION:2.0
CALSCALE:GREGORIAN
BEGIN:VTIMEZONE
TZID:Europe/Berlin
LAST-MODIFIED:20260306T231828Z
TZURL:https://www.tzurl.org/zoneinfo/Europe/Berlin
X-LIC-LOCATION:Europe/Berlin
X-PROLEPTIC-TZNAME:LMT
BEGIN:STANDARD
TZNAME:CET
TZOFFSETFROM:+005328
TZOFFSETTO:+0100
DTSTART:18930401T000000
END:STANDARD
BEGIN:DAYLIGHT
TZNAME:CEST
TZOFFSETFROM:+0100
TZOFFSETTO:+0200
DTSTART:19160430T230000
RDATE:19400401T020000
RDATE:19430329T020000
RDATE:19460414T020000
RDATE:19470406T030000
RDATE:19480418T020000
RDATE:19490410T020000
RDATE:19800406T020000
END:DAYLIGHT
BEGIN:STANDARD
TZNAME:CET
TZOFFSETFROM:+0200
TZOFFSETTO:+0100
DTSTART:19161001T010000
RDATE:19421102T030000
RDATE:19431004T030000
RDATE:19441002T030000
RDATE:19451118T030000
RDATE:19461007T030000
END:STANDARD
BEGIN:DAYLIGHT
TZNAME:CEST
TZOFFSETFROM:+0100
TZOFFSETTO:+0200
DTSTART:19170416T020000
RRULE:FREQ=YEARLY;UNTIL=19180415T010000Z;BYMONTH=4;BYDAY=3MO
END:DAYLIGHT
BEGIN:STANDARD
TZNAME:CET
TZOFFSETFROM:+0200
TZOFFSETTO:+0100
DTSTART:19170917T030000
RRULE:FREQ=YEARLY;UNTIL=19180916T010000Z;BYMONTH=9;BYDAY=3MO
END:STANDARD
BEGIN:DAYLIGHT
TZNAME:CEST
TZOFFSETFROM:+0100
TZOFFSETTO:+0200
DTSTART:19440403T020000
RRULE:FREQ=YEARLY;UNTIL=19450402T010000Z;BYMONTH=4;BYDAY=1MO
END:DAYLIGHT
BEGIN:DAYLIGHT
TZNAME:CEMT
TZOFFSETFROM:+0200
TZOFFSETTO:+0300
DTSTART:19450524T020000
RDATE:19470511T030000
END:DAYLIGHT
BEGIN:DAYLIGHT
TZNAME:CEST
TZOFFSETFROM:+0300
TZOFFSETTO:+0200
DTSTART:19450924T030000
RDATE:19470629T030000
END:DAYLIGHT
BEGIN:STANDARD
TZNAME:CET
TZOFFSETFROM:+0100
TZOFFSETTO:+0100
DTSTART:19460101T000000
RDATE:19800101T000000
END:STANDARD
BEGIN:STANDARD
TZNAME:CET
TZOFFSETFROM:+0200
TZOFFSETTO:+0100
DTSTART:19471005T030000
RRULE:FREQ=YEARLY;UNTIL=19491002T010000Z;BYMONTH=10;BYDAY=1SU
END:STANDARD
BEGIN:STANDARD
TZNAME:CET
TZOFFSETFROM:+0200
TZOFFSETTO:+0100
DTSTART:19800928T030000
RRULE:FREQ=YEARLY;UNTIL=19950924T010000Z;BYMONTH=9;BYDAY=-1SU
END:STANDARD
BEGIN:DAYLIGHT
TZNAME:CEST
TZOFFSETFROM:+0100
TZOFFSETTO:+0200
DTSTART:19810329T020000
RRULE:FREQ=YEARLY;BYMONTH=3;BYDAY=-1SU
END:DAYLIGHT
BEGIN:STANDARD
TZNAME:CET
TZOFFSETFROM:+0200
TZOFFSETTO:+0100
DTSTART:19961027T030000
RRULE:FREQ=YEARLY;BYMONTH=10;BYDAY=-1SU
END:STANDARD
END:VTIMEZONE
BEGIN:VEVENT
DTSTAMP:20260424T114858Z
DTSTART;TZID=Europe/Berlin:20251201T194500
DTEND;TZID=Europe/Berlin:20251201T224500
SUMMARY:Ligue 2 Gr.1\, Ph.A UGS-Chênois V vs Carouge IV (29)
UID:68d1f955-5ab9-429a-bfcf-d2b0b0cb7bcf
STATUS:CONFIRMED
LAST-MODIFIED:20251202T173713Z
DESCRIPTION:2ème ligue Homme Gr.1 Phase A\nBegegnungs-Nr: 29\nHeim: UGS-Chênois V\nGast: Carouge IV\n
LOCATION:
CATEGORIES:Saison 2025/26
END:VEVENT
BEGIN:VEVENT
DTSTAMP:20260424T114858Z
DTSTART;TZID=Europe/Berlin:20251117T194500
DTEND;TZID=Europe/Berlin:20251117T224500
SUMMARY:Ligue 2 Gr.1\, Ph.A UGS-Chênois V vs ZZ-Lancy VI (25)
UID:a5820772-a9a3-4d8d-8ee0-70a2babf2da2
STATUS:CONFIRMED
LAST-MODIFIED:20251118T081308Z
DESCRIPTION:2ème ligue Homme Gr.1 Phase A\nBegegnungs-Nr: 25\nHeim: UGS-Chênois V\nGast: ZZ-Lancy VI\n
LOCATION:
CATEGORIES:Saison 2025/26
END:VEVENT
BEGIN:VEVENT
DTSTAMP:20260424T114858Z
DTSTART;TZID=Europe/Berlin:20251110T194500
DTEND;TZID=Europe/Berlin:20251110T224500
SUMMARY:Ligue 2 Gr.1\, Ph.A UGS-Chênois V vs Bernex III (19)
UID:03d9c5c7-badf-4f7f-8163-3368de2b1edc
STATUS:CONFIRMED
LAST-MODIFIED:20251111T163540Z
DESCRIPTION:2ème ligue Homme Gr.1 Phase A\nBegegnungs-Nr: 19\nHeim: UGS-Chênois V\nGast: Bernex III\n\nAdresse: Route de Frontenex 68\, 1208 Genève\n
LOCATION:Route de Frontenex 68\, 1208 Genève
CATEGORIES:Saison 2025/26
END:VEVENT
BEGIN:VEVENT
DTSTAMP:20260424T114858Z
DTSTART;TZID=Europe/Berlin:20251027T194500
DTEND;TZID=Europe/Berlin:20251027T224500
SUMMARY:Ligue 2 Gr.1\, Ph.A UGS-Chênois V vs Châtelaine V (18)
UID:e6d78c30-8f7f-4910-914f-b11f44804f9e
STATUS:CONFIRMED
LAST-MODIFIED:20251028T093157Z
DESCRIPTION:2ème ligue Homme Gr.1 Phase A\nBegegnungs-Nr: 18\nHeim: UGS-Chênois V\nGast: Châtelaine V\n
LOCATION:
CATEGORIES:Saison 2025/26
END:VEVENT
BEGIN:VEVENT
DTSTAMP:20260424T114858Z
DTSTART;TZID=Europe/Berlin:20250922T194500
DTEND;TZID=Europe/Berlin:20250922T224500
SUMMARY:Ligue 2 Gr.1\, Ph.A UGS-Chênois V vs Silver Star III (8)
UID:32aa7d11-dd46-443e-b5cc-f85ba4600f0a
STATUS:CONFIRMED
LAST-MODIFIED:20250923T181719Z
DESCRIPTION:2ème ligue Homme Gr.1 Phase A\nBegegnungs-Nr: 8\nHeim: UGS-Chênois V\nGast: Silver Star III\n
LOCATION:
CATEGORIES:Saison 2025/26
END:VEVENT
BEGIN:VEVENT
DTSTAMP:20260424T114858Z
DTSTART;TZID=Europe/Berlin:20260323T194500
DTEND;TZID=Europe/Berlin:20260323T224500
SUMMARY:Ligue 2 Gr.2\, Ph.B UGS-Chênois V vs Mandement III (23)
UID:a40416a2-c475-4871-9db2-9c6233b10f2a
STATUS:CONFIRMED
LAST-MODIFIED:20260324T072836Z
DESCRIPTION:2ème ligue Homme Gr.2 Phase B\nBegegnungs-Nr: 23\nHeim: UGS-Chênois V\nGast: Mandement III\n
LOCATION:
CATEGORIES:Saison 2025/26
END:VEVENT
BEGIN:VEVENT
DTSTAMP:20260424T114858Z
DTSTART;TZID=Europe/Berlin:20260316T194500
DTEND;TZID=Europe/Berlin:20260316T224500
SUMMARY:Ligue 2 Gr.2\, Ph.B UGS-Chênois V vs Carouge IV (19)
UID:04b1ae40-1149-43da-8aa4-8a67dbd2a453
STATUS:CONFIRMED
LAST-MODIFIED:20260317T210934Z
DESCRIPTION:2ème ligue Homme Gr.2 Phase B\nBegegnungs-Nr: 19\nHeim: UGS-Chênois V\nGast: Carouge IV\n
LOCATION:
CATEGORIES:Saison 2025/26
END:VEVENT
BEGIN:VEVENT
DTSTAMP:20260424T114858Z
DTSTART;TZID=Europe/Berlin:20260216T194500
DTEND;TZID=Europe/Berlin:20260216T224500
SUMMARY:Ligue 2 Gr.2\, Ph.B UGS-Chênois V vs Châtelaine III (14)
UID:b1df05aa-8718-40dd-b75e-7bf7c19cf230
STATUS:CONFIRMED
LAST-MODIFIED:20260218T133729Z
DESCRIPTION:2ème ligue Homme Gr.2 Phase B\nBegegnungs-Nr: 14\nHeim: UGS-Chênois V\nGast: Châtelaine III\n
LOCATION:
CATEGORIES:Saison 2025/26
END:VEVENT
BEGIN:VEVENT
DTSTAMP:20260424T114858Z
DTSTART;TZID=Europe/Berlin:20260209T194500
DTEND;TZID=Europe/Berlin:20260209T224500
SUMMARY:Ligue 2 Gr.2\, Ph.B UGS-Chênois V vs ZZ-Lancy VI (10)
UID:07ce628e-ada4-4456-8fe7-19988a5c2c12
STATUS:CONFIRMED
LAST-MODIFIED:20260210T174451Z
DESCRIPTION:2ème ligue Homme Gr.2 Phase B\nBegegnungs-Nr: 10\nHeim: UGS-Chênois V\nGast: ZZ-Lancy VI\n
LOCATION:
CATEGORIES:Saison 2025/26
END:VEVENT
BEGIN:VEVENT
DTSTAMP:20260424T114858Z
DTSTART;TZID=Europe/Berlin:20260112T194500
DTEND;TZID=Europe/Berlin:20260112T224500
SUMMARY:Ligue 2 Gr.2\, Ph.B UGS-Chênois V vs Silver Star V (3)
UID:bddc8b4f-1b1e-4dc3-a0ac-917f0ecea5c4
STATUS:CONFIRMED
LAST-MODIFIED:20260113T180023Z
DESCRIPTION:2ème ligue Homme Gr.2 Phase B\nBegegnungs-Nr: 3\nHeim: UGS-Chênois V\nGast: Silver Star V\n
LOCATION:
CATEGORIES:Saison 2025/26
END:VEVENT
BEGIN:VEVENT
DTSTAMP:20260424T114858Z
DTSTART;TZID=Europe/Berlin:20251118T194500
DTEND;TZID=Europe/Berlin:20251118T224500
SUMMARY:Ligue 2 Gr.1\, Ph.A Silver Star III vs UGS-Chênois V (23)
UID:ed981f26-dc3a-4a38-91f7-913fc42fd245
STATUS:CONFIRMED
LAST-MODIFIED:20251119T080856Z
DESCRIPTION:2ème ligue Homme Gr.1 Phase A\nBegegnungs-Nr: 23\nHeim: Silver Star III\nGast: UGS-Chênois V\n
LOCATION:
CATEGORIES:Saison 2025/26
END:VEVENT
BEGIN:VEVENT
DTSTAMP:20260424T114858Z
DTSTART;TZID=Europe/Berlin:20251014T194500
DTEND;TZID=Europe/Berlin:20251014T224500
SUMMARY:Ligue 2 Gr.1\, Ph.A Carouge IV vs UGS-Chênois V (14)
UID:a6963da6-6bd8-4b5f-82d8-84042707a5e8
STATUS:CONFIRMED
LAST-MODIFIED:20251015T113919Z
DESCRIPTION:2ème ligue Homme Gr.1 Phase A\nBegegnungs-Nr: 14\nHeim: Carouge IV\nGast: UGS-Chênois V\n
LOCATION:
CATEGORIES:Saison 2025/26
END:VEVENT
BEGIN:VEVENT
DTSTAMP:20260424T114858Z
DTSTART;TZID=Europe/Berlin:20251007T200000
DTEND;TZID=Europe/Berlin:20251007T230000
SUMMARY:Ligue 2 Gr.1\, Ph.A ZZ-Lancy VI vs UGS-Chênois V (10)
UID:adf7ad39-afde-435d-8be4-c577580d5c96
STATUS:CONFIRMED
LAST-MODIFIED:20251008T070151Z
DESCRIPTION:2ème ligue Homme Gr.1 Phase A\nBegegnungs-Nr: 10\nHeim: ZZ-Lancy VI\nGast: UGS-Chênois V\n
LOCATION:
CATEGORIES:Saison 2025/26
END:VEVENT
BEGIN:VEVENT
DTSTAMP:20260424T114858Z
DTSTART;TZID=Europe/Berlin:20250915T194500
DTEND;TZID=Europe/Berlin:20250915T224500
SUMMARY:Ligue 2 Gr.1\, Ph.A Bernex III vs UGS-Chênois V (4)
UID:fdc18ad8-c1b4-4056-a517-e3ed78b3ac73
STATUS:CONFIRMED
LAST-MODIFIED:20250916T071659Z
DESCRIPTION:2ème ligue Homme Gr.1 Phase A\nBegegnungs-Nr: 4\nHeim: Bernex III\nGast: UGS-Chênois V\n\nAdresse: Chemin de Saule 120\, 1233 Bernex\n
LOCATION:Chemin de Saule 120\, 1233 Bernex
CATEGORIES:Saison 2025/26
END:VEVENT
BEGIN:VEVENT
DTSTAMP:20260424T114858Z
DTSTART;TZID=Europe/Berlin:20250903T194500
DTEND;TZID=Europe/Berlin:20250903T224500
SUMMARY:Ligue 2 Gr.1\, Ph.A Châtelaine V vs UGS-Chênois V (3)
UID:05dd28e5-c36f-42ff-9c55-c35a3bb2f1f0
STATUS:CONFIRMED
LAST-MODIFIED:20250904T113435Z
DESCRIPTION:2ème ligue Homme Gr.1 Phase A\nBegegnungs-Nr: 3\nHeim: Châtelaine V\nGast: UGS-Chênois V\n
LOCATION:
CATEGORIES:Saison 2025/26
END:VEVENT
BEGIN:VEVENT
DTSTAMP:20260424T114858Z
DTSTART;TZID=Europe/Berlin:20260428T200000
DTEND;TZID=Europe/Berlin:20260428T230000
SUMMARY:Ligue 2 Gr.2\, Ph.B Châtelaine III vs UGS-Chênois V (29)
UID:7aba3dc1-26c1-4d3c-b4c2-e6eda8683d9e
STATUS:CONFIRMED
DESCRIPTION:2ème ligue Homme Gr.2 Phase B\nBegegnungs-Nr: 29\nHeim: Châtelaine III\nGast: UGS-Chênois V\n
LOCATION:
CATEGORIES:Saison 2025/26
END:VEVENT
BEGIN:VEVENT
DTSTAMP:20260424T114858Z
DTSTART;TZID=Europe/Berlin:20260331T200000
DTEND;TZID=Europe/Berlin:20260331T230000
SUMMARY:Ligue 2 Gr.2\, Ph.B ZZ-Lancy VI vs UGS-Chênois V (25)
UID:521b12b0-5669-44d7-9ddc-5c62cdccb6b5
STATUS:CONFIRMED
LAST-MODIFIED:20260401T065638Z
DESCRIPTION:2ème ligue Homme Gr.2 Phase B\nBegegnungs-Nr: 25\nHeim: ZZ-Lancy VI\nGast: UGS-Chênois V\n
LOCATION:
CATEGORIES:Saison 2025/26
END:VEVENT
BEGIN:VEVENT
DTSTAMP:20260424T114858Z
DTSTART;TZID=Europe/Berlin:20260310T194500
DTEND;TZID=Europe/Berlin:20260310T224500
SUMMARY:Ligue 2 Gr.2\, Ph.B Silver Star V vs UGS-Chênois V (18)
UID:aaeef284-91e2-4551-9907-e2b6197b0946
STATUS:CONFIRMED
LAST-MODIFIED:20260311T135759Z
DESCRIPTION:2ème ligue Homme Gr.2 Phase B\nBegegnungs-Nr: 18\nHeim: Silver Star V\nGast: UGS-Chênois V\n
LOCATION:
CATEGORIES:Saison 2025/26
END:VEVENT
BEGIN:VEVENT
DTSTAMP:20260424T114858Z
DTSTART;TZID=Europe/Berlin:20260127T194500
DTEND;TZID=Europe/Berlin:20260127T224500
SUMMARY:Ligue 2 Gr.2\, Ph.B Mandement III vs UGS-Chênois V (8)
UID:e8bac2cc-b5d2-4ede-abbc-ad60cb14a5df
STATUS:CONFIRMED
LAST-MODIFIED:20260128T134204Z
DESCRIPTION:2ème ligue Homme Gr.2 Phase B\nBegegnungs-Nr: 8\nHeim: Mandement III\nGast: UGS-Chênois V\n
LOCATION:
CATEGORIES:Saison 2025/26
END:VEVENT
BEGIN:VEVENT
DTSTAMP:20260424T114858Z
DTSTART;TZID=Europe/Berlin:20260120T194500
DTEND;TZID=Europe/Berlin:20260120T224500
SUMMARY:Ligue 2 Gr.2\, Ph.B Carouge IV vs UGS-Chênois V (4)
UID:c2d5e055-1394-4059-9efc-1829366d2abe
STATUS:CONFIRMED
LAST-MODIFIED:20260121T165847Z
DESCRIPTION:2ème ligue Homme Gr.2 Phase B\nBegegnungs-Nr: 4\nHeim: Carouge IV\nGast: UGS-Chênois V\n
LOCATION:
CATEGORIES:Saison 2025/26
END:VEVENT
END:VCALENDAR
