BEGIN:VCALENDAR
PRODID:-//nuDatenautomaten//framework iCal4j //DE
VERSION:2.0
CALSCALE:GREGORIAN
BEGIN:VTIMEZONE
TZID:Europe/Berlin
LAST-MODIFIED:20260306T231828Z
TZURL:https://www.tzurl.org/zoneinfo/Europe/Berlin
X-LIC-LOCATION:Europe/Berlin
X-PROLEPTIC-TZNAME:LMT
BEGIN:STANDARD
TZNAME:CET
TZOFFSETFROM:+005328
TZOFFSETTO:+0100
DTSTART:18930401T000000
END:STANDARD
BEGIN:DAYLIGHT
TZNAME:CEST
TZOFFSETFROM:+0100
TZOFFSETTO:+0200
DTSTART:19160430T230000
RDATE:19400401T020000
RDATE:19430329T020000
RDATE:19460414T020000
RDATE:19470406T030000
RDATE:19480418T020000
RDATE:19490410T020000
RDATE:19800406T020000
END:DAYLIGHT
BEGIN:STANDARD
TZNAME:CET
TZOFFSETFROM:+0200
TZOFFSETTO:+0100
DTSTART:19161001T010000
RDATE:19421102T030000
RDATE:19431004T030000
RDATE:19441002T030000
RDATE:19451118T030000
RDATE:19461007T030000
END:STANDARD
BEGIN:DAYLIGHT
TZNAME:CEST
TZOFFSETFROM:+0100
TZOFFSETTO:+0200
DTSTART:19170416T020000
RRULE:FREQ=YEARLY;UNTIL=19180415T010000Z;BYMONTH=4;BYDAY=3MO
END:DAYLIGHT
BEGIN:STANDARD
TZNAME:CET
TZOFFSETFROM:+0200
TZOFFSETTO:+0100
DTSTART:19170917T030000
RRULE:FREQ=YEARLY;UNTIL=19180916T010000Z;BYMONTH=9;BYDAY=3MO
END:STANDARD
BEGIN:DAYLIGHT
TZNAME:CEST
TZOFFSETFROM:+0100
TZOFFSETTO:+0200
DTSTART:19440403T020000
RRULE:FREQ=YEARLY;UNTIL=19450402T010000Z;BYMONTH=4;BYDAY=1MO
END:DAYLIGHT
BEGIN:DAYLIGHT
TZNAME:CEMT
TZOFFSETFROM:+0200
TZOFFSETTO:+0300
DTSTART:19450524T020000
RDATE:19470511T030000
END:DAYLIGHT
BEGIN:DAYLIGHT
TZNAME:CEST
TZOFFSETFROM:+0300
TZOFFSETTO:+0200
DTSTART:19450924T030000
RDATE:19470629T030000
END:DAYLIGHT
BEGIN:STANDARD
TZNAME:CET
TZOFFSETFROM:+0100
TZOFFSETTO:+0100
DTSTART:19460101T000000
RDATE:19800101T000000
END:STANDARD
BEGIN:STANDARD
TZNAME:CET
TZOFFSETFROM:+0200
TZOFFSETTO:+0100
DTSTART:19471005T030000
RRULE:FREQ=YEARLY;UNTIL=19491002T010000Z;BYMONTH=10;BYDAY=1SU
END:STANDARD
BEGIN:STANDARD
TZNAME:CET
TZOFFSETFROM:+0200
TZOFFSETTO:+0100
DTSTART:19800928T030000
RRULE:FREQ=YEARLY;UNTIL=19950924T010000Z;BYMONTH=9;BYDAY=-1SU
END:STANDARD
BEGIN:DAYLIGHT
TZNAME:CEST
TZOFFSETFROM:+0100
TZOFFSETTO:+0200
DTSTART:19810329T020000
RRULE:FREQ=YEARLY;BYMONTH=3;BYDAY=-1SU
END:DAYLIGHT
BEGIN:STANDARD
TZNAME:CET
TZOFFSETFROM:+0200
TZOFFSETTO:+0100
DTSTART:19961027T030000
RRULE:FREQ=YEARLY;BYMONTH=10;BYDAY=-1SU
END:STANDARD
END:VTIMEZONE
BEGIN:VEVENT
DTSTAMP:20260424T100442Z
DTSTART;TZID=Europe/Berlin:20251116T133000
DTEND;TZID=Europe/Berlin:20251116T163000
SUMMARY:HE NLB Gr. 1 UGS-Chênois vs Vevey (0)
UID:1174cb38-8419-41d3-aec2-a2c8fef7e79a
STATUS:CONFIRMED
LAST-MODIFIED:20251117T125233Z
DESCRIPTION:Herren Nationalliga B Gruppe 1\nBegegnungs-Nr: 0\nHeim: UGS-Chênois\nGast: Vevey\n\nAdresse: Route de Frontenex 68\, 1208 Genève\n
LOCATION:Route de Frontenex 68\, 1208 Genève
CATEGORIES:Saison 2025/26
END:VEVENT
BEGIN:VEVENT
DTSTAMP:20260424T100442Z
DTSTART;TZID=Europe/Berlin:20251101T150000
DTEND;TZID=Europe/Berlin:20251101T180000
SUMMARY:HE NLB Gr. 1 UGS-Chênois vs Mandement (13)
UID:1479a2b0-b48e-47ae-9abc-8b760b6c475e
STATUS:CONFIRMED
LAST-MODIFIED:20251103T080041Z
DESCRIPTION:Herren Nationalliga B Gruppe 1\nBegegnungs-Nr: 13\nHeim: UGS-Chênois\nGast: Mandement\n\nAdresse: Route de Frontenex 68\, 1208 Genève\n
LOCATION:Route de Frontenex 68\, 1208 Genève
CATEGORIES:Saison 2025/26
END:VEVENT
BEGIN:VEVENT
DTSTAMP:20260424T100442Z
DTSTART;TZID=Europe/Berlin:20251213T150000
DTEND;TZID=Europe/Berlin:20251213T180000
SUMMARY:HE NLB Gr. 1 UGS-Chênois vs Carouge II (24)
UID:793abdc4-a2b6-46bf-942f-a06343313387
STATUS:CONFIRMED
LAST-MODIFIED:20251216T084106Z
DESCRIPTION:Herren Nationalliga B Gruppe 1\nBegegnungs-Nr: 24\nHeim: UGS-Chênois\nGast: Carouge II\n\nAdresse: Route de Frontenex 68\, 1208 Genève\n
LOCATION:Route de Frontenex 68\, 1208 Genève
CATEGORIES:Saison 2025/26
END:VEVENT
BEGIN:VEVENT
DTSTAMP:20260424T100442Z
DTSTART;TZID=Europe/Berlin:20251214T130000
DTEND;TZID=Europe/Berlin:20251214T160000
SUMMARY:HE NLB Gr. 1 UGS-Chênois vs Basel (27)
UID:1e97d008-8d4f-49a1-99c7-b0360f3530e5
STATUS:CONFIRMED
LAST-MODIFIED:20251216T062208Z
DESCRIPTION:Herren Nationalliga B Gruppe 1\nBegegnungs-Nr: 27\nHeim: UGS-Chênois\nGast: Basel\n\nAdresse: Route de Frontenex 68\, 1208 Genève\n
LOCATION:Route de Frontenex 68\, 1208 Genève
CATEGORIES:Saison 2025/26
END:VEVENT
BEGIN:VEVENT
DTSTAMP:20260424T100442Z
DTSTART;TZID=Europe/Berlin:20260131T130000
DTEND;TZID=Europe/Berlin:20260131T160000
SUMMARY:HE NLB Gr. 1 UGS-Chênois vs Heimberg (8)
UID:5685fb52-9a3f-4c96-ab25-cdbb8e264fa6
STATUS:CONFIRMED
LAST-MODIFIED:20260203T080824Z
DESCRIPTION:Herren Nationalliga B Gruppe 1\nBegegnungs-Nr: 8\nHeim: UGS-Chênois\nGast: Heimberg\n\nAdresse: Route de Frontenex 68\, 1208 Genève\n
LOCATION:Route de Frontenex 68\, 1208 Genève
CATEGORIES:Saison 2025/26
END:VEVENT
BEGIN:VEVENT
DTSTAMP:20260424T100442Z
DTSTART;TZID=Europe/Berlin:20260306T200000
DTEND;TZID=Europe/Berlin:20260306T230000
SUMMARY:HE NLB Gr. 1 UGS-Chênois vs Vernier (19)
UID:ba789b48-0885-4092-b850-69ff25f0decf
STATUS:CONFIRMED
LAST-MODIFIED:20260310T064712Z
DESCRIPTION:Herren Nationalliga B Gruppe 1\nBegegnungs-Nr: 19\nHeim: UGS-Chênois\nGast: Vernier\n\nAdresse: Route de Frontenex 68\, 1208 Genève\n
LOCATION:Route de Frontenex 68\, 1208 Genève
CATEGORIES:Saison 2025/26
END:VEVENT
BEGIN:VEVENT
DTSTAMP:20260424T100442Z
DTSTART;TZID=Europe/Berlin:20260418T150000
DTEND;TZID=Europe/Berlin:20260418T180000
SUMMARY:HE NLB Gr. 1 UGS-Chênois vs Bulle (26)
UID:0cc4bdf2-481b-4700-99bd-f0e2078f1bdc
STATUS:CONFIRMED
LAST-MODIFIED:20260420T080432Z
DESCRIPTION:Herren Nationalliga B Gruppe 1\nBegegnungs-Nr: 26\nHeim: UGS-Chênois\nGast: Bulle\n\nAdresse: Route de Frontenex 68\, 1208 Genève\n
LOCATION:Route de Frontenex 68\, 1208 Genève
CATEGORIES:Saison 2025/26
END:VEVENT
BEGIN:VEVENT
DTSTAMP:20260424T100442Z
DTSTART;TZID=Europe/Berlin:20260111T170000
DTEND;TZID=Europe/Berlin:20260111T200000
SUMMARY:HE NLB Gr. 1 UGS-Chênois vs Silver Star (1)
UID:b4dc736d-1585-428c-9375-0bf4d97eb0a9
STATUS:CONFIRMED
LAST-MODIFIED:20260112T202537Z
DESCRIPTION:Herren Nationalliga B Gruppe 1\nBegegnungs-Nr: 1\nHeim: UGS-Chênois\nGast: Silver Star\n\nAdresse: Route de Frontenex 68\, 1208 Genève\n
LOCATION:Route de Frontenex 68\, 1208 Genève
CATEGORIES:Saison 2025/26
END:VEVENT
BEGIN:VEVENT
DTSTAMP:20260424T100442Z
DTSTART;TZID=Europe/Berlin:20250920T163000
DTEND;TZID=Europe/Berlin:20250920T193000
SUMMARY:HE NLB Gr. 1 Heimberg vs UGS-Chênois (8)
UID:02f07495-5cca-476f-a050-5a9b0d014929
STATUS:CONFIRMED
LAST-MODIFIED:20250922T073246Z
DESCRIPTION:Herren Nationalliga B Gruppe 1\nBegegnungs-Nr: 8\nHeim: Heimberg\nGast: UGS-Chênois\n\nAdresse: Niesenstrasse 38\, 3627 Heimberg\n
LOCATION:Niesenstrasse 38\, 3627 Heimberg
CATEGORIES:Saison 2025/26
END:VEVENT
BEGIN:VEVENT
DTSTAMP:20260424T100442Z
DTSTART;TZID=Europe/Berlin:20251025T150000
DTEND;TZID=Europe/Berlin:20251025T180000
SUMMARY:HE NLB Gr. 1 Vernier vs UGS-Chênois (11)
UID:018e8bb5-4b94-4c3d-a357-d75cdbce05ec
STATUS:CONFIRMED
LAST-MODIFIED:20251203T150708Z
DESCRIPTION:Herren Nationalliga B Gruppe 1\nBegegnungs-Nr: 11\nHeim: Vernier\nGast: UGS-Chênois\n\nAdresse: Chemin de Saule 120\, 1233 Bernex\n
LOCATION:Chemin de Saule 120\, 1233 Bernex
CATEGORIES:Saison 2025/26
END:VEVENT
BEGIN:VEVENT
DTSTAMP:20260424T100442Z
DTSTART;TZID=Europe/Berlin:20251115T154500
DTEND;TZID=Europe/Berlin:20251115T184500
SUMMARY:HE NLB Gr. 1 Bulle vs UGS-Chênois (18)
UID:4e46f6a2-4b1c-4904-a203-a1d167a3c539
STATUS:CONFIRMED
LAST-MODIFIED:20251117T125254Z
DESCRIPTION:Herren Nationalliga B Gruppe 1\nBegegnungs-Nr: 18\nHeim: Bulle\nGast: UGS-Chênois\n\nAdresse: Rue du Stade 50\, 1630 Bulle\n
LOCATION:Rue du Stade 50\, 1630 Bulle
CATEGORIES:Saison 2025/26
END:VEVENT
BEGIN:VEVENT
DTSTAMP:20260424T100442Z
DTSTART;TZID=Europe/Berlin:20250907T150000
DTEND;TZID=Europe/Berlin:20250907T180000
SUMMARY:HE NLB Gr. 1 Silver Star vs UGS-Chênois (1)
UID:bb9fc23a-c823-4c76-9efc-4a60c787f649
STATUS:CONFIRMED
LAST-MODIFIED:20250918T112207Z
DESCRIPTION:Herren Nationalliga B Gruppe 1\nBegegnungs-Nr: 1\nHeim: Silver Star\nGast: UGS-Chênois\n\nAdresse: Rue de Vermont 33\, 1202 Genève\n
LOCATION:Rue de Vermont 33\, 1202 Genève
CATEGORIES:Saison 2025/26
END:VEVENT
BEGIN:VEVENT
DTSTAMP:20260424T100442Z
DTSTART;TZID=Europe/Berlin:20260329T143000
DTEND;TZID=Europe/Berlin:20260329T173000
SUMMARY:HE NLB Gr. 1 Carouge II vs UGS-Chênois (24)
UID:eae9a785-b337-4fa5-abcb-c8a1969264c7
STATUS:CONFIRMED
LAST-MODIFIED:20260330T075458Z
DESCRIPTION:Herren Nationalliga B Gruppe 1\nBegegnungs-Nr: 24\nHeim: Carouge II\nGast: UGS-Chênois\n\nAdresse: Route de Veyrier 44\, 1227 Carouge GE\n
LOCATION:Route de Veyrier 44\, 1227 Carouge GE
CATEGORIES:Saison 2025/26
END:VEVENT
BEGIN:VEVENT
DTSTAMP:20260424T100442Z
DTSTART;TZID=Europe/Berlin:20260221T140000
DTEND;TZID=Europe/Berlin:20260221T170000
SUMMARY:HE NLB Gr. 1 Basel vs UGS-Chênois (11)
UID:e43771d8-dfb2-4ad9-a545-58a9f17088c6
STATUS:CONFIRMED
LAST-MODIFIED:20260223T152735Z
DESCRIPTION:Herren Nationalliga B Gruppe 1\nBegegnungs-Nr: 11\nHeim: Basel\nGast: UGS-Chênois\n\nAdresse: Schwarzwaldallee 107\, 4058 Basel\n
LOCATION:Schwarzwaldallee 107\, 4058 Basel
CATEGORIES:Saison 2025/26
END:VEVENT
BEGIN:VEVENT
DTSTAMP:20260424T100442Z
DTSTART;TZID=Europe/Berlin:20260228T140000
DTEND;TZID=Europe/Berlin:20260228T170000
SUMMARY:HE NLB Gr. 1 Mandement vs UGS-Chênois (13)
UID:bd7b596c-38bf-4a48-bce5-6f88303e8116
STATUS:CONFIRMED
LAST-MODIFIED:20260302T213450Z
DESCRIPTION:Herren Nationalliga B Gruppe 1\nBegegnungs-Nr: 13\nHeim: Mandement\nGast: UGS-Chênois\n\nAdresse: Route de la Gare de Satigny 27A\, 1242 Satigny\n
LOCATION:Route de la Gare de Satigny 27A\, 1242 Satigny
CATEGORIES:Saison 2025/26
END:VEVENT
BEGIN:VEVENT
DTSTAMP:20260424T100442Z
DTSTART;TZID=Europe/Berlin:20260412T150000
DTEND;TZID=Europe/Berlin:20260412T180000
SUMMARY:HE NLB Gr. 1 Vevey vs UGS-Chênois (0)
UID:2d6e377d-d95d-47a7-b4ba-972143ec320f
STATUS:CONFIRMED
LAST-MODIFIED:20260414T090244Z
DESCRIPTION:Herren Nationalliga B Gruppe 1\nBegegnungs-Nr: 0\nHeim: Vevey\nGast: UGS-Chênois\n\nAdresse: Rue Louis-Meyer\, 1800 Vevey\n
LOCATION:Rue Louis-Meyer\, 1800 Vevey
CATEGORIES:Saison 2025/26
END:VEVENT
END:VCALENDAR
