BEGIN:VCALENDAR
PRODID:-//nuDatenautomaten//framework iCal4j //DE
VERSION:2.0
CALSCALE:GREGORIAN
BEGIN:VTIMEZONE
TZID:Europe/Berlin
LAST-MODIFIED:20260306T231828Z
TZURL:https://www.tzurl.org/zoneinfo/Europe/Berlin
X-LIC-LOCATION:Europe/Berlin
X-PROLEPTIC-TZNAME:LMT
BEGIN:STANDARD
TZNAME:CET
TZOFFSETFROM:+005328
TZOFFSETTO:+0100
DTSTART:18930401T000000
END:STANDARD
BEGIN:DAYLIGHT
TZNAME:CEST
TZOFFSETFROM:+0100
TZOFFSETTO:+0200
DTSTART:19160430T230000
RDATE:19400401T020000
RDATE:19430329T020000
RDATE:19460414T020000
RDATE:19470406T030000
RDATE:19480418T020000
RDATE:19490410T020000
RDATE:19800406T020000
END:DAYLIGHT
BEGIN:STANDARD
TZNAME:CET
TZOFFSETFROM:+0200
TZOFFSETTO:+0100
DTSTART:19161001T010000
RDATE:19421102T030000
RDATE:19431004T030000
RDATE:19441002T030000
RDATE:19451118T030000
RDATE:19461007T030000
END:STANDARD
BEGIN:DAYLIGHT
TZNAME:CEST
TZOFFSETFROM:+0100
TZOFFSETTO:+0200
DTSTART:19170416T020000
RRULE:FREQ=YEARLY;UNTIL=19180415T010000Z;BYMONTH=4;BYDAY=3MO
END:DAYLIGHT
BEGIN:STANDARD
TZNAME:CET
TZOFFSETFROM:+0200
TZOFFSETTO:+0100
DTSTART:19170917T030000
RRULE:FREQ=YEARLY;UNTIL=19180916T010000Z;BYMONTH=9;BYDAY=3MO
END:STANDARD
BEGIN:DAYLIGHT
TZNAME:CEST
TZOFFSETFROM:+0100
TZOFFSETTO:+0200
DTSTART:19440403T020000
RRULE:FREQ=YEARLY;UNTIL=19450402T010000Z;BYMONTH=4;BYDAY=1MO
END:DAYLIGHT
BEGIN:DAYLIGHT
TZNAME:CEMT
TZOFFSETFROM:+0200
TZOFFSETTO:+0300
DTSTART:19450524T020000
RDATE:19470511T030000
END:DAYLIGHT
BEGIN:DAYLIGHT
TZNAME:CEST
TZOFFSETFROM:+0300
TZOFFSETTO:+0200
DTSTART:19450924T030000
RDATE:19470629T030000
END:DAYLIGHT
BEGIN:STANDARD
TZNAME:CET
TZOFFSETFROM:+0100
TZOFFSETTO:+0100
DTSTART:19460101T000000
RDATE:19800101T000000
END:STANDARD
BEGIN:STANDARD
TZNAME:CET
TZOFFSETFROM:+0200
TZOFFSETTO:+0100
DTSTART:19471005T030000
RRULE:FREQ=YEARLY;UNTIL=19491002T010000Z;BYMONTH=10;BYDAY=1SU
END:STANDARD
BEGIN:STANDARD
TZNAME:CET
TZOFFSETFROM:+0200
TZOFFSETTO:+0100
DTSTART:19800928T030000
RRULE:FREQ=YEARLY;UNTIL=19950924T010000Z;BYMONTH=9;BYDAY=-1SU
END:STANDARD
BEGIN:DAYLIGHT
TZNAME:CEST
TZOFFSETFROM:+0100
TZOFFSETTO:+0200
DTSTART:19810329T020000
RRULE:FREQ=YEARLY;BYMONTH=3;BYDAY=-1SU
END:DAYLIGHT
BEGIN:STANDARD
TZNAME:CET
TZOFFSETFROM:+0200
TZOFFSETTO:+0100
DTSTART:19961027T030000
RRULE:FREQ=YEARLY;BYMONTH=10;BYDAY=-1SU
END:STANDARD
END:VTIMEZONE
BEGIN:VEVENT
DTSTAMP:20260424T103951Z
DTSTART;TZID=Europe/Berlin:20250920T160000
DTEND;TZID=Europe/Berlin:20250920T190000
SUMMARY:HE NLC Gr. 4 Zürich-Affoltern vs Young Stars ZH III (6)
UID:64a97bc0-d868-4c33-9762-37928f2f50c9
STATUS:CONFIRMED
LAST-MODIFIED:20250922T073734Z
DESCRIPTION:Herren Nationalliga C Gruppe 4\nBegegnungs-Nr: 6\nHeim: Zürich-Affoltern\nGast: Young Stars ZH III\n\nAdresse: Rümlangstr. 89\, 8052 Zürich\n
LOCATION:Rümlangstr. 89\, 8052 Zürich
CATEGORIES:Saison 2025/26
END:VEVENT
BEGIN:VEVENT
DTSTAMP:20260424T103951Z
DTSTART;TZID=Europe/Berlin:20251025T160000
DTEND;TZID=Europe/Berlin:20251025T190000
SUMMARY:HE NLC Gr. 4 Zürich-Affoltern vs Affoltern A/A (15)
UID:1463ddab-a58c-456d-801a-6b33b50d2317
STATUS:CONFIRMED
LAST-MODIFIED:20251029T082225Z
DESCRIPTION:Herren Nationalliga C Gruppe 4\nBegegnungs-Nr: 15\nHeim: Zürich-Affoltern\nGast: Affoltern A/A\n\nAdresse: Rümlangstr. 89\, 8052 Zürich\n
LOCATION:Rümlangstr. 89\, 8052 Zürich
CATEGORIES:Saison 2025/26
END:VEVENT
BEGIN:VEVENT
DTSTAMP:20260424T103951Z
DTSTART;TZID=Europe/Berlin:20251108T160000
DTEND;TZID=Europe/Berlin:20251108T190000
SUMMARY:HE NLC Gr. 4 Zürich-Affoltern vs Muolen (20)
UID:366625bc-1625-4be1-a433-b16ac7eaca03
STATUS:CONFIRMED
LAST-MODIFIED:20251110T074824Z
DESCRIPTION:Herren Nationalliga C Gruppe 4\nBegegnungs-Nr: 20\nHeim: Zürich-Affoltern\nGast: Muolen\n\nAdresse: Rümlangstr. 89\, 8052 Zürich\n
LOCATION:Rümlangstr. 89\, 8052 Zürich
CATEGORIES:Saison 2025/26
END:VEVENT
BEGIN:VEVENT
DTSTAMP:20260424T103951Z
DTSTART;TZID=Europe/Berlin:20260110T160000
DTEND;TZID=Europe/Berlin:20260110T190000
SUMMARY:HE NLC Gr. 4 Zürich-Affoltern vs Horgen (3)
UID:f2446916-80c6-4aa4-981b-4fff0e078844
STATUS:CONFIRMED
LAST-MODIFIED:20260112T203436Z
DESCRIPTION:Herren Nationalliga C Gruppe 4\nBegegnungs-Nr: 3\nHeim: Zürich-Affoltern\nGast: Horgen\n\nAdresse: Rümlangstr. 89\, 8052 Zürich\n
LOCATION:Rümlangstr. 89\, 8052 Zürich
CATEGORIES:Saison 2025/26
END:VEVENT
BEGIN:VEVENT
DTSTAMP:20260424T103951Z
DTSTART;TZID=Europe/Berlin:20260221T160000
DTEND;TZID=Europe/Berlin:20260221T190000
SUMMARY:HE NLC Gr. 4 Zürich-Affoltern vs Rapperswil-Jona III (9)
UID:9ffad4c0-6e49-489b-b503-e2ffec5655cb
STATUS:CONFIRMED
LAST-MODIFIED:20260223T153710Z
DESCRIPTION:Herren Nationalliga C Gruppe 4\nBegegnungs-Nr: 9\nHeim: Zürich-Affoltern\nGast: Rapperswil-Jona III\n\nAdresse: Rümlangstr. 89\, 8052 Zürich\n
LOCATION:Rümlangstr. 89\, 8052 Zürich
CATEGORIES:Saison 2025/26
END:VEVENT
BEGIN:VEVENT
DTSTAMP:20260424T103951Z
DTSTART;TZID=Europe/Berlin:20260418T160000
DTEND;TZID=Europe/Berlin:20260418T190000
SUMMARY:HE NLC Gr. 4 Zürich-Affoltern vs Lugano II (23)
UID:7951482c-2c8c-432a-9198-7692ffd5a022
STATUS:CONFIRMED
LAST-MODIFIED:20260420T083902Z
DESCRIPTION:Herren Nationalliga C Gruppe 4\nBegegnungs-Nr: 23\nHeim: Zürich-Affoltern\nGast: Lugano II\n\nAdresse: Rümlangstr. 89\, 8052 Zürich\n
LOCATION:Rümlangstr. 89\, 8052 Zürich
CATEGORIES:Saison 2025/26
END:VEVENT
BEGIN:VEVENT
DTSTAMP:20260424T103951Z
DTSTART;TZID=Europe/Berlin:20260419T160000
DTEND;TZID=Europe/Berlin:20260419T190000
SUMMARY:HE NLC Gr. 4 Zürich-Affoltern vs Neuhausen II (26)
UID:f06ed540-0128-4e2e-9ae3-9b6d60e77445
STATUS:CONFIRMED
LAST-MODIFIED:20260420T084043Z
DESCRIPTION:Herren Nationalliga C Gruppe 4\nBegegnungs-Nr: 26\nHeim: Zürich-Affoltern\nGast: Neuhausen II\n\nAdresse: Rümlangstr. 89\, 8052 Zürich\n
LOCATION:Rümlangstr. 89\, 8052 Zürich
CATEGORIES:Saison 2025/26
END:VEVENT
BEGIN:VEVENT
DTSTAMP:20260424T103951Z
DTSTART;TZID=Europe/Berlin:20260425T143000
DTEND;TZID=Europe/Berlin:20260425T173000
SUMMARY:HE NLC Play-Off 1/4-Final Zürich-Affoltern vs Sarnen (1)
UID:3c8531f7-c84b-4796-886f-4ef47f3685e1
STATUS:CONFIRMED
DESCRIPTION:Herren Nationalliga C Play-Off 1/4-Final \nBegegnungs-Nr: 1\nHeim: Zürich-Affoltern\nGast: Sarnen\n\nAdresse: Rümlangstr. 89\, 8052 Zürich\n
LOCATION:Rümlangstr. 89\, 8052 Zürich
CATEGORIES:Saison 2025/26
END:VEVENT
BEGIN:VEVENT
DTSTAMP:20260424T103951Z
DTSTART;TZID=Europe/Berlin:20250910T200000
DTEND;TZID=Europe/Berlin:20250910T230000
SUMMARY:HE NLC Gr. 4 Horgen vs Zürich-Affoltern (3)
UID:d79e3a82-e33e-491d-b4ca-509fe12a1df2
STATUS:CONFIRMED
LAST-MODIFIED:20250918T112619Z
DESCRIPTION:Herren Nationalliga C Gruppe 4\nBegegnungs-Nr: 3\nHeim: Horgen\nGast: Zürich-Affoltern\n\nAdresse: Seestrasse 110\, 8810 Horgen\n
LOCATION:Seestrasse 110\, 8810 Horgen
CATEGORIES:Saison 2025/26
END:VEVENT
BEGIN:VEVENT
DTSTAMP:20260424T103951Z
DTSTART;TZID=Europe/Berlin:20251011T133000
DTEND;TZID=Europe/Berlin:20251011T163000
SUMMARY:HE NLC Gr. 4 Rapperswil-Jona III vs Zürich-Affoltern (9)
UID:39810416-3e6b-42f6-bb8f-62a7ceb71fb7
STATUS:CONFIRMED
LAST-MODIFIED:20251013T102030Z
DESCRIPTION:Herren Nationalliga C Gruppe 4\nBegegnungs-Nr: 9\nHeim: Rapperswil-Jona III\nGast: Zürich-Affoltern\n\nAdresse: Kreuzstrasse 43\, 8640 Rapperswil\n
LOCATION:Kreuzstrasse 43\, 8640 Rapperswil
CATEGORIES:Saison 2025/26
END:VEVENT
BEGIN:VEVENT
DTSTAMP:20260424T103951Z
DTSTART;TZID=Europe/Berlin:20251122T153000
DTEND;TZID=Europe/Berlin:20251122T183000
SUMMARY:HE NLC Gr. 4 Lugano II vs Zürich-Affoltern (23)
UID:023fc1f1-eb58-4f18-83fd-0e871c208464
STATUS:CONFIRMED
LAST-MODIFIED:20251126T101809Z
DESCRIPTION:Herren Nationalliga C Gruppe 4\nBegegnungs-Nr: 23\nHeim: Lugano II\nGast: Zürich-Affoltern\n\nAdresse: Via al Chioso 7\, 6900 Lugano-Cassarate\n
LOCATION:Via al Chioso 7\, 6900 Lugano-Cassarate
CATEGORIES:Saison 2025/26
END:VEVENT
BEGIN:VEVENT
DTSTAMP:20260424T103951Z
DTSTART;TZID=Europe/Berlin:20251204T200000
DTEND;TZID=Europe/Berlin:20251204T230000
SUMMARY:HE NLC Gr. 4 Neuhausen II vs Zürich-Affoltern (26)
UID:395aa68a-6b14-4c32-8525-621dfc21039a
STATUS:CONFIRMED
LAST-MODIFIED:20251205T103338Z
DESCRIPTION:Herren Nationalliga C Gruppe 4\nBegegnungs-Nr: 26\nHeim: Neuhausen II\nGast: Zürich-Affoltern\n\nAdresse: Ebnatstrasse 35\, 8200 Schaffhausen\n
LOCATION:Ebnatstrasse 35\, 8200 Schaffhausen
CATEGORIES:Saison 2025/26
END:VEVENT
BEGIN:VEVENT
DTSTAMP:20260424T103951Z
DTSTART;TZID=Europe/Berlin:20260131T160000
DTEND;TZID=Europe/Berlin:20260131T190000
SUMMARY:HE NLC Gr. 4 Young Stars ZH III vs Zürich-Affoltern (6)
UID:6b805ec4-1e54-4084-b0ea-4e2c66da4fe6
STATUS:CONFIRMED
LAST-MODIFIED:20260203T081930Z
DESCRIPTION:Herren Nationalliga C Gruppe 4\nBegegnungs-Nr: 6\nHeim: Young Stars ZH III\nGast: Zürich-Affoltern\n\nAdresse: Seefeldstrasse 93\, 8008 Zürich\n
LOCATION:Seefeldstrasse 93\, 8008 Zürich
CATEGORIES:Saison 2025/26
END:VEVENT
BEGIN:VEVENT
DTSTAMP:20260424T103951Z
DTSTART;TZID=Europe/Berlin:20260303T190000
DTEND;TZID=Europe/Berlin:20260303T220000
SUMMARY:HE NLC Gr. 4 Affoltern A/A vs Zürich-Affoltern (15)
UID:f87999b2-ec91-4541-b622-e07090bc177e
STATUS:CONFIRMED
LAST-MODIFIED:20260310T064936Z
DESCRIPTION:Herren Nationalliga C Gruppe 4\nBegegnungs-Nr: 15\nHeim: Affoltern A/A\nGast: Zürich-Affoltern\n\nAdresse: Butzenstrasse 8\, 8910 Affoltern am Albis\n
LOCATION:Butzenstrasse 8\, 8910 Affoltern am Albis
CATEGORIES:Saison 2025/26
END:VEVENT
BEGIN:VEVENT
DTSTAMP:20260424T103951Z
DTSTART;TZID=Europe/Berlin:20260328T150000
DTEND;TZID=Europe/Berlin:20260328T180000
SUMMARY:HE NLC Gr. 4 Muolen vs Zürich-Affoltern (20)
UID:c0a76890-808d-4058-b6d5-7a38bad537e2
STATUS:CONFIRMED
LAST-MODIFIED:20260330T080123Z
DESCRIPTION:Herren Nationalliga C Gruppe 4\nBegegnungs-Nr: 20\nHeim: Muolen\nGast: Zürich-Affoltern\n\nAdresse: Dorfstrasse 31\, 9313 Muolen\n
LOCATION:Dorfstrasse 31\, 9313 Muolen
CATEGORIES:Saison 2025/26
END:VEVENT
BEGIN:VEVENT
DTSTAMP:20260424T103951Z
DTSTART;TZID=Europe/Berlin:20260426T163000
DTEND;TZID=Europe/Berlin:20260426T193000
SUMMARY:HE NLC Play-Off 1/4-Final Sarnen vs Zürich-Affoltern (1)
UID:6826f950-2d40-41d2-8a2b-2dd91c8cd130
STATUS:CONFIRMED
DESCRIPTION:Herren Nationalliga C Play-Off 1/4-Final \nBegegnungs-Nr: 1\nHeim: Sarnen\nGast: Zürich-Affoltern\n\nAdresse: Wilerstr. 65\, 6062 Wilen (Sarnen)\n
LOCATION:Wilerstr. 65\, 6062 Wilen (Sarnen)
CATEGORIES:Saison 2025/26
END:VEVENT
BEGIN:VEVENT
DTSTAMP:20260424T103951Z
DTSTART;TZID=Europe/Berlin:20260502T163000
DTEND;TZID=Europe/Berlin:20260502T193000
SUMMARY:HE NLC Play-Off 1/4-Final Sarnen vs Zürich-Affoltern (1)
UID:7429cf52-7195-4b3c-850c-d96ce4f92e4e
STATUS:CONFIRMED
DESCRIPTION:Herren Nationalliga C Play-Off 1/4-Final \nBegegnungs-Nr: 1\nHeim: Sarnen\nGast: Zürich-Affoltern\n\nAdresse: Wilerstr. 65\, 6062 Wilen (Sarnen)\n
LOCATION:Wilerstr. 65\, 6062 Wilen (Sarnen)
CATEGORIES:Saison 2025/26
END:VEVENT
END:VCALENDAR
