BEGIN:VCALENDAR
PRODID:-//nuDatenautomaten//framework iCal4j //DE
VERSION:2.0
CALSCALE:GREGORIAN
BEGIN:VTIMEZONE
TZID:Europe/Berlin
LAST-MODIFIED:20260306T231828Z
TZURL:https://www.tzurl.org/zoneinfo/Europe/Berlin
X-LIC-LOCATION:Europe/Berlin
X-PROLEPTIC-TZNAME:LMT
BEGIN:STANDARD
TZNAME:CET
TZOFFSETFROM:+005328
TZOFFSETTO:+0100
DTSTART:18930401T000000
END:STANDARD
BEGIN:DAYLIGHT
TZNAME:CEST
TZOFFSETFROM:+0100
TZOFFSETTO:+0200
DTSTART:19160430T230000
RDATE:19400401T020000
RDATE:19430329T020000
RDATE:19460414T020000
RDATE:19470406T030000
RDATE:19480418T020000
RDATE:19490410T020000
RDATE:19800406T020000
END:DAYLIGHT
BEGIN:STANDARD
TZNAME:CET
TZOFFSETFROM:+0200
TZOFFSETTO:+0100
DTSTART:19161001T010000
RDATE:19421102T030000
RDATE:19431004T030000
RDATE:19441002T030000
RDATE:19451118T030000
RDATE:19461007T030000
END:STANDARD
BEGIN:DAYLIGHT
TZNAME:CEST
TZOFFSETFROM:+0100
TZOFFSETTO:+0200
DTSTART:19170416T020000
RRULE:FREQ=YEARLY;UNTIL=19180415T010000Z;BYMONTH=4;BYDAY=3MO
END:DAYLIGHT
BEGIN:STANDARD
TZNAME:CET
TZOFFSETFROM:+0200
TZOFFSETTO:+0100
DTSTART:19170917T030000
RRULE:FREQ=YEARLY;UNTIL=19180916T010000Z;BYMONTH=9;BYDAY=3MO
END:STANDARD
BEGIN:DAYLIGHT
TZNAME:CEST
TZOFFSETFROM:+0100
TZOFFSETTO:+0200
DTSTART:19440403T020000
RRULE:FREQ=YEARLY;UNTIL=19450402T010000Z;BYMONTH=4;BYDAY=1MO
END:DAYLIGHT
BEGIN:DAYLIGHT
TZNAME:CEMT
TZOFFSETFROM:+0200
TZOFFSETTO:+0300
DTSTART:19450524T020000
RDATE:19470511T030000
END:DAYLIGHT
BEGIN:DAYLIGHT
TZNAME:CEST
TZOFFSETFROM:+0300
TZOFFSETTO:+0200
DTSTART:19450924T030000
RDATE:19470629T030000
END:DAYLIGHT
BEGIN:STANDARD
TZNAME:CET
TZOFFSETFROM:+0100
TZOFFSETTO:+0100
DTSTART:19460101T000000
RDATE:19800101T000000
END:STANDARD
BEGIN:STANDARD
TZNAME:CET
TZOFFSETFROM:+0200
TZOFFSETTO:+0100
DTSTART:19471005T030000
RRULE:FREQ=YEARLY;UNTIL=19491002T010000Z;BYMONTH=10;BYDAY=1SU
END:STANDARD
BEGIN:STANDARD
TZNAME:CET
TZOFFSETFROM:+0200
TZOFFSETTO:+0100
DTSTART:19800928T030000
RRULE:FREQ=YEARLY;UNTIL=19950924T010000Z;BYMONTH=9;BYDAY=-1SU
END:STANDARD
BEGIN:DAYLIGHT
TZNAME:CEST
TZOFFSETFROM:+0100
TZOFFSETTO:+0200
DTSTART:19810329T020000
RRULE:FREQ=YEARLY;BYMONTH=3;BYDAY=-1SU
END:DAYLIGHT
BEGIN:STANDARD
TZNAME:CET
TZOFFSETFROM:+0200
TZOFFSETTO:+0100
DTSTART:19961027T030000
RRULE:FREQ=YEARLY;BYMONTH=10;BYDAY=-1SU
END:STANDARD
END:VTIMEZONE
BEGIN:VEVENT
DTSTAMP:20260424T135215Z
DTSTART;TZID=Europe/Berlin:20260105T194500
DTEND;TZID=Europe/Berlin:20260105T224500
SUMMARY:HE 3. Liga Gr. 3 Steckborn-Homburg vs Embrachertal (0)
UID:c1e3a3ae-71c2-4f67-ab4d-19e8655ededc
STATUS:CONFIRMED
LAST-MODIFIED:20260109T074825Z
DESCRIPTION:3. Liga Herren Gruppe 3\nBegegnungs-Nr: 0\nHeim: Steckborn-Homburg\nGast: Embrachertal\n\nAdresse: Feldbach\, 8266 Steckborn\n
LOCATION:Feldbach\, 8266 Steckborn
CATEGORIES:Saison 2025/26
END:VEVENT
BEGIN:VEVENT
DTSTAMP:20260424T135215Z
DTSTART;TZID=Europe/Berlin:20260202T194500
DTEND;TZID=Europe/Berlin:20260202T224500
SUMMARY:HE 3. Liga Gr. 3 Steckborn-Homburg vs Dübendorf-Volketswil (0)
UID:6c9c544e-5c45-4c06-b19d-2184330a38a5
STATUS:CONFIRMED
LAST-MODIFIED:20260203T141841Z
DESCRIPTION:3. Liga Herren Gruppe 3\nBegegnungs-Nr: 0\nHeim: Steckborn-Homburg\nGast: Dübendorf-Volketswil\n\nAdresse: Feldbach\, 8266 Steckborn\n
LOCATION:Feldbach\, 8266 Steckborn
CATEGORIES:Saison 2025/26
END:VEVENT
BEGIN:VEVENT
DTSTAMP:20260424T135215Z
DTSTART;TZID=Europe/Berlin:20260309T194500
DTEND;TZID=Europe/Berlin:20260309T224500
SUMMARY:HE 3. Liga Gr. 3 Steckborn-Homburg vs Neuhausen IV (0)
UID:715be0e8-4872-420a-b24c-b50fa7cdade2
STATUS:CONFIRMED
LAST-MODIFIED:20260313T130515Z
DESCRIPTION:3. Liga Herren Gruppe 3\nBegegnungs-Nr: 0\nHeim: Steckborn-Homburg\nGast: Neuhausen IV\n\nAdresse: Feldbach\, 8266 Steckborn\n
LOCATION:Feldbach\, 8266 Steckborn
CATEGORIES:Saison 2025/26
END:VEVENT
BEGIN:VEVENT
DTSTAMP:20260424T135215Z
DTSTART;TZID=Europe/Berlin:20250901T194500
DTEND;TZID=Europe/Berlin:20250901T224500
SUMMARY:HE 3. Liga Gr. 3 Steckborn-Homburg vs Winterthur II (0)
UID:1e347932-a3f1-463f-ae5f-bb5ca3d4ff5b
STATUS:CONFIRMED
LAST-MODIFIED:20250902T091845Z
DESCRIPTION:3. Liga Herren Gruppe 3\nBegegnungs-Nr: 0\nHeim: Steckborn-Homburg\nGast: Winterthur II\n\nAdresse: Feldbach\, 8266 Steckborn\n
LOCATION:Feldbach\, 8266 Steckborn
CATEGORIES:Saison 2025/26
END:VEVENT
BEGIN:VEVENT
DTSTAMP:20260424T135215Z
DTSTART;TZID=Europe/Berlin:20260413T194500
DTEND;TZID=Europe/Berlin:20260413T224500
SUMMARY:HE 3. Liga Gr. 3 Steckborn-Homburg vs Niederhasli II (0)
UID:b018f556-473e-41ae-95c3-23eabcff219e
STATUS:CONFIRMED
LAST-MODIFIED:20260420T170245Z
DESCRIPTION:3. Liga Herren Gruppe 3\nBegegnungs-Nr: 0\nHeim: Steckborn-Homburg\nGast: Niederhasli II\n\nAdresse: Feldbach\, 8266 Steckborn\n
LOCATION:Feldbach\, 8266 Steckborn
CATEGORIES:Saison 2025/26
END:VEVENT
BEGIN:VEVENT
DTSTAMP:20260424T135215Z
DTSTART;TZID=Europe/Berlin:20250922T194500
DTEND;TZID=Europe/Berlin:20250922T224500
SUMMARY:HE 3. Liga Gr. 3 Steckborn-Homburg vs Bülach II (0)
UID:1ecd2d5b-4e8a-44dc-8b16-3a936fb9d9b3
STATUS:CONFIRMED
LAST-MODIFIED:20250926T125957Z
DESCRIPTION:3. Liga Herren Gruppe 3\nBegegnungs-Nr: 0\nHeim: Steckborn-Homburg\nGast: Bülach II\n\nAdresse: Feldbach\, 8266 Steckborn\n
LOCATION:Feldbach\, 8266 Steckborn
CATEGORIES:Saison 2025/26
END:VEVENT
BEGIN:VEVENT
DTSTAMP:20260424T135215Z
DTSTART;TZID=Europe/Berlin:20251103T194500
DTEND;TZID=Europe/Berlin:20251103T224500
SUMMARY:HE 3. Liga Gr. 3 Steckborn-Homburg vs Wil SG II (0)
UID:e6310c81-f15b-44c3-a37a-9b69cd320d26
STATUS:CONFIRMED
LAST-MODIFIED:20251107T152212Z
DESCRIPTION:3. Liga Herren Gruppe 3\nBegegnungs-Nr: 0\nHeim: Steckborn-Homburg\nGast: Wil SG II\n\nAdresse: Feldbach\, 8266 Steckborn\n
LOCATION:Feldbach\, 8266 Steckborn
CATEGORIES:Saison 2025/26
END:VEVENT
BEGIN:VEVENT
DTSTAMP:20260424T135215Z
DTSTART;TZID=Europe/Berlin:20260320T201500
DTEND;TZID=Europe/Berlin:20260320T231500
SUMMARY:HE 3. Liga Gr. 3 Winterthur II vs Steckborn-Homburg (0)
UID:5ac05041-30ca-4f20-87f1-240daa8d7bbf
STATUS:CONFIRMED
LAST-MODIFIED:20260326T134928Z
DESCRIPTION:3. Liga Herren Gruppe 3\nBegegnungs-Nr: 0\nHeim: Winterthur II\nGast: Steckborn-Homburg\n\nAdresse: Buchackerstrasse 54\, 8400 Winterthur\n
LOCATION:Buchackerstrasse 54\, 8400 Winterthur
CATEGORIES:Saison 2025/26
END:VEVENT
BEGIN:VEVENT
DTSTAMP:20260424T135215Z
DTSTART;TZID=Europe/Berlin:20260305T201500
DTEND;TZID=Europe/Berlin:20260305T231500
SUMMARY:HE 3. Liga Gr. 3 Bülach II vs Steckborn-Homburg (0)
UID:3b7aaaa2-c62e-4d9d-bfeb-522f0859c5a9
STATUS:CONFIRMED
LAST-MODIFIED:20260310T155528Z
DESCRIPTION:3. Liga Herren Gruppe 3\nBegegnungs-Nr: 0\nHeim: Bülach II\nGast: Steckborn-Homburg\n\nAdresse: Unterweg 51\, 8180 Bülach\n
LOCATION:Unterweg 51\, 8180 Bülach
CATEGORIES:Saison 2025/26
END:VEVENT
BEGIN:VEVENT
DTSTAMP:20260424T135215Z
DTSTART;TZID=Europe/Berlin:20250826T200000
DTEND;TZID=Europe/Berlin:20250826T230000
SUMMARY:HE 3. Liga Gr. 3 Embrachertal vs Steckborn-Homburg (0)
UID:2e8328af-2e8e-4c40-af2e-4744a91c20f0
STATUS:CONFIRMED
LAST-MODIFIED:20250829T143109Z
DESCRIPTION:3. Liga Herren Gruppe 3\nBegegnungs-Nr: 0\nHeim: Embrachertal\nGast: Steckborn-Homburg\n\nAdresse: Hintermarchlenstrasse 31 + 33\, 8426 Lufingen\n
LOCATION:Hintermarchlenstrasse 31 + 33\, 8426 Lufingen
CATEGORIES:Saison 2025/26
END:VEVENT
BEGIN:VEVENT
DTSTAMP:20260424T135215Z
DTSTART;TZID=Europe/Berlin:20260324T201500
DTEND;TZID=Europe/Berlin:20260324T231500
SUMMARY:HE 3. Liga Gr. 3 Wil SG II vs Steckborn-Homburg (0)
UID:9f05fe4a-6374-457a-b9bf-0088608727d2
STATUS:CONFIRMED
LAST-MODIFIED:20260326T141121Z
DESCRIPTION:3. Liga Herren Gruppe 3\nBegegnungs-Nr: 0\nHeim: Wil SG II\nGast: Steckborn-Homburg\n\nAdresse: Lindenhofstr. 23\, 9500 Wil\n
LOCATION:Lindenhofstr. 23\, 9500 Wil
CATEGORIES:Saison 2025/26
END:VEVENT
BEGIN:VEVENT
DTSTAMP:20260424T135215Z
DTSTART;TZID=Europe/Berlin:20250915T200000
DTEND;TZID=Europe/Berlin:20250915T230000
SUMMARY:HE 3. Liga Gr. 3 Dübendorf-Volketswil vs Steckborn-Homburg (0)
UID:20b4aa77-f922-44b7-9eb1-80ab3159d640
STATUS:CONFIRMED
LAST-MODIFIED:20250916T092454Z
DESCRIPTION:3. Liga Herren Gruppe 3\nBegegnungs-Nr: 0\nHeim: Dübendorf-Volketswil\nGast: Steckborn-Homburg\n\nAdresse: Usterstrasse 35\, 8604 Volketswil\n
LOCATION:Usterstrasse 35\, 8604 Volketswil
CATEGORIES:Saison 2025/26
END:VEVENT
BEGIN:VEVENT
DTSTAMP:20260424T135215Z
DTSTART;TZID=Europe/Berlin:20251029T200000
DTEND;TZID=Europe/Berlin:20251029T230000
SUMMARY:HE 3. Liga Gr. 3 Neuhausen IV vs Steckborn-Homburg (0)
UID:269c87d8-d706-467c-acb5-de8f81ab03c7
STATUS:CONFIRMED
LAST-MODIFIED:20251031T143055Z
DESCRIPTION:3. Liga Herren Gruppe 3\nBegegnungs-Nr: 0\nHeim: Neuhausen IV\nGast: Steckborn-Homburg\n\nAdresse: Ebnatstrasse 35\, 8200 Schaffhausen\n
LOCATION:Ebnatstrasse 35\, 8200 Schaffhausen
CATEGORIES:Saison 2025/26
END:VEVENT
BEGIN:VEVENT
DTSTAMP:20260424T135215Z
DTSTART;TZID=Europe/Berlin:20251203T193000
DTEND;TZID=Europe/Berlin:20251203T223000
SUMMARY:HE 3. Liga Gr. 3 Niederhasli II vs Steckborn-Homburg (0)
UID:87a6b570-be25-4559-ac36-0ee197504a46
STATUS:CONFIRMED
LAST-MODIFIED:20251205T130057Z
DESCRIPTION:3. Liga Herren Gruppe 3\nBegegnungs-Nr: 0\nHeim: Niederhasli II\nGast: Steckborn-Homburg\n\nAdresse: Dorfstrasse 22\, 8155 Niederhasli\n
LOCATION:Dorfstrasse 22\, 8155 Niederhasli
CATEGORIES:Saison 2025/26
END:VEVENT
END:VCALENDAR
