BEGIN:VCALENDAR
PRODID:-//nuDatenautomaten//framework iCal4j //DE
VERSION:2.0
CALSCALE:GREGORIAN
BEGIN:VTIMEZONE
TZID:Europe/Berlin
LAST-MODIFIED:20260306T231828Z
TZURL:https://www.tzurl.org/zoneinfo/Europe/Berlin
X-LIC-LOCATION:Europe/Berlin
X-PROLEPTIC-TZNAME:LMT
BEGIN:STANDARD
TZNAME:CET
TZOFFSETFROM:+005328
TZOFFSETTO:+0100
DTSTART:18930401T000000
END:STANDARD
BEGIN:DAYLIGHT
TZNAME:CEST
TZOFFSETFROM:+0100
TZOFFSETTO:+0200
DTSTART:19160430T230000
RDATE:19400401T020000
RDATE:19430329T020000
RDATE:19460414T020000
RDATE:19470406T030000
RDATE:19480418T020000
RDATE:19490410T020000
RDATE:19800406T020000
END:DAYLIGHT
BEGIN:STANDARD
TZNAME:CET
TZOFFSETFROM:+0200
TZOFFSETTO:+0100
DTSTART:19161001T010000
RDATE:19421102T030000
RDATE:19431004T030000
RDATE:19441002T030000
RDATE:19451118T030000
RDATE:19461007T030000
END:STANDARD
BEGIN:DAYLIGHT
TZNAME:CEST
TZOFFSETFROM:+0100
TZOFFSETTO:+0200
DTSTART:19170416T020000
RRULE:FREQ=YEARLY;UNTIL=19180415T010000Z;BYMONTH=4;BYDAY=3MO
END:DAYLIGHT
BEGIN:STANDARD
TZNAME:CET
TZOFFSETFROM:+0200
TZOFFSETTO:+0100
DTSTART:19170917T030000
RRULE:FREQ=YEARLY;UNTIL=19180916T010000Z;BYMONTH=9;BYDAY=3MO
END:STANDARD
BEGIN:DAYLIGHT
TZNAME:CEST
TZOFFSETFROM:+0100
TZOFFSETTO:+0200
DTSTART:19440403T020000
RRULE:FREQ=YEARLY;UNTIL=19450402T010000Z;BYMONTH=4;BYDAY=1MO
END:DAYLIGHT
BEGIN:DAYLIGHT
TZNAME:CEMT
TZOFFSETFROM:+0200
TZOFFSETTO:+0300
DTSTART:19450524T020000
RDATE:19470511T030000
END:DAYLIGHT
BEGIN:DAYLIGHT
TZNAME:CEST
TZOFFSETFROM:+0300
TZOFFSETTO:+0200
DTSTART:19450924T030000
RDATE:19470629T030000
END:DAYLIGHT
BEGIN:STANDARD
TZNAME:CET
TZOFFSETFROM:+0100
TZOFFSETTO:+0100
DTSTART:19460101T000000
RDATE:19800101T000000
END:STANDARD
BEGIN:STANDARD
TZNAME:CET
TZOFFSETFROM:+0200
TZOFFSETTO:+0100
DTSTART:19471005T030000
RRULE:FREQ=YEARLY;UNTIL=19491002T010000Z;BYMONTH=10;BYDAY=1SU
END:STANDARD
BEGIN:STANDARD
TZNAME:CET
TZOFFSETFROM:+0200
TZOFFSETTO:+0100
DTSTART:19800928T030000
RRULE:FREQ=YEARLY;UNTIL=19950924T010000Z;BYMONTH=9;BYDAY=-1SU
END:STANDARD
BEGIN:DAYLIGHT
TZNAME:CEST
TZOFFSETFROM:+0100
TZOFFSETTO:+0200
DTSTART:19810329T020000
RRULE:FREQ=YEARLY;BYMONTH=3;BYDAY=-1SU
END:DAYLIGHT
BEGIN:STANDARD
TZNAME:CET
TZOFFSETFROM:+0200
TZOFFSETTO:+0100
DTSTART:19961027T030000
RRULE:FREQ=YEARLY;BYMONTH=10;BYDAY=-1SU
END:STANDARD
END:VTIMEZONE
BEGIN:VEVENT
DTSTAMP:20260424T084016Z
DTSTART;TZID=Europe/Berlin:20250912T194500
DTEND;TZID=Europe/Berlin:20250912T224500
SUMMARY:HE 3. Liga Gr. 1 Royal Bern II vs Bern V (6)
UID:b3e67b3b-1981-4bb9-be4a-fae73bf7916b
STATUS:CONFIRMED
LAST-MODIFIED:20250918T141246Z
DESCRIPTION:3. Liga Herren Gruppe 1\nBegegnungs-Nr: 6\nHeim: Royal Bern II\nGast: Bern V\n\nAdresse: Dändlikerweg 60\, 3014 Bern\n
LOCATION:Dändlikerweg 60\, 3014 Bern
CATEGORIES:Saison 2025/26
END:VEVENT
BEGIN:VEVENT
DTSTAMP:20260424T084016Z
DTSTART;TZID=Europe/Berlin:20251217T194500
DTEND;TZID=Europe/Berlin:20251217T224500
SUMMARY:HE 3. Liga Gr. 1 Royal Bern II vs Münsingen (23)
UID:0a447373-5665-40b2-a8d2-53cc6a4d05a7
STATUS:CONFIRMED
LAST-MODIFIED:20251218T122041Z
DESCRIPTION:3. Liga Herren Gruppe 1\nBegegnungs-Nr: 23\nHeim: Royal Bern II\nGast: Münsingen\n\nAdresse: Dändlikerweg 60\, 3014 Bern\n
LOCATION:Dändlikerweg 60\, 3014 Bern
CATEGORIES:Saison 2025/26
END:VEVENT
BEGIN:VEVENT
DTSTAMP:20260424T084016Z
DTSTART;TZID=Europe/Berlin:20251027T194500
DTEND;TZID=Europe/Berlin:20251027T224500
SUMMARY:HE 3. Liga Gr. 1 Royal Bern II vs Heimberg IV (16)
UID:d3b004df-a225-48ea-be24-76bf8bd830e1
STATUS:CONFIRMED
LAST-MODIFIED:20251029T220808Z
DESCRIPTION:3. Liga Herren Gruppe 1\nBegegnungs-Nr: 16\nHeim: Royal Bern II\nGast: Heimberg IV\n\nAdresse: Dändlikerweg 60\, 3014 Bern\n
LOCATION:Dändlikerweg 60\, 3014 Bern
CATEGORIES:Saison 2025/26
END:VEVENT
BEGIN:VEVENT
DTSTAMP:20260424T084016Z
DTSTART;TZID=Europe/Berlin:20260323T194500
DTEND;TZID=Europe/Berlin:20260323T224500
SUMMARY:HE 3. Liga Gr. 1 Royal Bern II vs Interlaken (28)
UID:f6715322-bcd3-46a8-a38e-a62f08547f66
STATUS:CONFIRMED
LAST-MODIFIED:20260409T123504Z
DESCRIPTION:3. Liga Herren Gruppe 1\nBegegnungs-Nr: 28\nHeim: Royal Bern II\nGast: Interlaken\n\nAdresse: Dändlikerweg 60\, 3014 Bern\n
LOCATION:Dändlikerweg 60\, 3014 Bern
CATEGORIES:Saison 2025/26
END:VEVENT
BEGIN:VEVENT
DTSTAMP:20260424T084016Z
DTSTART;TZID=Europe/Berlin:20260302T194500
DTEND;TZID=Europe/Berlin:20260302T224500
SUMMARY:HE 3. Liga Gr. 1 Royal Bern II vs bls Spiez (20)
UID:71938b54-318f-4bd6-82de-5732b029b326
STATUS:CONFIRMED
LAST-MODIFIED:20260308T173610Z
DESCRIPTION:3. Liga Herren Gruppe 1\nBegegnungs-Nr: 20\nHeim: Royal Bern II\nGast: bls Spiez\n\nAdresse: Dändlikerweg 60\, 3014 Bern\n
LOCATION:Dändlikerweg 60\, 3014 Bern
CATEGORIES:Saison 2025/26
END:VEVENT
BEGIN:VEVENT
DTSTAMP:20260424T084016Z
DTSTART;TZID=Europe/Berlin:20260112T194500
DTEND;TZID=Europe/Berlin:20260112T224500
SUMMARY:HE 3. Liga Gr. 1 Royal Bern II vs Ostermundigen V (1)
UID:42e375b7-8d56-4ae4-9e02-1e6c083a6c87
STATUS:CONFIRMED
LAST-MODIFIED:20260125T000356Z
DESCRIPTION:3. Liga Herren Gruppe 1\nBegegnungs-Nr: 1\nHeim: Royal Bern II\nGast: Ostermundigen V\n\nAdresse: Dändlikerweg 60\, 3014 Bern\n
LOCATION:Dändlikerweg 60\, 3014 Bern
CATEGORIES:Saison 2025/26
END:VEVENT
BEGIN:VEVENT
DTSTAMP:20260424T084016Z
DTSTART;TZID=Europe/Berlin:20260202T194500
DTEND;TZID=Europe/Berlin:20260202T224500
SUMMARY:HE 3. Liga Gr. 1 Royal Bern II vs Belp II (11)
UID:0b87c4c5-e68e-4136-bf9e-bf106d31ab37
STATUS:CONFIRMED
LAST-MODIFIED:20260217T212738Z
DESCRIPTION:3. Liga Herren Gruppe 1\nBegegnungs-Nr: 11\nHeim: Royal Bern II\nGast: Belp II\n\nAdresse: Dändlikerweg 60\, 3014 Bern\n
LOCATION:Dändlikerweg 60\, 3014 Bern
CATEGORIES:Saison 2025/26
END:VEVENT
BEGIN:VEVENT
DTSTAMP:20260424T084016Z
DTSTART;TZID=Europe/Berlin:20251212T200000
DTEND;TZID=Europe/Berlin:20251212T230000
SUMMARY:HE 3. Liga Gr. 1 Interlaken vs Royal Bern II (28)
UID:3c47a59c-78fa-4780-b746-3719cb513615
STATUS:CONFIRMED
LAST-MODIFIED:20251216T120329Z
DESCRIPTION:3. Liga Herren Gruppe 1\nBegegnungs-Nr: 28\nHeim: Interlaken\nGast: Royal Bern II\n\nAdresse: Burgweg 239R\, 3852 Ringgenberg\n
LOCATION:Burgweg 239R\, 3852 Ringgenberg
CATEGORIES:Saison 2025/26
END:VEVENT
BEGIN:VEVENT
DTSTAMP:20260424T084016Z
DTSTART;TZID=Europe/Berlin:20251111T194500
DTEND;TZID=Europe/Berlin:20251111T224500
SUMMARY:HE 3. Liga Gr. 1 bls Spiez vs Royal Bern II (20)
UID:9dc9d0f3-0202-46e6-ba38-927a378495fe
STATUS:CONFIRMED
LAST-MODIFIED:20251115T171532Z
DESCRIPTION:3. Liga Herren Gruppe 1\nBegegnungs-Nr: 20\nHeim: bls Spiez\nGast: Royal Bern II\n\nAdresse: Hofachernweg 19 / Oberlandstr. 89\, 3700 Spiez\n
LOCATION:Hofachernweg 19 / Oberlandstr. 89\, 3700 Spiez
CATEGORIES:Saison 2025/26
END:VEVENT
BEGIN:VEVENT
DTSTAMP:20260424T084016Z
DTSTART;TZID=Europe/Berlin:20250926T194500
DTEND;TZID=Europe/Berlin:20250926T224500
SUMMARY:HE 3. Liga Gr. 1 Ostermundigen V vs Royal Bern II (1)
UID:20ab5351-0d25-4fdd-85fd-e39592ccc1d6
STATUS:CONFIRMED
LAST-MODIFIED:20251003T173112Z
DESCRIPTION:3. Liga Herren Gruppe 1\nBegegnungs-Nr: 1\nHeim: Ostermundigen V\nGast: Royal Bern II\n\nAdresse: Dennigkofenweg 169\, 3072 Ostermundigen\n
LOCATION:Dennigkofenweg 169\, 3072 Ostermundigen
CATEGORIES:Saison 2025/26
END:VEVENT
BEGIN:VEVENT
DTSTAMP:20260424T084016Z
DTSTART;TZID=Europe/Berlin:20251015T193000
DTEND;TZID=Europe/Berlin:20251015T223000
SUMMARY:HE 3. Liga Gr. 1 Belp II vs Royal Bern II (11)
UID:fd533963-67ad-4ea7-aebf-1b42099e019b
STATUS:CONFIRMED
LAST-MODIFIED:20251016T191525Z
DESCRIPTION:3. Liga Herren Gruppe 1\nBegegnungs-Nr: 11\nHeim: Belp II\nGast: Royal Bern II\n\nAdresse: Neumattstrasse 39\, 3123 Belp\n
LOCATION:Neumattstrasse 39\, 3123 Belp
CATEGORIES:Saison 2025/26
END:VEVENT
BEGIN:VEVENT
DTSTAMP:20260424T084016Z
DTSTART;TZID=Europe/Berlin:20260309T193000
DTEND;TZID=Europe/Berlin:20260309T223000
SUMMARY:HE 3. Liga Gr. 1 Münsingen vs Royal Bern II (23)
UID:0c7a0937-4141-415a-b940-2f019abde2d9
STATUS:CONFIRMED
LAST-MODIFIED:20260315T225827Z
DESCRIPTION:3. Liga Herren Gruppe 1\nBegegnungs-Nr: 23\nHeim: Münsingen\nGast: Royal Bern II\n\nAdresse: Turnhallenweg 8\, 3110 Münsingen\n
LOCATION:Turnhallenweg 8\, 3110 Münsingen
CATEGORIES:Saison 2025/26
END:VEVENT
BEGIN:VEVENT
DTSTAMP:20260424T084016Z
DTSTART;TZID=Europe/Berlin:20260312T194500
DTEND;TZID=Europe/Berlin:20260312T224500
SUMMARY:HE 3. Liga Gr. 1 Heimberg IV vs Royal Bern II (16)
UID:8da2d0e6-5118-479f-85f2-507de623c222
STATUS:CONFIRMED
LAST-MODIFIED:20260315T225846Z
DESCRIPTION:3. Liga Herren Gruppe 1\nBegegnungs-Nr: 16\nHeim: Heimberg IV\nGast: Royal Bern II\n\nAdresse: Niesenstrasse 38\, 3627 Heimberg\n
LOCATION:Niesenstrasse 38\, 3627 Heimberg
CATEGORIES:Saison 2025/26
END:VEVENT
BEGIN:VEVENT
DTSTAMP:20260424T084016Z
DTSTART;TZID=Europe/Berlin:20260129T200000
DTEND;TZID=Europe/Berlin:20260129T230000
SUMMARY:HE 3. Liga Gr. 1 Bern V vs Royal Bern II (6)
UID:851cc04d-a000-4129-beed-b7318d5e4845
STATUS:CONFIRMED
LAST-MODIFIED:20260217T212658Z
DESCRIPTION:3. Liga Herren Gruppe 1\nBegegnungs-Nr: 6\nHeim: Bern V\nGast: Royal Bern II\n\nAdresse: Mädergutstrasse 58\, 3018 Bern\n
LOCATION:Mädergutstrasse 58\, 3018 Bern
CATEGORIES:Saison 2025/26
END:VEVENT
END:VCALENDAR
