BEGIN:VCALENDAR
PRODID:-//nuDatenautomaten//framework iCal4j //DE
VERSION:2.0
CALSCALE:GREGORIAN
BEGIN:VTIMEZONE
TZID:Europe/Berlin
LAST-MODIFIED:20260306T231828Z
TZURL:https://www.tzurl.org/zoneinfo/Europe/Berlin
X-LIC-LOCATION:Europe/Berlin
X-PROLEPTIC-TZNAME:LMT
BEGIN:STANDARD
TZNAME:CET
TZOFFSETFROM:+005328
TZOFFSETTO:+0100
DTSTART:18930401T000000
END:STANDARD
BEGIN:DAYLIGHT
TZNAME:CEST
TZOFFSETFROM:+0100
TZOFFSETTO:+0200
DTSTART:19160430T230000
RDATE:19400401T020000
RDATE:19430329T020000
RDATE:19460414T020000
RDATE:19470406T030000
RDATE:19480418T020000
RDATE:19490410T020000
RDATE:19800406T020000
END:DAYLIGHT
BEGIN:STANDARD
TZNAME:CET
TZOFFSETFROM:+0200
TZOFFSETTO:+0100
DTSTART:19161001T010000
RDATE:19421102T030000
RDATE:19431004T030000
RDATE:19441002T030000
RDATE:19451118T030000
RDATE:19461007T030000
END:STANDARD
BEGIN:DAYLIGHT
TZNAME:CEST
TZOFFSETFROM:+0100
TZOFFSETTO:+0200
DTSTART:19170416T020000
RRULE:FREQ=YEARLY;UNTIL=19180415T010000Z;BYMONTH=4;BYDAY=3MO
END:DAYLIGHT
BEGIN:STANDARD
TZNAME:CET
TZOFFSETFROM:+0200
TZOFFSETTO:+0100
DTSTART:19170917T030000
RRULE:FREQ=YEARLY;UNTIL=19180916T010000Z;BYMONTH=9;BYDAY=3MO
END:STANDARD
BEGIN:DAYLIGHT
TZNAME:CEST
TZOFFSETFROM:+0100
TZOFFSETTO:+0200
DTSTART:19440403T020000
RRULE:FREQ=YEARLY;UNTIL=19450402T010000Z;BYMONTH=4;BYDAY=1MO
END:DAYLIGHT
BEGIN:DAYLIGHT
TZNAME:CEMT
TZOFFSETFROM:+0200
TZOFFSETTO:+0300
DTSTART:19450524T020000
RDATE:19470511T030000
END:DAYLIGHT
BEGIN:DAYLIGHT
TZNAME:CEST
TZOFFSETFROM:+0300
TZOFFSETTO:+0200
DTSTART:19450924T030000
RDATE:19470629T030000
END:DAYLIGHT
BEGIN:STANDARD
TZNAME:CET
TZOFFSETFROM:+0100
TZOFFSETTO:+0100
DTSTART:19460101T000000
RDATE:19800101T000000
END:STANDARD
BEGIN:STANDARD
TZNAME:CET
TZOFFSETFROM:+0200
TZOFFSETTO:+0100
DTSTART:19471005T030000
RRULE:FREQ=YEARLY;UNTIL=19491002T010000Z;BYMONTH=10;BYDAY=1SU
END:STANDARD
BEGIN:STANDARD
TZNAME:CET
TZOFFSETFROM:+0200
TZOFFSETTO:+0100
DTSTART:19800928T030000
RRULE:FREQ=YEARLY;UNTIL=19950924T010000Z;BYMONTH=9;BYDAY=-1SU
END:STANDARD
BEGIN:DAYLIGHT
TZNAME:CEST
TZOFFSETFROM:+0100
TZOFFSETTO:+0200
DTSTART:19810329T020000
RRULE:FREQ=YEARLY;BYMONTH=3;BYDAY=-1SU
END:DAYLIGHT
BEGIN:STANDARD
TZNAME:CET
TZOFFSETFROM:+0200
TZOFFSETTO:+0100
DTSTART:19961027T030000
RRULE:FREQ=YEARLY;BYMONTH=10;BYDAY=-1SU
END:STANDARD
END:VTIMEZONE
BEGIN:VEVENT
DTSTAMP:20260424T025637Z
DTSTART;TZID=Europe/Berlin:20251214T150000
DTEND;TZID=Europe/Berlin:20251214T180000
SUMMARY:HE NLB Gr. 2 Young Stars ZH II vs Rapid Luzern (28)
UID:768bf31b-292a-49b4-9a86-161fc0fb5163
STATUS:CONFIRMED
LAST-MODIFIED:20251216T061914Z
DESCRIPTION:Herren Nationalliga B Gruppe 2\nBegegnungs-Nr: 28\nHeim: Young Stars ZH II\nGast: Rapid Luzern\n\nAdresse: Seefeldstrasse 93\, 8008 Zürich\n
LOCATION:Seefeldstrasse 93\, 8008 Zürich
CATEGORIES:Saison 2025/26
END:VEVENT
BEGIN:VEVENT
DTSTAMP:20260424T025637Z
DTSTART;TZID=Europe/Berlin:20251026T120000
DTEND;TZID=Europe/Berlin:20251026T150000
SUMMARY:HE NLB Gr. 2 Young Stars ZH II vs ABTT (12)
UID:26c72da2-32f7-4b26-96fd-c6b4041a24e5
STATUS:CONFIRMED
LAST-MODIFIED:20251029T082706Z
DESCRIPTION:Herren Nationalliga B Gruppe 2\nBegegnungs-Nr: 12\nHeim: Young Stars ZH II\nGast: ABTT\n\nAdresse: Seefeldstrasse 93\, 8008 Zürich\n
LOCATION:Seefeldstrasse 93\, 8008 Zürich
CATEGORIES:Saison 2025/26
END:VEVENT
BEGIN:VEVENT
DTSTAMP:20260424T025637Z
DTSTART;TZID=Europe/Berlin:20250906T160000
DTEND;TZID=Europe/Berlin:20250906T190000
SUMMARY:HE NLB Gr. 2 Young Stars ZH II vs Wetzikon (2)
UID:4578e037-72f1-4796-b439-fed80badaab9
STATUS:CONFIRMED
LAST-MODIFIED:20250918T111732Z
DESCRIPTION:Herren Nationalliga B Gruppe 2\nBegegnungs-Nr: 2\nHeim: Young Stars ZH II\nGast: Wetzikon\n\nAdresse: Seefeldstrasse 93\, 8008 Zürich\n
LOCATION:Seefeldstrasse 93\, 8008 Zürich
CATEGORIES:Saison 2025/26
END:VEVENT
BEGIN:VEVENT
DTSTAMP:20260424T025637Z
DTSTART;TZID=Europe/Berlin:20251115T160000
DTEND;TZID=Europe/Berlin:20251115T190000
SUMMARY:HE NLB Gr. 2 Young Stars ZH II vs Wädenswil (19)
UID:a9ad01b8-1ad1-42f8-9081-c4f96faa439a
STATUS:CONFIRMED
LAST-MODIFIED:20251117T125139Z
DESCRIPTION:Herren Nationalliga B Gruppe 2\nBegegnungs-Nr: 19\nHeim: Young Stars ZH II\nGast: Wädenswil\n\nAdresse: Seefeldstrasse 93\, 8008 Zürich\n
LOCATION:Seefeldstrasse 93\, 8008 Zürich
CATEGORIES:Saison 2025/26
END:VEVENT
BEGIN:VEVENT
DTSTAMP:20260424T025637Z
DTSTART;TZID=Europe/Berlin:20260301T164500
DTEND;TZID=Europe/Berlin:20260301T194500
SUMMARY:HE NLB Gr. 2 Young Stars ZH II vs Rapperswil-Jona II (14)
UID:a861e34a-7e68-404a-862b-b013c49ad532
STATUS:CONFIRMED
LAST-MODIFIED:20260302T214524Z
DESCRIPTION:Herren Nationalliga B Gruppe 2\nBegegnungs-Nr: 14\nHeim: Young Stars ZH II\nGast: Rapperswil-Jona II\n\nAdresse: Seefeldstrasse 93\, 8008 Zürich\n
LOCATION:Seefeldstrasse 93\, 8008 Zürich
CATEGORIES:Saison 2025/26
END:VEVENT
BEGIN:VEVENT
DTSTAMP:20260424T025637Z
DTSTART;TZID=Europe/Berlin:20260307T160000
DTEND;TZID=Europe/Berlin:20260307T190000
SUMMARY:HE NLB Gr. 2 Young Stars ZH II vs St. Gallen (17)
UID:17c10183-5108-4d9c-8ada-9b951eb85ced
STATUS:CONFIRMED
LAST-MODIFIED:20260310T071010Z
DESCRIPTION:Herren Nationalliga B Gruppe 2\nBegegnungs-Nr: 17\nHeim: Young Stars ZH II\nGast: St. Gallen\n\nAdresse: Seefeldstrasse 93\, 8008 Zürich\n
LOCATION:Seefeldstrasse 93\, 8008 Zürich
CATEGORIES:Saison 2025/26
END:VEVENT
BEGIN:VEVENT
DTSTAMP:20260424T025637Z
DTSTART;TZID=Europe/Berlin:20260131T160000
DTEND;TZID=Europe/Berlin:20260131T190000
SUMMARY:HE NLB Gr. 2 Young Stars ZH II vs Rio-Star Muttenz II (5)
UID:c17f5bf0-6949-4761-bca7-dece68995d9c
STATUS:CONFIRMED
LAST-MODIFIED:20260203T081223Z
DESCRIPTION:Herren Nationalliga B Gruppe 2\nBegegnungs-Nr: 5\nHeim: Young Stars ZH II\nGast: Rio-Star Muttenz II\n\nAdresse: Seefeldstrasse 93\, 8008 Zürich\n
LOCATION:Seefeldstrasse 93\, 8008 Zürich
CATEGORIES:Saison 2025/26
END:VEVENT
BEGIN:VEVENT
DTSTAMP:20260424T025637Z
DTSTART;TZID=Europe/Berlin:20250920T170000
DTEND;TZID=Europe/Berlin:20250920T200000
SUMMARY:HE NLB Gr. 2 Rio-Star Muttenz II vs Young Stars ZH II (5)
UID:a3199eb3-c612-4a7b-a317-0f6c36dd4552
STATUS:CONFIRMED
LAST-MODIFIED:20250922T073315Z
DESCRIPTION:Herren Nationalliga B Gruppe 2\nBegegnungs-Nr: 5\nHeim: Rio-Star Muttenz II\nGast: Young Stars ZH II\n\nAdresse: Gründenstrasse 32\, 4132 Muttenz\n
LOCATION:Gründenstrasse 32\, 4132 Muttenz
CATEGORIES:Saison 2025/26
END:VEVENT
BEGIN:VEVENT
DTSTAMP:20260424T025637Z
DTSTART;TZID=Europe/Berlin:20251102T133000
DTEND;TZID=Europe/Berlin:20251102T163000
SUMMARY:HE NLB Gr. 2 Rapperswil-Jona II vs Young Stars ZH II (14)
UID:658d00ac-82c4-4817-8cb5-0d201a6f96b6
STATUS:CONFIRMED
LAST-MODIFIED:20251103T080154Z
DESCRIPTION:Herren Nationalliga B Gruppe 2\nBegegnungs-Nr: 14\nHeim: Rapperswil-Jona II\nGast: Young Stars ZH II\n\nAdresse: Kreuzstrasse 43\, 8640 Rapperswil\n
LOCATION:Kreuzstrasse 43\, 8640 Rapperswil
CATEGORIES:Saison 2025/26
END:VEVENT
BEGIN:VEVENT
DTSTAMP:20260424T025637Z
DTSTART;TZID=Europe/Berlin:20251213T150000
DTEND;TZID=Europe/Berlin:20251213T180000
SUMMARY:HE NLB Gr. 2 St. Gallen vs Young Stars ZH II (21)
UID:3238c2bb-fa32-4a70-9c79-9d0647fd6577
STATUS:CONFIRMED
LAST-MODIFIED:20251216T061444Z
DESCRIPTION:Herren Nationalliga B Gruppe 2\nBegegnungs-Nr: 21\nHeim: St. Gallen\nGast: Young Stars ZH II\n\nAdresse: Zilstrasse 61\, 9016 St.Gallen\n
LOCATION:Zilstrasse 61\, 9016 St.Gallen
CATEGORIES:Saison 2025/26
END:VEVENT
BEGIN:VEVENT
DTSTAMP:20260424T025637Z
DTSTART;TZID=Europe/Berlin:20260328T170000
DTEND;TZID=Europe/Berlin:20260328T200000
SUMMARY:HE NLB Gr. 2 Rapid Luzern vs Young Stars ZH II (24)
UID:9d9001d3-1991-4cb7-ac63-85a651c05ac0
STATUS:CONFIRMED
LAST-MODIFIED:20260330T075548Z
DESCRIPTION:Herren Nationalliga B Gruppe 2\nBegegnungs-Nr: 24\nHeim: Rapid Luzern\nGast: Young Stars ZH II\n\nAdresse: Kreuzbuchstr. 60\, 6006 Luzern\n
LOCATION:Kreuzbuchstr. 60\, 6006 Luzern
CATEGORIES:Saison 2025/26
END:VEVENT
BEGIN:VEVENT
DTSTAMP:20260424T025637Z
DTSTART;TZID=Europe/Berlin:20260221T140000
DTEND;TZID=Europe/Berlin:20260221T170000
SUMMARY:HE NLB Gr. 2 ABTT vs Young Stars ZH II (12)
UID:a9d2d9cd-5c6a-4dd1-9860-500ca15d3929
STATUS:CONFIRMED
LAST-MODIFIED:20260223T153251Z
DESCRIPTION:Herren Nationalliga B Gruppe 2\nBegegnungs-Nr: 12\nHeim: ABTT\nGast: Young Stars ZH II\n\nAdresse: Francesco Chiesa 2a\, 6500 Bellinzona\n
LOCATION:Francesco Chiesa 2a\, 6500 Bellinzona
CATEGORIES:Saison 2025/26
END:VEVENT
BEGIN:VEVENT
DTSTAMP:20260424T025637Z
DTSTART;TZID=Europe/Berlin:20260418T170000
DTEND;TZID=Europe/Berlin:20260418T200000
SUMMARY:HE NLB Gr. 2 Wädenswil vs Young Stars ZH II (27)
UID:09783774-d73d-40c8-8ed0-9cfc4202d7b6
STATUS:CONFIRMED
LAST-MODIFIED:20260420T083950Z
DESCRIPTION:Herren Nationalliga B Gruppe 2\nBegegnungs-Nr: 27\nHeim: Wädenswil\nGast: Young Stars ZH II\n\nAdresse: Fuhrstrasse 16b\, 8820 Wädenswil\n
LOCATION:Fuhrstrasse 16b\, 8820 Wädenswil
CATEGORIES:Saison 2025/26
END:VEVENT
BEGIN:VEVENT
DTSTAMP:20260424T025637Z
DTSTART;TZID=Europe/Berlin:20260109T200000
DTEND;TZID=Europe/Berlin:20260109T230000
SUMMARY:HE NLB Gr. 2 Wetzikon vs Young Stars ZH II (2)
UID:56518b64-036f-426d-8b44-fa9193317da9
STATUS:CONFIRMED
LAST-MODIFIED:20260112T202022Z
DESCRIPTION:Herren Nationalliga B Gruppe 2\nBegegnungs-Nr: 2\nHeim: Wetzikon\nGast: Young Stars ZH II\n\nAdresse: Usterstrasse 37\, 8620 Wetzikon\n
LOCATION:Usterstrasse 37\, 8620 Wetzikon
CATEGORIES:Saison 2025/26
END:VEVENT
END:VCALENDAR
