BEGIN:VCALENDAR
PRODID:-//nuDatenautomaten//framework iCal4j //DE
VERSION:2.0
CALSCALE:GREGORIAN
BEGIN:VTIMEZONE
TZID:Europe/Berlin
LAST-MODIFIED:20260306T231828Z
TZURL:https://www.tzurl.org/zoneinfo/Europe/Berlin
X-LIC-LOCATION:Europe/Berlin
X-PROLEPTIC-TZNAME:LMT
BEGIN:STANDARD
TZNAME:CET
TZOFFSETFROM:+005328
TZOFFSETTO:+0100
DTSTART:18930401T000000
END:STANDARD
BEGIN:DAYLIGHT
TZNAME:CEST
TZOFFSETFROM:+0100
TZOFFSETTO:+0200
DTSTART:19160430T230000
RDATE:19400401T020000
RDATE:19430329T020000
RDATE:19460414T020000
RDATE:19470406T030000
RDATE:19480418T020000
RDATE:19490410T020000
RDATE:19800406T020000
END:DAYLIGHT
BEGIN:STANDARD
TZNAME:CET
TZOFFSETFROM:+0200
TZOFFSETTO:+0100
DTSTART:19161001T010000
RDATE:19421102T030000
RDATE:19431004T030000
RDATE:19441002T030000
RDATE:19451118T030000
RDATE:19461007T030000
END:STANDARD
BEGIN:DAYLIGHT
TZNAME:CEST
TZOFFSETFROM:+0100
TZOFFSETTO:+0200
DTSTART:19170416T020000
RRULE:FREQ=YEARLY;UNTIL=19180415T010000Z;BYMONTH=4;BYDAY=3MO
END:DAYLIGHT
BEGIN:STANDARD
TZNAME:CET
TZOFFSETFROM:+0200
TZOFFSETTO:+0100
DTSTART:19170917T030000
RRULE:FREQ=YEARLY;UNTIL=19180916T010000Z;BYMONTH=9;BYDAY=3MO
END:STANDARD
BEGIN:DAYLIGHT
TZNAME:CEST
TZOFFSETFROM:+0100
TZOFFSETTO:+0200
DTSTART:19440403T020000
RRULE:FREQ=YEARLY;UNTIL=19450402T010000Z;BYMONTH=4;BYDAY=1MO
END:DAYLIGHT
BEGIN:DAYLIGHT
TZNAME:CEMT
TZOFFSETFROM:+0200
TZOFFSETTO:+0300
DTSTART:19450524T020000
RDATE:19470511T030000
END:DAYLIGHT
BEGIN:DAYLIGHT
TZNAME:CEST
TZOFFSETFROM:+0300
TZOFFSETTO:+0200
DTSTART:19450924T030000
RDATE:19470629T030000
END:DAYLIGHT
BEGIN:STANDARD
TZNAME:CET
TZOFFSETFROM:+0100
TZOFFSETTO:+0100
DTSTART:19460101T000000
RDATE:19800101T000000
END:STANDARD
BEGIN:STANDARD
TZNAME:CET
TZOFFSETFROM:+0200
TZOFFSETTO:+0100
DTSTART:19471005T030000
RRULE:FREQ=YEARLY;UNTIL=19491002T010000Z;BYMONTH=10;BYDAY=1SU
END:STANDARD
BEGIN:STANDARD
TZNAME:CET
TZOFFSETFROM:+0200
TZOFFSETTO:+0100
DTSTART:19800928T030000
RRULE:FREQ=YEARLY;UNTIL=19950924T010000Z;BYMONTH=9;BYDAY=-1SU
END:STANDARD
BEGIN:DAYLIGHT
TZNAME:CEST
TZOFFSETFROM:+0100
TZOFFSETTO:+0200
DTSTART:19810329T020000
RRULE:FREQ=YEARLY;BYMONTH=3;BYDAY=-1SU
END:DAYLIGHT
BEGIN:STANDARD
TZNAME:CET
TZOFFSETFROM:+0200
TZOFFSETTO:+0100
DTSTART:19961027T030000
RRULE:FREQ=YEARLY;BYMONTH=10;BYDAY=-1SU
END:STANDARD
END:VTIMEZONE
BEGIN:VEVENT
DTSTAMP:20260424T005441Z
DTSTART;TZID=Europe/Berlin:20250830T170000
DTEND;TZID=Europe/Berlin:20250830T200000
SUMMARY:JUG\, 3.Li\, Gr.5\, VR Gossau St.Gallen vs Kloten III (6)
UID:50729912-02ae-4b10-8d10-df3129e69007
STATUS:CONFIRMED
LAST-MODIFIED:20250902T124941Z
DESCRIPTION:Jugend\, 3. Liga\, Gruppe 5\, Vorrunde\nBegegnungs-Nr: 6\nHeim: Gossau St.Gallen\nGast: Kloten III\n\nAdresse: Falkenstrasse 21\, 9200 Gossau\n
LOCATION:Falkenstrasse 21\, 9200 Gossau
CATEGORIES:Saison 2025/26
END:VEVENT
BEGIN:VEVENT
DTSTAMP:20260424T005441Z
DTSTART;TZID=Europe/Berlin:20260328T143000
DTEND;TZID=Europe/Berlin:20260328T173000
SUMMARY:JUG\, 3.Li\, Gr.7\, Final Gossau St.Gallen vs Neuhausen III (4)
UID:d97ef79a-7221-4e2c-a571-14a7771e5fff
STATUS:CONFIRMED
LAST-MODIFIED:20260401T140746Z
DESCRIPTION:Jugend\, 3. Liga\, Gruppe 7\, Final\nBegegnungs-Nr: 4\nHeim: Gossau St.Gallen\nGast: Neuhausen III\n\nAdresse: Falkenstrasse 21\, 9200 Gossau\n
LOCATION:Falkenstrasse 21\, 9200 Gossau
CATEGORIES:Saison 2025/26
END:VEVENT
BEGIN:VEVENT
DTSTAMP:20260424T005441Z
DTSTART;TZID=Europe/Berlin:20260328T130000
DTEND;TZID=Europe/Berlin:20260328T160000
SUMMARY:JUG\, 3.Li\, Gr.7\, Final Gossau St.Gallen vs St. Gallen IV (1)
UID:4cd77b6c-572d-455f-bfea-33c94f8d1da6
STATUS:CONFIRMED
LAST-MODIFIED:20260401T140730Z
DESCRIPTION:Jugend\, 3. Liga\, Gruppe 7\, Final\nBegegnungs-Nr: 1\nHeim: Gossau St.Gallen\nGast: St. Gallen IV\nHalle: Poule in Gossau SG\, Othmarschulhaus\nAdresse: Falkenstrasse 21\, 9200 Gossau\n
LOCATION:Poule in Gossau SG\, Othmarschulhaus Falkenstrasse 21\, 9200 Gossau
CATEGORIES:Saison 2025/26
END:VEVENT
BEGIN:VEVENT
DTSTAMP:20260424T005441Z
DTSTART;TZID=Europe/Berlin:20251115T143000
DTEND;TZID=Europe/Berlin:20251115T173000
SUMMARY:JUG\, 3.Li\, Gr.8\, ZR Bülach III vs Gossau St.Gallen (2)
UID:01566b74-820b-4d87-88d8-b111edccaf2f
STATUS:CONFIRMED
LAST-MODIFIED:20251124T150924Z
DESCRIPTION:Jugend\, 3. Liga\, Gruppe 8\, Zwischenrunde\nBegegnungs-Nr: 2\nHeim: Bülach III\nGast: Gossau St.Gallen\n\nAdresse: Schwerzgruebstrasse 28\, 8180 Bülach\n
LOCATION:Schwerzgruebstrasse 28\, 8180 Bülach
CATEGORIES:Saison 2025/26
END:VEVENT
BEGIN:VEVENT
DTSTAMP:20260424T005441Z
DTSTART;TZID=Europe/Berlin:20251115T130000
DTEND;TZID=Europe/Berlin:20251115T160000
SUMMARY:JUG\, 3.Li\, Gr.8\, ZR TSV Zumikon vs Gossau St.Gallen (1)
UID:0f1ac2db-c0bb-4efa-b0e7-a348aac95566
STATUS:CONFIRMED
LAST-MODIFIED:20251124T150914Z
DESCRIPTION:Jugend\, 3. Liga\, Gruppe 8\, Zwischenrunde\nBegegnungs-Nr: 1\nHeim: TSV Zumikon\nGast: Gossau St.Gallen\nHalle: Poule in Zumikon\, TH Farlifang\nAdresse: Dorfstrasse 45\, 8126 Zumikon\n
LOCATION:Poule in Zumikon\, TH Farlifang Dorfstrasse 45\, 8126 Zumikon
CATEGORIES:Saison 2025/26
END:VEVENT
BEGIN:VEVENT
DTSTAMP:20260424T005441Z
DTSTART;TZID=Europe/Berlin:20250830T153000
DTEND;TZID=Europe/Berlin:20250830T183000
SUMMARY:JUG\, 3.Li\, Gr.5\, VR Wil SG II vs Gossau St.Gallen (3)
UID:d1b2376a-1114-4a9b-8131-1605a6373c88
STATUS:CONFIRMED
LAST-MODIFIED:20250902T124905Z
DESCRIPTION:Jugend\, 3. Liga\, Gruppe 5\, Vorrunde\nBegegnungs-Nr: 3\nHeim: Wil SG II\nGast: Gossau St.Gallen\n\nAdresse: Lindenhofstr. 23\, 9500 Wil\n
LOCATION:Lindenhofstr. 23\, 9500 Wil
CATEGORIES:Saison 2025/26
END:VEVENT
BEGIN:VEVENT
DTSTAMP:20260424T005441Z
DTSTART;TZID=Europe/Berlin:20250830T140000
DTEND;TZID=Europe/Berlin:20250830T170000
SUMMARY:JUG\, 3.Li\, Gr.5\, VR St. Gallen IV vs Gossau St.Gallen (2)
UID:2720f53f-058e-476f-8996-30be30bd5561
STATUS:CONFIRMED
LAST-MODIFIED:20250902T124850Z
DESCRIPTION:Jugend\, 3. Liga\, Gruppe 5\, Vorrunde\nBegegnungs-Nr: 2\nHeim: St. Gallen IV\nGast: Gossau St.Gallen\n\nAdresse: Zilstrasse 61\, 9016 St.Gallen\n
LOCATION:Zilstrasse 61\, 9016 St.Gallen
CATEGORIES:Saison 2025/26
END:VEVENT
BEGIN:VEVENT
DTSTAMP:20260424T005441Z
DTSTART;TZID=Europe/Berlin:20260328T160000
DTEND;TZID=Europe/Berlin:20260328T190000
SUMMARY:JUG\, 3.Li\, Gr.7\, Final Zürich II vs Gossau St.Gallen (6)
UID:882f3a35-a03e-40ef-8674-69e7688b37c5
STATUS:CONFIRMED
LAST-MODIFIED:20260402T065750Z
DESCRIPTION:Jugend\, 3. Liga\, Gruppe 7\, Final\nBegegnungs-Nr: 6\nHeim: Zürich II\nGast: Gossau St.Gallen\n\nAdresse: Wehntalerstrasse 283\, 8046 Zürich\n
LOCATION:Wehntalerstrasse 283\, 8046 Zürich
CATEGORIES:Saison 2025/26
END:VEVENT
END:VCALENDAR
