BEGIN:VCALENDAR
PRODID:-//nuDatenautomaten//framework iCal4j //DE
VERSION:2.0
CALSCALE:GREGORIAN
BEGIN:VTIMEZONE
TZID:Europe/Berlin
LAST-MODIFIED:20260306T231828Z
TZURL:https://www.tzurl.org/zoneinfo/Europe/Berlin
X-LIC-LOCATION:Europe/Berlin
X-PROLEPTIC-TZNAME:LMT
BEGIN:STANDARD
TZNAME:CET
TZOFFSETFROM:+005328
TZOFFSETTO:+0100
DTSTART:18930401T000000
END:STANDARD
BEGIN:DAYLIGHT
TZNAME:CEST
TZOFFSETFROM:+0100
TZOFFSETTO:+0200
DTSTART:19160430T230000
RDATE:19400401T020000
RDATE:19430329T020000
RDATE:19460414T020000
RDATE:19470406T030000
RDATE:19480418T020000
RDATE:19490410T020000
RDATE:19800406T020000
END:DAYLIGHT
BEGIN:STANDARD
TZNAME:CET
TZOFFSETFROM:+0200
TZOFFSETTO:+0100
DTSTART:19161001T010000
RDATE:19421102T030000
RDATE:19431004T030000
RDATE:19441002T030000
RDATE:19451118T030000
RDATE:19461007T030000
END:STANDARD
BEGIN:DAYLIGHT
TZNAME:CEST
TZOFFSETFROM:+0100
TZOFFSETTO:+0200
DTSTART:19170416T020000
RRULE:FREQ=YEARLY;UNTIL=19180415T010000Z;BYMONTH=4;BYDAY=3MO
END:DAYLIGHT
BEGIN:STANDARD
TZNAME:CET
TZOFFSETFROM:+0200
TZOFFSETTO:+0100
DTSTART:19170917T030000
RRULE:FREQ=YEARLY;UNTIL=19180916T010000Z;BYMONTH=9;BYDAY=3MO
END:STANDARD
BEGIN:DAYLIGHT
TZNAME:CEST
TZOFFSETFROM:+0100
TZOFFSETTO:+0200
DTSTART:19440403T020000
RRULE:FREQ=YEARLY;UNTIL=19450402T010000Z;BYMONTH=4;BYDAY=1MO
END:DAYLIGHT
BEGIN:DAYLIGHT
TZNAME:CEMT
TZOFFSETFROM:+0200
TZOFFSETTO:+0300
DTSTART:19450524T020000
RDATE:19470511T030000
END:DAYLIGHT
BEGIN:DAYLIGHT
TZNAME:CEST
TZOFFSETFROM:+0300
TZOFFSETTO:+0200
DTSTART:19450924T030000
RDATE:19470629T030000
END:DAYLIGHT
BEGIN:STANDARD
TZNAME:CET
TZOFFSETFROM:+0100
TZOFFSETTO:+0100
DTSTART:19460101T000000
RDATE:19800101T000000
END:STANDARD
BEGIN:STANDARD
TZNAME:CET
TZOFFSETFROM:+0200
TZOFFSETTO:+0100
DTSTART:19471005T030000
RRULE:FREQ=YEARLY;UNTIL=19491002T010000Z;BYMONTH=10;BYDAY=1SU
END:STANDARD
BEGIN:STANDARD
TZNAME:CET
TZOFFSETFROM:+0200
TZOFFSETTO:+0100
DTSTART:19800928T030000
RRULE:FREQ=YEARLY;UNTIL=19950924T010000Z;BYMONTH=9;BYDAY=-1SU
END:STANDARD
BEGIN:DAYLIGHT
TZNAME:CEST
TZOFFSETFROM:+0100
TZOFFSETTO:+0200
DTSTART:19810329T020000
RRULE:FREQ=YEARLY;BYMONTH=3;BYDAY=-1SU
END:DAYLIGHT
BEGIN:STANDARD
TZNAME:CET
TZOFFSETFROM:+0200
TZOFFSETTO:+0100
DTSTART:19961027T030000
RRULE:FREQ=YEARLY;BYMONTH=10;BYDAY=-1SU
END:STANDARD
END:VTIMEZONE
BEGIN:VEVENT
DTSTAMP:20260424T150404Z
DTSTART;TZID=Europe/Berlin:20250930T201500
DTEND;TZID=Europe/Berlin:20250930T231500
SUMMARY:HE 2. Liga Gr. 1 Neuhausen III vs Muolen II (0)
UID:dfc27222-d4a8-445e-82bf-50d6d56e12ef
STATUS:CONFIRMED
LAST-MODIFIED:20251001T060530Z
DESCRIPTION:2. Liga Herren Gruppe 1\nBegegnungs-Nr: 0\nHeim: Neuhausen III\nGast: Muolen II\n\nAdresse: Ebnatstrasse 35\, 8200 Schaffhausen\n
LOCATION:Ebnatstrasse 35\, 8200 Schaffhausen
CATEGORIES:Saison 2025/26
END:VEVENT
BEGIN:VEVENT
DTSTAMP:20260424T150404Z
DTSTART;TZID=Europe/Berlin:20251115T200000
DTEND;TZID=Europe/Berlin:20251115T230000
SUMMARY:HE 2. Liga Gr. 1 Neuhausen III vs Romanshorn (0)
UID:27c99900-a564-4b05-8070-385fd6f7af6e
STATUS:CONFIRMED
LAST-MODIFIED:20251118T104130Z
DESCRIPTION:2. Liga Herren Gruppe 1\nBegegnungs-Nr: 0\nHeim: Neuhausen III\nGast: Romanshorn\n\nAdresse: Ebnatstrasse 35\, 8200 Schaffhausen\n
LOCATION:Ebnatstrasse 35\, 8200 Schaffhausen
CATEGORIES:Saison 2025/26
END:VEVENT
BEGIN:VEVENT
DTSTAMP:20260424T150404Z
DTSTART;TZID=Europe/Berlin:20260214T140000
DTEND;TZID=Europe/Berlin:20260214T170000
SUMMARY:HE 2. Liga Gr. 1 Neuhausen III vs Zürich-Affoltern IV (0)
UID:5fa84f5e-cc35-4bc4-9297-e41cfbe81267
STATUS:CONFIRMED
LAST-MODIFIED:20260216T095824Z
DESCRIPTION:2. Liga Herren Gruppe 1\nBegegnungs-Nr: 0\nHeim: Neuhausen III\nGast: Zürich-Affoltern IV\n\nAdresse: Ebnatstrasse 35\, 8200 Schaffhausen\n
LOCATION:Ebnatstrasse 35\, 8200 Schaffhausen
CATEGORIES:Saison 2025/26
END:VEVENT
BEGIN:VEVENT
DTSTAMP:20260424T150404Z
DTSTART;TZID=Europe/Berlin:20260228T130000
DTEND;TZID=Europe/Berlin:20260228T160000
SUMMARY:HE 2. Liga Gr. 1 Neuhausen III vs Winterthur (0)
UID:404f4fa7-2ab2-4cc1-b42b-ffa29a67bf0e
STATUS:CONFIRMED
LAST-MODIFIED:20260303T105758Z
DESCRIPTION:2. Liga Herren Gruppe 1\nBegegnungs-Nr: 0\nHeim: Neuhausen III\nGast: Winterthur\n\nAdresse: Ebnatstrasse 35\, 8200 Schaffhausen\n
LOCATION:Ebnatstrasse 35\, 8200 Schaffhausen
CATEGORIES:Saison 2025/26
END:VEVENT
BEGIN:VEVENT
DTSTAMP:20260424T150404Z
DTSTART;TZID=Europe/Berlin:20260314T140000
DTEND;TZID=Europe/Berlin:20260314T170000
SUMMARY:HE 2. Liga Gr. 1 Neuhausen III vs Gaiserwald (0)
UID:b9e85eeb-017e-43ff-9ad9-2d200ef5b210
STATUS:CONFIRMED
LAST-MODIFIED:20260316T135751Z
DESCRIPTION:2. Liga Herren Gruppe 1\nBegegnungs-Nr: 0\nHeim: Neuhausen III\nGast: Gaiserwald\n\nAdresse: Ebnatstrasse 35\, 8200 Schaffhausen\n
LOCATION:Ebnatstrasse 35\, 8200 Schaffhausen
CATEGORIES:Saison 2025/26
END:VEVENT
BEGIN:VEVENT
DTSTAMP:20260424T150404Z
DTSTART;TZID=Europe/Berlin:20260418T140000
DTEND;TZID=Europe/Berlin:20260418T170000
SUMMARY:HE 2. Liga Gr. 1 Neuhausen III vs Bronschhofen (0)
UID:67c20c25-16a0-4550-9167-4165fdb0c121
STATUS:CONFIRMED
LAST-MODIFIED:20260420T115224Z
DESCRIPTION:2. Liga Herren Gruppe 1\nBegegnungs-Nr: 0\nHeim: Neuhausen III\nGast: Bronschhofen\n\nAdresse: Ebnatstrasse 35\, 8200 Schaffhausen\n
LOCATION:Ebnatstrasse 35\, 8200 Schaffhausen
CATEGORIES:Saison 2025/26
END:VEVENT
BEGIN:VEVENT
DTSTAMP:20260424T150404Z
DTSTART;TZID=Europe/Berlin:20251118T200000
DTEND;TZID=Europe/Berlin:20251118T230000
SUMMARY:HE 2. Liga Gr. 1 Neuhausen III vs Toggenburg (0)
UID:12c84f37-9670-4d5c-8e84-3b4224f41da8
STATUS:CONFIRMED
LAST-MODIFIED:20251121T094340Z
DESCRIPTION:2. Liga Herren Gruppe 1\nBegegnungs-Nr: 0\nHeim: Neuhausen III\nGast: Toggenburg\n\nAdresse: Ebnatstrasse 35\, 8200 Schaffhausen\n
LOCATION:Ebnatstrasse 35\, 8200 Schaffhausen
CATEGORIES:Saison 2025/26
END:VEVENT
BEGIN:VEVENT
DTSTAMP:20260424T150404Z
DTSTART;TZID=Europe/Berlin:20251028T200000
DTEND;TZID=Europe/Berlin:20251028T230000
SUMMARY:HE 2. Liga Gr. 1 Gaiserwald vs Neuhausen III (0)
UID:2dd4cdd4-fe8d-413e-91a3-f8cac8bbc050
STATUS:CONFIRMED
LAST-MODIFIED:20251031T142615Z
DESCRIPTION:2. Liga Herren Gruppe 1\nBegegnungs-Nr: 0\nHeim: Gaiserwald\nGast: Neuhausen III\n\nAdresse: Sonnenbergstrasse 15\, 9030 Abtwil\n
LOCATION:Sonnenbergstrasse 15\, 9030 Abtwil
CATEGORIES:Saison 2025/26
END:VEVENT
BEGIN:VEVENT
DTSTAMP:20260424T150404Z
DTSTART;TZID=Europe/Berlin:20251203T200000
DTEND;TZID=Europe/Berlin:20251203T230000
SUMMARY:HE 2. Liga Gr. 1 Bronschhofen vs Neuhausen III (0)
UID:867a4f65-5748-49c1-bc7a-5d44c815b156
STATUS:CONFIRMED
LAST-MODIFIED:20251205T125019Z
DESCRIPTION:2. Liga Herren Gruppe 1\nBegegnungs-Nr: 0\nHeim: Bronschhofen\nGast: Neuhausen III\n\nAdresse: Industriestrasse 4\, 9552 Bronschhofen\n
LOCATION:Industriestrasse 4\, 9552 Bronschhofen
CATEGORIES:Saison 2025/26
END:VEVENT
BEGIN:VEVENT
DTSTAMP:20260424T150404Z
DTSTART;TZID=Europe/Berlin:20260119T200000
DTEND;TZID=Europe/Berlin:20260119T230000
SUMMARY:HE 2. Liga Gr. 1 Toggenburg vs Neuhausen III (0)
UID:c280e3cd-845c-4061-b5bc-4cbd1a7fd3ac
STATUS:CONFIRMED
LAST-MODIFIED:20260120T150707Z
DESCRIPTION:2. Liga Herren Gruppe 1\nBegegnungs-Nr: 0\nHeim: Toggenburg\nGast: Neuhausen III\n\nAdresse: Frohmaderweg\, 9630 Wattwil\n
LOCATION:Frohmaderweg\, 9630 Wattwil
CATEGORIES:Saison 2025/26
END:VEVENT
BEGIN:VEVENT
DTSTAMP:20260424T150404Z
DTSTART;TZID=Europe/Berlin:20260307T100000
DTEND;TZID=Europe/Berlin:20260307T130000
SUMMARY:HE 2. Liga Gr. 1 Muolen II vs Neuhausen III (0)
UID:37133442-6995-421a-9b46-edc0dec93424
STATUS:CONFIRMED
LAST-MODIFIED:20260310T153319Z
DESCRIPTION:2. Liga Herren Gruppe 1\nBegegnungs-Nr: 0\nHeim: Muolen II\nGast: Neuhausen III\n\nAdresse: Dorfstrasse 31\, 9313 Muolen\n
LOCATION:Dorfstrasse 31\, 9313 Muolen
CATEGORIES:Saison 2025/26
END:VEVENT
BEGIN:VEVENT
DTSTAMP:20260424T150404Z
DTSTART;TZID=Europe/Berlin:20260327T201500
DTEND;TZID=Europe/Berlin:20260327T231500
SUMMARY:HE 2. Liga Gr. 1 Romanshorn vs Neuhausen III (0)
UID:eaa52ed0-89c8-4298-81f4-6ca4ee146b4f
STATUS:CONFIRMED
LAST-MODIFIED:20260401T114709Z
DESCRIPTION:2. Liga Herren Gruppe 1\nBegegnungs-Nr: 0\nHeim: Romanshorn\nGast: Neuhausen III\n\nAdresse: Florastrasse\, 8590 Romanshorn\n
LOCATION:Florastrasse\, 8590 Romanshorn
CATEGORIES:Saison 2025/26
END:VEVENT
BEGIN:VEVENT
DTSTAMP:20260424T150404Z
DTSTART;TZID=Europe/Berlin:20250829T201500
DTEND;TZID=Europe/Berlin:20250829T231500
SUMMARY:HE 2. Liga Gr. 1 Zürich-Affoltern IV vs Neuhausen III (0)
UID:f6940dc9-0285-4ddf-857b-c3f83b670d37
STATUS:CONFIRMED
LAST-MODIFIED:20250902T090715Z
DESCRIPTION:2. Liga Herren Gruppe 1\nBegegnungs-Nr: 0\nHeim: Zürich-Affoltern IV\nGast: Neuhausen III\n\nAdresse: Rümlangstr. 89\, 8052 Zürich\n
LOCATION:Rümlangstr. 89\, 8052 Zürich
CATEGORIES:Saison 2025/26
END:VEVENT
BEGIN:VEVENT
DTSTAMP:20260424T150404Z
DTSTART;TZID=Europe/Berlin:20251002T201500
DTEND;TZID=Europe/Berlin:20251002T231500
SUMMARY:HE 2. Liga Gr. 1 Winterthur vs Neuhausen III (0)
UID:76b23ef5-6eca-42c2-944c-652dd279b468
STATUS:CONFIRMED
LAST-MODIFIED:20251003T064408Z
DESCRIPTION:2. Liga Herren Gruppe 1\nBegegnungs-Nr: 0\nHeim: Winterthur\nGast: Neuhausen III\n\nAdresse: Buchackerstrasse 54\, 8400 Winterthur\n
LOCATION:Buchackerstrasse 54\, 8400 Winterthur
CATEGORIES:Saison 2025/26
END:VEVENT
END:VCALENDAR
