BEGIN:VCALENDAR
PRODID:-//nuDatenautomaten//framework iCal4j //DE
VERSION:2.0
CALSCALE:GREGORIAN
BEGIN:VTIMEZONE
TZID:Europe/Berlin
LAST-MODIFIED:20260306T231828Z
TZURL:https://www.tzurl.org/zoneinfo/Europe/Berlin
X-LIC-LOCATION:Europe/Berlin
X-PROLEPTIC-TZNAME:LMT
BEGIN:STANDARD
TZNAME:CET
TZOFFSETFROM:+005328
TZOFFSETTO:+0100
DTSTART:18930401T000000
END:STANDARD
BEGIN:DAYLIGHT
TZNAME:CEST
TZOFFSETFROM:+0100
TZOFFSETTO:+0200
DTSTART:19160430T230000
RDATE:19400401T020000
RDATE:19430329T020000
RDATE:19460414T020000
RDATE:19470406T030000
RDATE:19480418T020000
RDATE:19490410T020000
RDATE:19800406T020000
END:DAYLIGHT
BEGIN:STANDARD
TZNAME:CET
TZOFFSETFROM:+0200
TZOFFSETTO:+0100
DTSTART:19161001T010000
RDATE:19421102T030000
RDATE:19431004T030000
RDATE:19441002T030000
RDATE:19451118T030000
RDATE:19461007T030000
END:STANDARD
BEGIN:DAYLIGHT
TZNAME:CEST
TZOFFSETFROM:+0100
TZOFFSETTO:+0200
DTSTART:19170416T020000
RRULE:FREQ=YEARLY;UNTIL=19180415T010000Z;BYMONTH=4;BYDAY=3MO
END:DAYLIGHT
BEGIN:STANDARD
TZNAME:CET
TZOFFSETFROM:+0200
TZOFFSETTO:+0100
DTSTART:19170917T030000
RRULE:FREQ=YEARLY;UNTIL=19180916T010000Z;BYMONTH=9;BYDAY=3MO
END:STANDARD
BEGIN:DAYLIGHT
TZNAME:CEST
TZOFFSETFROM:+0100
TZOFFSETTO:+0200
DTSTART:19440403T020000
RRULE:FREQ=YEARLY;UNTIL=19450402T010000Z;BYMONTH=4;BYDAY=1MO
END:DAYLIGHT
BEGIN:DAYLIGHT
TZNAME:CEMT
TZOFFSETFROM:+0200
TZOFFSETTO:+0300
DTSTART:19450524T020000
RDATE:19470511T030000
END:DAYLIGHT
BEGIN:DAYLIGHT
TZNAME:CEST
TZOFFSETFROM:+0300
TZOFFSETTO:+0200
DTSTART:19450924T030000
RDATE:19470629T030000
END:DAYLIGHT
BEGIN:STANDARD
TZNAME:CET
TZOFFSETFROM:+0100
TZOFFSETTO:+0100
DTSTART:19460101T000000
RDATE:19800101T000000
END:STANDARD
BEGIN:STANDARD
TZNAME:CET
TZOFFSETFROM:+0200
TZOFFSETTO:+0100
DTSTART:19471005T030000
RRULE:FREQ=YEARLY;UNTIL=19491002T010000Z;BYMONTH=10;BYDAY=1SU
END:STANDARD
BEGIN:STANDARD
TZNAME:CET
TZOFFSETFROM:+0200
TZOFFSETTO:+0100
DTSTART:19800928T030000
RRULE:FREQ=YEARLY;UNTIL=19950924T010000Z;BYMONTH=9;BYDAY=-1SU
END:STANDARD
BEGIN:DAYLIGHT
TZNAME:CEST
TZOFFSETFROM:+0100
TZOFFSETTO:+0200
DTSTART:19810329T020000
RRULE:FREQ=YEARLY;BYMONTH=3;BYDAY=-1SU
END:DAYLIGHT
BEGIN:STANDARD
TZNAME:CET
TZOFFSETFROM:+0200
TZOFFSETTO:+0100
DTSTART:19961027T030000
RRULE:FREQ=YEARLY;BYMONTH=10;BYDAY=-1SU
END:STANDARD
END:VTIMEZONE
BEGIN:VEVENT
DTSTAMP:20260424T140352Z
DTSTART;TZID=Europe/Berlin:20251028T200000
DTEND;TZID=Europe/Berlin:20251028T230000
SUMMARY:HE 4. Liga Gr. 5 Kirchberg II vs Grossaffoltern II (12)
UID:f3b7e4a2-2567-4768-8797-8226acaa7f09
STATUS:CONFIRMED
LAST-MODIFIED:20251029T221149Z
DESCRIPTION:4. Liga Herren Gruppe 5\nBegegnungs-Nr: 12\nHeim: Kirchberg II\nGast: Grossaffoltern II\n\nAdresse: Reinhardweg\, 3422 Kirchberg\n
LOCATION:Reinhardweg\, 3422 Kirchberg
CATEGORIES:Saison 2025/26
END:VEVENT
BEGIN:VEVENT
DTSTAMP:20260424T140352Z
DTSTART;TZID=Europe/Berlin:20250919T200000
DTEND;TZID=Europe/Berlin:20250919T230000
SUMMARY:HE 4. Liga Gr. 5 Kirchberg II vs Lyss IV (5)
UID:1a31238e-5cc3-4cd8-9b3d-7de28a7ed72d
STATUS:CONFIRMED
LAST-MODIFIED:20250921T150335Z
DESCRIPTION:4. Liga Herren Gruppe 5\nBegegnungs-Nr: 5\nHeim: Kirchberg II\nGast: Lyss IV\n\nAdresse: Reinhardweg\, 3422 Kirchberg\n
LOCATION:Reinhardweg\, 3422 Kirchberg
CATEGORIES:Saison 2025/26
END:VEVENT
BEGIN:VEVENT
DTSTAMP:20260424T140352Z
DTSTART;TZID=Europe/Berlin:20260227T200000
DTEND;TZID=Europe/Berlin:20260227T230000
SUMMARY:HE 4. Liga Gr. 5 Kirchberg II vs Bern VIII (15)
UID:985d21bd-6540-4dcd-a3a0-551fbab5ebd6
STATUS:CONFIRMED
LAST-MODIFIED:20260302T144731Z
DESCRIPTION:4. Liga Herren Gruppe 5\nBegegnungs-Nr: 15\nHeim: Kirchberg II\nGast: Bern VIII\n\nAdresse: Reinhardweg\, 3422 Kirchberg\n
LOCATION:Reinhardweg\, 3422 Kirchberg
CATEGORIES:Saison 2025/26
END:VEVENT
BEGIN:VEVENT
DTSTAMP:20260424T140352Z
DTSTART;TZID=Europe/Berlin:20260331T200000
DTEND;TZID=Europe/Berlin:20260331T230000
SUMMARY:HE 4. Liga Gr. 5 Kirchberg II vs Wynigen II (21)
UID:2435059a-fcdc-4318-9b21-c508065c763a
STATUS:CONFIRMED
LAST-MODIFIED:20260409T122541Z
DESCRIPTION:4. Liga Herren Gruppe 5\nBegegnungs-Nr: 21\nHeim: Kirchberg II\nGast: Wynigen II\n\nAdresse: Reinhardweg\, 3422 Kirchberg\n
LOCATION:Reinhardweg\, 3422 Kirchberg
CATEGORIES:Saison 2025/26
END:VEVENT
BEGIN:VEVENT
DTSTAMP:20260424T140352Z
DTSTART;TZID=Europe/Berlin:20260106T200000
DTEND;TZID=Europe/Berlin:20260106T230000
SUMMARY:HE 4. Liga Gr. 5 Kirchberg II vs Burgdorf VIII (1)
UID:08942bde-effa-40dd-9f57-43a4778eb763
STATUS:CONFIRMED
LAST-MODIFIED:20260125T001945Z
DESCRIPTION:4. Liga Herren Gruppe 5\nBegegnungs-Nr: 1\nHeim: Kirchberg II\nGast: Burgdorf VIII\n\nAdresse: Reinhardweg\, 3422 Kirchberg\n
LOCATION:Reinhardweg\, 3422 Kirchberg
CATEGORIES:Saison 2025/26
END:VEVENT
BEGIN:VEVENT
DTSTAMP:20260424T140352Z
DTSTART;TZID=Europe/Berlin:20260220T194500
DTEND;TZID=Europe/Berlin:20260220T224500
SUMMARY:HE 4. Liga Gr. 5 Kirchberg II vs Langenthal II (9)
UID:a7ae94a1-41f8-486b-9eea-7d70659fc3a1
STATUS:CONFIRMED
LAST-MODIFIED:20260224T074912Z
DESCRIPTION:4. Liga Herren Gruppe 5\nBegegnungs-Nr: 9\nHeim: Kirchberg II\nGast: Langenthal II\n\nAdresse: Reinhardweg\, 3422 Kirchberg\n
LOCATION:Reinhardweg\, 3422 Kirchberg
CATEGORIES:Saison 2025/26
END:VEVENT
BEGIN:VEVENT
DTSTAMP:20260424T140352Z
DTSTART;TZID=Europe/Berlin:20251211T200000
DTEND;TZID=Europe/Berlin:20251211T230000
SUMMARY:HE 4. Liga Gr. 5 Wynigen II vs Kirchberg II (21)
UID:71ee837c-c8c2-4871-8cbe-2d8738ab94f4
STATUS:CONFIRMED
LAST-MODIFIED:20251216T120656Z
DESCRIPTION:4. Liga Herren Gruppe 5\nBegegnungs-Nr: 21\nHeim: Wynigen II\nGast: Kirchberg II\n\nAdresse: -\, 3472 Wynigen\n
LOCATION:-\, 3472 Wynigen
CATEGORIES:Saison 2025/26
END:VEVENT
BEGIN:VEVENT
DTSTAMP:20260424T140352Z
DTSTART;TZID=Europe/Berlin:20251117T193000
DTEND;TZID=Europe/Berlin:20251117T223000
SUMMARY:HE 4. Liga Gr. 5 Bern VIII vs Kirchberg II (15)
UID:e84557e5-4488-4dde-a7a8-7674416b61c2
STATUS:CONFIRMED
LAST-MODIFIED:20251122T091122Z
DESCRIPTION:4. Liga Herren Gruppe 5\nBegegnungs-Nr: 15\nHeim: Bern VIII\nGast: Kirchberg II\n\nAdresse: Mädergutstrasse 58\, 3018 Bern\n
LOCATION:Mädergutstrasse 58\, 3018 Bern
CATEGORIES:Saison 2025/26
END:VEVENT
BEGIN:VEVENT
DTSTAMP:20260424T140352Z
DTSTART;TZID=Europe/Berlin:20250912T193000
DTEND;TZID=Europe/Berlin:20250912T223000
SUMMARY:HE 4. Liga Gr. 5 Burgdorf VIII vs Kirchberg II (1)
UID:c0f99744-190b-4b8f-802e-5fcda51731af
STATUS:CONFIRMED
LAST-MODIFIED:20250918T140648Z
DESCRIPTION:4. Liga Herren Gruppe 5\nBegegnungs-Nr: 1\nHeim: Burgdorf VIII\nGast: Kirchberg II\n\nAdresse: Pestalozzistrasse 69\, 3400 Burgdorf\n
LOCATION:Pestalozzistrasse 69\, 3400 Burgdorf
CATEGORIES:Saison 2025/26
END:VEVENT
BEGIN:VEVENT
DTSTAMP:20260424T140352Z
DTSTART;TZID=Europe/Berlin:20251020T200000
DTEND;TZID=Europe/Berlin:20251020T230000
SUMMARY:HE 4. Liga Gr. 5 Langenthal II vs Kirchberg II (9)
UID:747c1254-2485-417d-94e4-08a78bedcdd3
STATUS:CONFIRMED
LAST-MODIFIED:20251029T221117Z
DESCRIPTION:4. Liga Herren Gruppe 5\nBegegnungs-Nr: 9\nHeim: Langenthal II\nGast: Kirchberg II\n\nAdresse: Weststrasse 29\, 4900 Langenthal\n
LOCATION:Weststrasse 29\, 4900 Langenthal
CATEGORIES:Saison 2025/26
END:VEVENT
BEGIN:VEVENT
DTSTAMP:20260424T140352Z
DTSTART;TZID=Europe/Berlin:20260202T200000
DTEND;TZID=Europe/Berlin:20260202T230000
SUMMARY:HE 4. Liga Gr. 5 Grossaffoltern II vs Kirchberg II (12)
UID:fbf7efa6-fb82-4116-b3a1-15ebdd873310
STATUS:CONFIRMED
LAST-MODIFIED:20260217T213438Z
DESCRIPTION:4. Liga Herren Gruppe 5\nBegegnungs-Nr: 12\nHeim: Grossaffoltern II\nGast: Kirchberg II\n\nAdresse: Schulhausstrasse 5 \, 3257 Grossaffoltern\n
LOCATION:Schulhausstrasse 5 \, 3257 Grossaffoltern
CATEGORIES:Saison 2025/26
END:VEVENT
BEGIN:VEVENT
DTSTAMP:20260424T140352Z
DTSTART;TZID=Europe/Berlin:20260127T200000
DTEND;TZID=Europe/Berlin:20260127T230000
SUMMARY:HE 4. Liga Gr. 5 Lyss IV vs Kirchberg II (5)
UID:41783a2b-1e48-472c-a6c5-421aaa2ea9bb
STATUS:CONFIRMED
LAST-MODIFIED:20260217T213313Z
DESCRIPTION:4. Liga Herren Gruppe 5\nBegegnungs-Nr: 5\nHeim: Lyss IV\nGast: Kirchberg II\n\nAdresse: Stegmattweg 15-17\, 3250 Lyss\n
LOCATION:Stegmattweg 15-17\, 3250 Lyss
CATEGORIES:Saison 2025/26
END:VEVENT
END:VCALENDAR
