BEGIN:VCALENDAR
PRODID:-//nuDatenautomaten//framework iCal4j //DE
VERSION:2.0
CALSCALE:GREGORIAN
BEGIN:VTIMEZONE
TZID:Europe/Berlin
LAST-MODIFIED:20260306T231828Z
TZURL:https://www.tzurl.org/zoneinfo/Europe/Berlin
X-LIC-LOCATION:Europe/Berlin
X-PROLEPTIC-TZNAME:LMT
BEGIN:STANDARD
TZNAME:CET
TZOFFSETFROM:+005328
TZOFFSETTO:+0100
DTSTART:18930401T000000
END:STANDARD
BEGIN:DAYLIGHT
TZNAME:CEST
TZOFFSETFROM:+0100
TZOFFSETTO:+0200
DTSTART:19160430T230000
RDATE:19400401T020000
RDATE:19430329T020000
RDATE:19460414T020000
RDATE:19470406T030000
RDATE:19480418T020000
RDATE:19490410T020000
RDATE:19800406T020000
END:DAYLIGHT
BEGIN:STANDARD
TZNAME:CET
TZOFFSETFROM:+0200
TZOFFSETTO:+0100
DTSTART:19161001T010000
RDATE:19421102T030000
RDATE:19431004T030000
RDATE:19441002T030000
RDATE:19451118T030000
RDATE:19461007T030000
END:STANDARD
BEGIN:DAYLIGHT
TZNAME:CEST
TZOFFSETFROM:+0100
TZOFFSETTO:+0200
DTSTART:19170416T020000
RRULE:FREQ=YEARLY;UNTIL=19180415T010000Z;BYMONTH=4;BYDAY=3MO
END:DAYLIGHT
BEGIN:STANDARD
TZNAME:CET
TZOFFSETFROM:+0200
TZOFFSETTO:+0100
DTSTART:19170917T030000
RRULE:FREQ=YEARLY;UNTIL=19180916T010000Z;BYMONTH=9;BYDAY=3MO
END:STANDARD
BEGIN:DAYLIGHT
TZNAME:CEST
TZOFFSETFROM:+0100
TZOFFSETTO:+0200
DTSTART:19440403T020000
RRULE:FREQ=YEARLY;UNTIL=19450402T010000Z;BYMONTH=4;BYDAY=1MO
END:DAYLIGHT
BEGIN:DAYLIGHT
TZNAME:CEMT
TZOFFSETFROM:+0200
TZOFFSETTO:+0300
DTSTART:19450524T020000
RDATE:19470511T030000
END:DAYLIGHT
BEGIN:DAYLIGHT
TZNAME:CEST
TZOFFSETFROM:+0300
TZOFFSETTO:+0200
DTSTART:19450924T030000
RDATE:19470629T030000
END:DAYLIGHT
BEGIN:STANDARD
TZNAME:CET
TZOFFSETFROM:+0100
TZOFFSETTO:+0100
DTSTART:19460101T000000
RDATE:19800101T000000
END:STANDARD
BEGIN:STANDARD
TZNAME:CET
TZOFFSETFROM:+0200
TZOFFSETTO:+0100
DTSTART:19471005T030000
RRULE:FREQ=YEARLY;UNTIL=19491002T010000Z;BYMONTH=10;BYDAY=1SU
END:STANDARD
BEGIN:STANDARD
TZNAME:CET
TZOFFSETFROM:+0200
TZOFFSETTO:+0100
DTSTART:19800928T030000
RRULE:FREQ=YEARLY;UNTIL=19950924T010000Z;BYMONTH=9;BYDAY=-1SU
END:STANDARD
BEGIN:DAYLIGHT
TZNAME:CEST
TZOFFSETFROM:+0100
TZOFFSETTO:+0200
DTSTART:19810329T020000
RRULE:FREQ=YEARLY;BYMONTH=3;BYDAY=-1SU
END:DAYLIGHT
BEGIN:STANDARD
TZNAME:CET
TZOFFSETFROM:+0200
TZOFFSETTO:+0100
DTSTART:19961027T030000
RRULE:FREQ=YEARLY;BYMONTH=10;BYDAY=-1SU
END:STANDARD
END:VTIMEZONE
BEGIN:VEVENT
DTSTAMP:20260424T114928Z
DTSTART;TZID=Europe/Berlin:20250902T193000
DTEND;TZID=Europe/Berlin:20250902T223000
SUMMARY:ME L4 Gr 4\, Tours 1&2 Romanel III vs Lausanne VII (0)
UID:4b4f588b-743a-4335-bbbb-4c315406a8a1
STATUS:CONFIRMED
LAST-MODIFIED:20250903T213048Z
DESCRIPTION:4ème ligue Hommes Groupe 4\, Tours 1&2\nBegegnungs-Nr: 0\nHeim: Romanel III\nGast: Lausanne VII\n\nAdresse: Ch des Epinettes 1\, 1032 Romanel-sur-Lausanne\n
LOCATION:Ch des Epinettes 1\, 1032 Romanel-sur-Lausanne
CATEGORIES:Saison 2025/26
END:VEVENT
BEGIN:VEVENT
DTSTAMP:20260424T114928Z
DTSTART;TZID=Europe/Berlin:20251007T193000
DTEND;TZID=Europe/Berlin:20251007T223000
SUMMARY:ME L4 Gr 4\, Tours 1&2 Romanel III vs Chexbres (0)
UID:090596f3-14f7-46f2-ad51-432b74111b4e
STATUS:CONFIRMED
LAST-MODIFIED:20251009T210847Z
DESCRIPTION:4ème ligue Hommes Groupe 4\, Tours 1&2\nBegegnungs-Nr: 0\nHeim: Romanel III\nGast: Chexbres\n\nAdresse: Ch des Epinettes 1\, 1032 Romanel-sur-Lausanne\n
LOCATION:Ch des Epinettes 1\, 1032 Romanel-sur-Lausanne
CATEGORIES:Saison 2025/26
END:VEVENT
BEGIN:VEVENT
DTSTAMP:20260424T114928Z
DTSTART;TZID=Europe/Berlin:20251111T193000
DTEND;TZID=Europe/Berlin:20251111T223000
SUMMARY:ME L4 Gr 4\, Tours 1&2 Romanel III vs Vaudoise-Assurances (0)
UID:ce9ce838-2dc7-4724-8286-717720d8185a
STATUS:CONFIRMED
LAST-MODIFIED:20251115T132506Z
DESCRIPTION:4ème ligue Hommes Groupe 4\, Tours 1&2\nBegegnungs-Nr: 0\nHeim: Romanel III\nGast: Vaudoise-Assurances\n\nAdresse: Ch des Epinettes 1\, 1032 Romanel-sur-Lausanne\n
LOCATION:Ch des Epinettes 1\, 1032 Romanel-sur-Lausanne
CATEGORIES:Saison 2025/26
END:VEVENT
BEGIN:VEVENT
DTSTAMP:20260424T114928Z
DTSTART;TZID=Europe/Berlin:20251125T193000
DTEND;TZID=Europe/Berlin:20251125T223000
SUMMARY:ME L4 Gr 4\, Tours 1&2 Romanel III vs Fribourg VII (0)
UID:303d969d-eeee-48eb-bc1c-258f7c9c3f1f
STATUS:CONFIRMED
LAST-MODIFIED:20251127T112114Z
DESCRIPTION:4ème ligue Hommes Groupe 4\, Tours 1&2\nBegegnungs-Nr: 0\nHeim: Romanel III\nGast: Fribourg VII\n\nAdresse: Ch des Epinettes 1\, 1032 Romanel-sur-Lausanne\n
LOCATION:Ch des Epinettes 1\, 1032 Romanel-sur-Lausanne
CATEGORIES:Saison 2025/26
END:VEVENT
BEGIN:VEVENT
DTSTAMP:20260424T114928Z
DTSTART;TZID=Europe/Berlin:20251209T193000
DTEND;TZID=Europe/Berlin:20251209T223000
SUMMARY:ME L4 Gr 4\, Tours 1&2 Romanel III vs Crissier IV (0)
UID:d178139a-0570-484c-9a54-1d9acf429183
STATUS:CONFIRMED
LAST-MODIFIED:20251211T055744Z
DESCRIPTION:4ème ligue Hommes Groupe 4\, Tours 1&2\nBegegnungs-Nr: 0\nHeim: Romanel III\nGast: Crissier IV\n\nAdresse: Ch des Epinettes 1\, 1032 Romanel-sur-Lausanne\n
LOCATION:Ch des Epinettes 1\, 1032 Romanel-sur-Lausanne
CATEGORIES:Saison 2025/26
END:VEVENT
BEGIN:VEVENT
DTSTAMP:20260424T114928Z
DTSTART;TZID=Europe/Berlin:20260120T193000
DTEND;TZID=Europe/Berlin:20260120T223000
SUMMARY:ME L4 Gr 2\, Tours 3&4 Romanel III vs Montriond-Ouchy  III (0)
UID:0fd166c4-a685-45db-b1f9-fc2f97df2f0f
STATUS:CONFIRMED
LAST-MODIFIED:20260124T154534Z
DESCRIPTION:4ème ligue Hommes Groupe 2\, Tours 3&4\nBegegnungs-Nr: 0\nHeim: Romanel III\nGast: Montriond-Ouchy  III\n\nAdresse: Ch des Epinettes 1\, 1032 Romanel-sur-Lausanne\n
LOCATION:Ch des Epinettes 1\, 1032 Romanel-sur-Lausanne
CATEGORIES:Saison 2025/26
END:VEVENT
BEGIN:VEVENT
DTSTAMP:20260424T114928Z
DTSTART;TZID=Europe/Berlin:20260203T193000
DTEND;TZID=Europe/Berlin:20260203T223000
SUMMARY:ME L4 Gr 2\, Tours 3&4 Romanel III vs Montriond-Ouchy  II (0)
UID:cb9ab441-f550-4fcb-a5b3-9bc56413e371
STATUS:CONFIRMED
LAST-MODIFIED:20260205T224301Z
DESCRIPTION:4ème ligue Hommes Groupe 2\, Tours 3&4\nBegegnungs-Nr: 0\nHeim: Romanel III\nGast: Montriond-Ouchy  II\n\nAdresse: Ch des Epinettes 1\, 1032 Romanel-sur-Lausanne\n
LOCATION:Ch des Epinettes 1\, 1032 Romanel-sur-Lausanne
CATEGORIES:Saison 2025/26
END:VEVENT
BEGIN:VEVENT
DTSTAMP:20260424T114928Z
DTSTART;TZID=Europe/Berlin:20260310T193000
DTEND;TZID=Europe/Berlin:20260310T223000
SUMMARY:ME L4 Gr 2\, Tours 3&4 Romanel III vs Chexbres II (0)
UID:feac65f4-5bcd-4e71-93f6-ebba046c6763
STATUS:CONFIRMED
LAST-MODIFIED:20260312T105022Z
DESCRIPTION:4ème ligue Hommes Groupe 2\, Tours 3&4\nBegegnungs-Nr: 0\nHeim: Romanel III\nGast: Chexbres II\n\nAdresse: Ch des Epinettes 1\, 1032 Romanel-sur-Lausanne\n
LOCATION:Ch des Epinettes 1\, 1032 Romanel-sur-Lausanne
CATEGORIES:Saison 2025/26
END:VEVENT
BEGIN:VEVENT
DTSTAMP:20260424T114928Z
DTSTART;TZID=Europe/Berlin:20260421T193000
DTEND;TZID=Europe/Berlin:20260421T223000
SUMMARY:ME L4 Gr 2\, Tours 3&4 Romanel III vs Lausanne VII (0)
UID:555cdc06-d3e1-4568-ab69-1c0b60f90b82
STATUS:CONFIRMED
LAST-MODIFIED:20260423T075503Z
DESCRIPTION:4ème ligue Hommes Groupe 2\, Tours 3&4\nBegegnungs-Nr: 0\nHeim: Romanel III\nGast: Lausanne VII\n\nAdresse: Ch des Epinettes 1\, 1032 Romanel-sur-Lausanne\n
LOCATION:Ch des Epinettes 1\, 1032 Romanel-sur-Lausanne
CATEGORIES:Saison 2025/26
END:VEVENT
BEGIN:VEVENT
DTSTAMP:20260424T114928Z
DTSTART;TZID=Europe/Berlin:20260428T193000
DTEND;TZID=Europe/Berlin:20260428T223000
SUMMARY:ME L4 Gr 2\, Tours 3&4 Romanel III vs Aigle (0)
UID:7b38600f-0e02-4667-8f5e-94e480af090b
STATUS:CONFIRMED
DESCRIPTION:4ème ligue Hommes Groupe 2\, Tours 3&4\nBegegnungs-Nr: 0\nHeim: Romanel III\nGast: Aigle\n\nAdresse: Ch des Epinettes 1\, 1032 Romanel-sur-Lausanne\n
LOCATION:Ch des Epinettes 1\, 1032 Romanel-sur-Lausanne
CATEGORIES:Saison 2025/26
END:VEVENT
BEGIN:VEVENT
DTSTAMP:20260424T114928Z
DTSTART;TZID=Europe/Berlin:20250911T193000
DTEND;TZID=Europe/Berlin:20250911T223000
SUMMARY:ME L4 Gr 4\, Tours 1&2 Vaudoise-Assurances vs Romanel III (0)
UID:254a675e-b82d-482b-ad20-654f49dcd70c
STATUS:CONFIRMED
LAST-MODIFIED:20250913T130028Z
DESCRIPTION:4ème ligue Hommes Groupe 4\, Tours 1&2\nBegegnungs-Nr: 0\nHeim: Vaudoise-Assurances\nGast: Romanel III\n\nAdresse: Ch de Bellerive 36\, 1007 Lausanne\n
LOCATION:Ch de Bellerive 36\, 1007 Lausanne
CATEGORIES:Saison 2025/26
END:VEVENT
BEGIN:VEVENT
DTSTAMP:20260424T114928Z
DTSTART;TZID=Europe/Berlin:20251002T193000
DTEND;TZID=Europe/Berlin:20251002T223000
SUMMARY:ME L4 Gr 4\, Tours 1&2 Fribourg VII vs Romanel III (0)
UID:d5dc7b4c-4ed5-4b8a-a255-0d7c2ec0613d
STATUS:CONFIRMED
LAST-MODIFIED:20251003T163345Z
DESCRIPTION:4ème ligue Hommes Groupe 4\, Tours 1&2\nBegegnungs-Nr: 0\nHeim: Fribourg VII\nGast: Romanel III\n\nAdresse: Route du Centre sportif\, 1752 Villars-sur-Glâne\n
LOCATION:Route du Centre sportif\, 1752 Villars-sur-Glâne
CATEGORIES:Saison 2025/26
END:VEVENT
BEGIN:VEVENT
DTSTAMP:20260424T114928Z
DTSTART;TZID=Europe/Berlin:20251104T193000
DTEND;TZID=Europe/Berlin:20251104T223000
SUMMARY:ME L4 Gr 4\, Tours 1&2 Crissier IV vs Romanel III (0)
UID:90d5c4ae-dba1-4124-baec-a23dc149fd3e
STATUS:CONFIRMED
LAST-MODIFIED:20251104T233525Z
DESCRIPTION:4ème ligue Hommes Groupe 4\, Tours 1&2\nBegegnungs-Nr: 0\nHeim: Crissier IV\nGast: Romanel III\n\nAdresse: ch. des Oches du Mur\, 1023 Crissier\n
LOCATION:ch. des Oches du Mur\, 1023 Crissier
CATEGORIES:Saison 2025/26
END:VEVENT
BEGIN:VEVENT
DTSTAMP:20260424T114928Z
DTSTART;TZID=Europe/Berlin:20251031T200000
DTEND;TZID=Europe/Berlin:20251031T230000
SUMMARY:ME L4 Gr 4\, Tours 1&2 Lausanne VII vs Romanel III (0)
UID:e834c656-5b95-4c0c-ab16-25b161af35b7
STATUS:CONFIRMED
LAST-MODIFIED:20251101T154026Z
DESCRIPTION:4ème ligue Hommes Groupe 4\, Tours 1&2\nBegegnungs-Nr: 0\nHeim: Lausanne VII\nGast: Romanel III\n\nAdresse: Vaudoise Aréna\, Ch. du Viaduc 14\, 1008 Prilly\n
LOCATION:Vaudoise Aréna\, Ch. du Viaduc 14\, 1008 Prilly
CATEGORIES:Saison 2025/26
END:VEVENT
BEGIN:VEVENT
DTSTAMP:20260424T114928Z
DTSTART;TZID=Europe/Berlin:20251113T194500
DTEND;TZID=Europe/Berlin:20251113T224500
SUMMARY:ME L4 Gr 4\, Tours 1&2 Chexbres vs Romanel III (0)
UID:21154208-e95f-4f7a-9939-e67ee3d84445
STATUS:CONFIRMED
LAST-MODIFIED:20251115T132517Z
DESCRIPTION:4ème ligue Hommes Groupe 4\, Tours 1&2\nBegegnungs-Nr: 0\nHeim: Chexbres\nGast: Romanel III\n\nAdresse: Collège de Praz Routoz\, 1071 Chexbres\n
LOCATION:Collège de Praz Routoz\, 1071 Chexbres
CATEGORIES:Saison 2025/26
END:VEVENT
BEGIN:VEVENT
DTSTAMP:20260424T114928Z
DTSTART;TZID=Europe/Berlin:20260115T194500
DTEND;TZID=Europe/Berlin:20260115T224500
SUMMARY:ME L4 Gr 2\, Tours 3&4 Chexbres II vs Romanel III (0)
UID:c90e20f8-f88c-4dc5-b41e-8658bb85067e
STATUS:CONFIRMED
LAST-MODIFIED:20260116T185559Z
DESCRIPTION:4ème ligue Hommes Groupe 2\, Tours 3&4\nBegegnungs-Nr: 0\nHeim: Chexbres II\nGast: Romanel III\n\nAdresse: Collège de Praz Routoz\, 1071 Chexbres\n
LOCATION:Collège de Praz Routoz\, 1071 Chexbres
CATEGORIES:Saison 2025/26
END:VEVENT
BEGIN:VEVENT
DTSTAMP:20260424T114928Z
DTSTART;TZID=Europe/Berlin:20260213T200000
DTEND;TZID=Europe/Berlin:20260213T230000
SUMMARY:ME L4 Gr 2\, Tours 3&4 Lausanne VII vs Romanel III (0)
UID:1044bf4b-d614-4ba1-9345-e80f630e8f2a
STATUS:CONFIRMED
LAST-MODIFIED:20260215T195337Z
DESCRIPTION:4ème ligue Hommes Groupe 2\, Tours 3&4\nBegegnungs-Nr: 0\nHeim: Lausanne VII\nGast: Romanel III\n\nAdresse: Vaudoise Aréna\, Ch. du Viaduc 14\, 1008 Prilly\n
LOCATION:Vaudoise Aréna\, Ch. du Viaduc 14\, 1008 Prilly
CATEGORIES:Saison 2025/26
END:VEVENT
BEGIN:VEVENT
DTSTAMP:20260424T114928Z
DTSTART;TZID=Europe/Berlin:20260225T200000
DTEND;TZID=Europe/Berlin:20260225T230000
SUMMARY:ME L4 Gr 2\, Tours 3&4 Aigle vs Romanel III (0)
UID:0a451181-9c15-4593-a249-c795dc0663a9
STATUS:CONFIRMED
LAST-MODIFIED:20260227T102232Z
DESCRIPTION:4ème ligue Hommes Groupe 2\, Tours 3&4\nBegegnungs-Nr: 0\nHeim: Aigle\nGast: Romanel III\n\nAdresse: Rue du Collège 12\, 1860 Aigle\n
LOCATION:Rue du Collège 12\, 1860 Aigle
CATEGORIES:Saison 2025/26
END:VEVENT
BEGIN:VEVENT
DTSTAMP:20260424T114928Z
DTSTART;TZID=Europe/Berlin:20260318T193000
DTEND;TZID=Europe/Berlin:20260318T223000
SUMMARY:ME L4 Gr 2\, Tours 3&4 Montriond-Ouchy  III vs Romanel III (0)
UID:eafdb067-b8af-4ffd-b5cd-0fef5e46ce37
STATUS:CONFIRMED
LAST-MODIFIED:20260321T102458Z
DESCRIPTION:4ème ligue Hommes Groupe 2\, Tours 3&4\nBegegnungs-Nr: 0\nHeim: Montriond-Ouchy  III\nGast: Romanel III\n\nAdresse: Avenue d'Ouchy 45\, 1006 Lausanne\n
LOCATION:Avenue d'Ouchy 45\, 1006 Lausanne
CATEGORIES:Saison 2025/26
END:VEVENT
BEGIN:VEVENT
DTSTAMP:20260424T114928Z
DTSTART;TZID=Europe/Berlin:20260402T193000
DTEND;TZID=Europe/Berlin:20260402T223000
SUMMARY:ME L4 Gr 2\, Tours 3&4 Montriond-Ouchy  II vs Romanel III (0)
UID:1d7b7b49-c835-4b97-9d49-d0751dd574e9
STATUS:CONFIRMED
LAST-MODIFIED:20260407T193146Z
DESCRIPTION:4ème ligue Hommes Groupe 2\, Tours 3&4\nBegegnungs-Nr: 0\nHeim: Montriond-Ouchy  II\nGast: Romanel III\n\nAdresse: Avenue d'Ouchy 45\, 1006 Lausanne\n
LOCATION:Avenue d'Ouchy 45\, 1006 Lausanne
CATEGORIES:Saison 2025/26
END:VEVENT
END:VCALENDAR
