BEGIN:VCALENDAR
PRODID:-//nuDatenautomaten//framework iCal4j //DE
VERSION:2.0
CALSCALE:GREGORIAN
BEGIN:VTIMEZONE
TZID:Europe/Berlin
LAST-MODIFIED:20260306T231828Z
TZURL:https://www.tzurl.org/zoneinfo/Europe/Berlin
X-LIC-LOCATION:Europe/Berlin
X-PROLEPTIC-TZNAME:LMT
BEGIN:STANDARD
TZNAME:CET
TZOFFSETFROM:+005328
TZOFFSETTO:+0100
DTSTART:18930401T000000
END:STANDARD
BEGIN:DAYLIGHT
TZNAME:CEST
TZOFFSETFROM:+0100
TZOFFSETTO:+0200
DTSTART:19160430T230000
RDATE:19400401T020000
RDATE:19430329T020000
RDATE:19460414T020000
RDATE:19470406T030000
RDATE:19480418T020000
RDATE:19490410T020000
RDATE:19800406T020000
END:DAYLIGHT
BEGIN:STANDARD
TZNAME:CET
TZOFFSETFROM:+0200
TZOFFSETTO:+0100
DTSTART:19161001T010000
RDATE:19421102T030000
RDATE:19431004T030000
RDATE:19441002T030000
RDATE:19451118T030000
RDATE:19461007T030000
END:STANDARD
BEGIN:DAYLIGHT
TZNAME:CEST
TZOFFSETFROM:+0100
TZOFFSETTO:+0200
DTSTART:19170416T020000
RRULE:FREQ=YEARLY;UNTIL=19180415T010000Z;BYMONTH=4;BYDAY=3MO
END:DAYLIGHT
BEGIN:STANDARD
TZNAME:CET
TZOFFSETFROM:+0200
TZOFFSETTO:+0100
DTSTART:19170917T030000
RRULE:FREQ=YEARLY;UNTIL=19180916T010000Z;BYMONTH=9;BYDAY=3MO
END:STANDARD
BEGIN:DAYLIGHT
TZNAME:CEST
TZOFFSETFROM:+0100
TZOFFSETTO:+0200
DTSTART:19440403T020000
RRULE:FREQ=YEARLY;UNTIL=19450402T010000Z;BYMONTH=4;BYDAY=1MO
END:DAYLIGHT
BEGIN:DAYLIGHT
TZNAME:CEMT
TZOFFSETFROM:+0200
TZOFFSETTO:+0300
DTSTART:19450524T020000
RDATE:19470511T030000
END:DAYLIGHT
BEGIN:DAYLIGHT
TZNAME:CEST
TZOFFSETFROM:+0300
TZOFFSETTO:+0200
DTSTART:19450924T030000
RDATE:19470629T030000
END:DAYLIGHT
BEGIN:STANDARD
TZNAME:CET
TZOFFSETFROM:+0100
TZOFFSETTO:+0100
DTSTART:19460101T000000
RDATE:19800101T000000
END:STANDARD
BEGIN:STANDARD
TZNAME:CET
TZOFFSETFROM:+0200
TZOFFSETTO:+0100
DTSTART:19471005T030000
RRULE:FREQ=YEARLY;UNTIL=19491002T010000Z;BYMONTH=10;BYDAY=1SU
END:STANDARD
BEGIN:STANDARD
TZNAME:CET
TZOFFSETFROM:+0200
TZOFFSETTO:+0100
DTSTART:19800928T030000
RRULE:FREQ=YEARLY;UNTIL=19950924T010000Z;BYMONTH=9;BYDAY=-1SU
END:STANDARD
BEGIN:DAYLIGHT
TZNAME:CEST
TZOFFSETFROM:+0100
TZOFFSETTO:+0200
DTSTART:19810329T020000
RRULE:FREQ=YEARLY;BYMONTH=3;BYDAY=-1SU
END:DAYLIGHT
BEGIN:STANDARD
TZNAME:CET
TZOFFSETFROM:+0200
TZOFFSETTO:+0100
DTSTART:19961027T030000
RRULE:FREQ=YEARLY;BYMONTH=10;BYDAY=-1SU
END:STANDARD
END:VTIMEZONE
BEGIN:VEVENT
DTSTAMP:20260424T063718Z
DTSTART;TZID=Europe/Berlin:20250913T160000
DTEND;TZID=Europe/Berlin:20250913T190000
SUMMARY:HE 1. Liga Thun vs Solothurn (8)
UID:b9ebb9be-2acc-4dbc-ac98-d0f75570a070
STATUS:CONFIRMED
LAST-MODIFIED:20250918T140052Z
DESCRIPTION:1. Liga Herren\nBegegnungs-Nr: 8\nHeim: Thun\nGast: Solothurn\n\nAdresse: Hallerstrasse 28\, 3604 Thun\n
LOCATION:Hallerstrasse 28\, 3604 Thun
CATEGORIES:Saison 2025/26
END:VEVENT
BEGIN:VEVENT
DTSTAMP:20260424T063718Z
DTSTART;TZID=Europe/Berlin:20251216T194500
DTEND;TZID=Europe/Berlin:20251216T224500
SUMMARY:HE 1. Liga Thun vs Burgdorf III (43)
UID:b76a6fbc-010b-459d-be36-56a35f46ad07
STATUS:CONFIRMED
LAST-MODIFIED:20251218T122002Z
DESCRIPTION:1. Liga Herren\nBegegnungs-Nr: 43\nHeim: Thun\nGast: Burgdorf III\n\nAdresse: Hallerstrasse 28\, 3604 Thun\n
LOCATION:Hallerstrasse 28\, 3604 Thun
CATEGORIES:Saison 2025/26
END:VEVENT
BEGIN:VEVENT
DTSTAMP:20260424T063718Z
DTSTART;TZID=Europe/Berlin:20251101T160000
DTEND;TZID=Europe/Berlin:20251101T190000
SUMMARY:HE 1. Liga Thun vs Herzogenbuchsee (24)
UID:07c816aa-13f3-4cc2-a897-ace45f1bda11
STATUS:CONFIRMED
LAST-MODIFIED:20251111T072150Z
DESCRIPTION:1. Liga Herren\nBegegnungs-Nr: 24\nHeim: Thun\nGast: Herzogenbuchsee\n\nAdresse: Hallerstrasse 28\, 3604 Thun\n
LOCATION:Hallerstrasse 28\, 3604 Thun
CATEGORIES:Saison 2025/26
END:VEVENT
BEGIN:VEVENT
DTSTAMP:20260424T063718Z
DTSTART;TZID=Europe/Berlin:20251025T130000
DTEND;TZID=Europe/Berlin:20251025T160000
SUMMARY:HE 1. Liga Thun vs Heimberg II (20)
UID:fda865e6-c57d-4ccb-a654-c41ddd692a0c
STATUS:CONFIRMED
LAST-MODIFIED:20251029T220640Z
DESCRIPTION:1. Liga Herren\nBegegnungs-Nr: 20\nHeim: Thun\nGast: Heimberg II\n\nAdresse: Hallerstrasse 28\, 3604 Thun\n
LOCATION:Hallerstrasse 28\, 3604 Thun
CATEGORIES:Saison 2025/26
END:VEVENT
BEGIN:VEVENT
DTSTAMP:20260424T063718Z
DTSTART;TZID=Europe/Berlin:20260328T160000
DTEND;TZID=Europe/Berlin:20260328T190000
SUMMARY:HE 1. Liga Thun vs Burgdorf III (43)
UID:aaba6563-c99d-4bb2-a3cd-9f8c82bf7db9
STATUS:CONFIRMED
LAST-MODIFIED:20260409T115031Z
DESCRIPTION:1. Liga Herren\nBegegnungs-Nr: 43\nHeim: Thun\nGast: Burgdorf III\n\nAdresse: Hallerstrasse 28\, 3604 Thun\n
LOCATION:Hallerstrasse 28\, 3604 Thun
CATEGORIES:Saison 2025/26
END:VEVENT
BEGIN:VEVENT
DTSTAMP:20260424T063718Z
DTSTART;TZID=Europe/Berlin:20260321T130000
DTEND;TZID=Europe/Berlin:20260321T160000
SUMMARY:HE 1. Liga Thun vs Münchenbuchsee (39)
UID:bb6f1a9c-e757-4199-804e-9ee7923e1c6f
STATUS:CONFIRMED
LAST-MODIFIED:20260327T142649Z
DESCRIPTION:1. Liga Herren\nBegegnungs-Nr: 39\nHeim: Thun\nGast: Münchenbuchsee\n\nAdresse: Hallerstrasse 28\, 3604 Thun\n
LOCATION:Hallerstrasse 28\, 3604 Thun
CATEGORIES:Saison 2025/26
END:VEVENT
BEGIN:VEVENT
DTSTAMP:20260424T063718Z
DTSTART;TZID=Europe/Berlin:20260314T130000
DTEND;TZID=Europe/Berlin:20260314T160000
SUMMARY:HE 1. Liga Thun vs Port II (31)
UID:80879883-6eb6-4d5a-b181-be9c00cd910e
STATUS:CONFIRMED
LAST-MODIFIED:20260327T142852Z
DESCRIPTION:1. Liga Herren\nBegegnungs-Nr: 31\nHeim: Thun\nGast: Port II\n\nAdresse: Hallerstrasse 28\, 3604 Thun\n
LOCATION:Hallerstrasse 28\, 3604 Thun
CATEGORIES:Saison 2025/26
END:VEVENT
BEGIN:VEVENT
DTSTAMP:20260424T063718Z
DTSTART;TZID=Europe/Berlin:20260228T160000
DTEND;TZID=Europe/Berlin:20260228T190000
SUMMARY:HE 1. Liga Thun vs Port III (29)
UID:d1d39679-7123-461e-95e8-455caa0d2635
STATUS:CONFIRMED
LAST-MODIFIED:20260302T144348Z
DESCRIPTION:1. Liga Herren\nBegegnungs-Nr: 29\nHeim: Thun\nGast: Port III\n\nAdresse: Hallerstrasse 28\, 3604 Thun\n
LOCATION:Hallerstrasse 28\, 3604 Thun
CATEGORIES:Saison 2025/26
END:VEVENT
BEGIN:VEVENT
DTSTAMP:20260424T063718Z
DTSTART;TZID=Europe/Berlin:20260110T130000
DTEND;TZID=Europe/Berlin:20260110T160000
SUMMARY:HE 1. Liga Thun vs Bern (2)
UID:e98af912-c1e2-4501-9947-4fab2bec9ba1
STATUS:CONFIRMED
LAST-MODIFIED:20260124T235830Z
DESCRIPTION:1. Liga Herren\nBegegnungs-Nr: 2\nHeim: Thun\nGast: Bern\n\nAdresse: Hallerstrasse 28\, 3604 Thun\n
LOCATION:Hallerstrasse 28\, 3604 Thun
CATEGORIES:Saison 2025/26
END:VEVENT
BEGIN:VEVENT
DTSTAMP:20260424T063718Z
DTSTART;TZID=Europe/Berlin:20260131T130000
DTEND;TZID=Europe/Berlin:20260131T160000
SUMMARY:HE 1. Liga Thun vs Aarberg (14)
UID:2e90a0d8-87a8-4dcd-8b30-eae7b4a05fd9
STATUS:CONFIRMED
LAST-MODIFIED:20260217T211753Z
DESCRIPTION:1. Liga Herren\nBegegnungs-Nr: 14\nHeim: Thun\nGast: Aarberg\n\nAdresse: Hallerstrasse 28\, 3604 Thun\n
LOCATION:Hallerstrasse 28\, 3604 Thun
CATEGORIES:Saison 2025/26
END:VEVENT
BEGIN:VEVENT
DTSTAMP:20260424T063718Z
DTSTART;TZID=Europe/Berlin:20250905T193000
DTEND;TZID=Europe/Berlin:20250905T223000
SUMMARY:HE 1. Liga Bern vs Thun (2)
UID:a98b0cb8-2b95-4d71-af2f-f3b7f6113cec
STATUS:CONFIRMED
LAST-MODIFIED:20250907T200418Z
DESCRIPTION:1. Liga Herren\nBegegnungs-Nr: 2\nHeim: Bern\nGast: Thun\n\nAdresse: Papiermühlestrasse 81\, 3014 Bern\n
LOCATION:Papiermühlestrasse 81\, 3014 Bern
CATEGORIES:Saison 2025/26
END:VEVENT
BEGIN:VEVENT
DTSTAMP:20260424T063718Z
DTSTART;TZID=Europe/Berlin:20251017T194500
DTEND;TZID=Europe/Berlin:20251017T224500
SUMMARY:HE 1. Liga Aarberg vs Thun (14)
UID:75ceec8f-4f21-4111-9f20-50e648e09661
STATUS:CONFIRMED
LAST-MODIFIED:20251020T114155Z
DESCRIPTION:1. Liga Herren\nBegegnungs-Nr: 14\nHeim: Aarberg\nGast: Thun\n\nAdresse: Nidaustrasse 7\, 3270 Aarberg\n
LOCATION:Nidaustrasse 7\, 3270 Aarberg
CATEGORIES:Saison 2025/26
END:VEVENT
BEGIN:VEVENT
DTSTAMP:20260424T063718Z
DTSTART;TZID=Europe/Berlin:20251205T193000
DTEND;TZID=Europe/Berlin:20251205T223000
SUMMARY:HE 1. Liga Münchenbuchsee vs Thun (39)
UID:8a4dd9de-6920-450d-9306-56fca746723a
STATUS:CONFIRMED
LAST-MODIFIED:20251206T230621Z
DESCRIPTION:1. Liga Herren\nBegegnungs-Nr: 39\nHeim: Münchenbuchsee\nGast: Thun\n\nAdresse: Laubbergweg 41\, 3053 Münchenbuchsee\n
LOCATION:Laubbergweg 41\, 3053 Münchenbuchsee
CATEGORIES:Saison 2025/26
END:VEVENT
BEGIN:VEVENT
DTSTAMP:20260424T063718Z
DTSTART;TZID=Europe/Berlin:20251128T194500
DTEND;TZID=Europe/Berlin:20251128T224500
SUMMARY:HE 1. Liga Port II vs Thun (31)
UID:d8988901-067f-4ca0-bfd2-172d4d0449e7
STATUS:CONFIRMED
LAST-MODIFIED:20251206T230458Z
DESCRIPTION:1. Liga Herren\nBegegnungs-Nr: 31\nHeim: Port II\nGast: Thun\n\nAdresse: Allmendstrasse 23\, 2562 Port\n
LOCATION:Allmendstrasse 23\, 2562 Port
CATEGORIES:Saison 2025/26
END:VEVENT
BEGIN:VEVENT
DTSTAMP:20260424T063718Z
DTSTART;TZID=Europe/Berlin:20251114T194500
DTEND;TZID=Europe/Berlin:20251114T224500
SUMMARY:HE 1. Liga Port III vs Thun (29)
UID:5b1faf28-4d36-4a9b-81cd-d04f1554b960
STATUS:CONFIRMED
LAST-MODIFIED:20251115T171119Z
DESCRIPTION:1. Liga Herren\nBegegnungs-Nr: 29\nHeim: Port III\nGast: Thun\n\nAdresse: Allmendstrasse 23\, 2562 Port\n
LOCATION:Allmendstrasse 23\, 2562 Port
CATEGORIES:Saison 2025/26
END:VEVENT
BEGIN:VEVENT
DTSTAMP:20260424T063718Z
DTSTART;TZID=Europe/Berlin:20260217T201500
DTEND;TZID=Europe/Berlin:20260217T231500
SUMMARY:HE 1. Liga Herzogenbuchsee vs Thun (24)
UID:bbbd9ca1-3dd1-49f1-9d1a-a80a1b713cca
STATUS:CONFIRMED
LAST-MODIFIED:20260218T070340Z
DESCRIPTION:1. Liga Herren\nBegegnungs-Nr: 24\nHeim: Herzogenbuchsee\nGast: Thun\n\nAdresse: Ringstrasse 10\, 3360 Herzogenbuchsee\n
LOCATION:Ringstrasse 10\, 3360 Herzogenbuchsee
CATEGORIES:Saison 2025/26
END:VEVENT
BEGIN:VEVENT
DTSTAMP:20260424T063718Z
DTSTART;TZID=Europe/Berlin:20260207T163000
DTEND;TZID=Europe/Berlin:20260207T193000
SUMMARY:HE 1. Liga Heimberg II vs Thun (20)
UID:81fd1cc5-84ff-4413-9e86-e9a6a19508b2
STATUS:CONFIRMED
LAST-MODIFIED:20260217T211923Z
DESCRIPTION:1. Liga Herren\nBegegnungs-Nr: 20\nHeim: Heimberg II\nGast: Thun\n\nAdresse: Niesenstrasse 38\, 3627 Heimberg\n
LOCATION:Niesenstrasse 38\, 3627 Heimberg
CATEGORIES:Saison 2025/26
END:VEVENT
BEGIN:VEVENT
DTSTAMP:20260424T063718Z
DTSTART;TZID=Europe/Berlin:20260121T194500
DTEND;TZID=Europe/Berlin:20260121T224500
SUMMARY:HE 1. Liga Solothurn vs Thun (8)
UID:2e8c0b16-6688-4443-9400-6d07b5e6af67
STATUS:CONFIRMED
LAST-MODIFIED:20260124T235916Z
DESCRIPTION:1. Liga Herren\nBegegnungs-Nr: 8\nHeim: Solothurn\nGast: Thun\n\nAdresse: Untere Sternengasse 24\, 4500 Solothurn\n
LOCATION:Untere Sternengasse 24\, 4500 Solothurn
CATEGORIES:Saison 2025/26
END:VEVENT
END:VCALENDAR
