BEGIN:VCALENDAR
PRODID:-//nuDatenautomaten//framework iCal4j //DE
VERSION:2.0
CALSCALE:GREGORIAN
BEGIN:VTIMEZONE
TZID:Europe/Berlin
LAST-MODIFIED:20260306T231828Z
TZURL:https://www.tzurl.org/zoneinfo/Europe/Berlin
X-LIC-LOCATION:Europe/Berlin
X-PROLEPTIC-TZNAME:LMT
BEGIN:STANDARD
TZNAME:CET
TZOFFSETFROM:+005328
TZOFFSETTO:+0100
DTSTART:18930401T000000
END:STANDARD
BEGIN:DAYLIGHT
TZNAME:CEST
TZOFFSETFROM:+0100
TZOFFSETTO:+0200
DTSTART:19160430T230000
RDATE:19400401T020000
RDATE:19430329T020000
RDATE:19460414T020000
RDATE:19470406T030000
RDATE:19480418T020000
RDATE:19490410T020000
RDATE:19800406T020000
END:DAYLIGHT
BEGIN:STANDARD
TZNAME:CET
TZOFFSETFROM:+0200
TZOFFSETTO:+0100
DTSTART:19161001T010000
RDATE:19421102T030000
RDATE:19431004T030000
RDATE:19441002T030000
RDATE:19451118T030000
RDATE:19461007T030000
END:STANDARD
BEGIN:DAYLIGHT
TZNAME:CEST
TZOFFSETFROM:+0100
TZOFFSETTO:+0200
DTSTART:19170416T020000
RRULE:FREQ=YEARLY;UNTIL=19180415T010000Z;BYMONTH=4;BYDAY=3MO
END:DAYLIGHT
BEGIN:STANDARD
TZNAME:CET
TZOFFSETFROM:+0200
TZOFFSETTO:+0100
DTSTART:19170917T030000
RRULE:FREQ=YEARLY;UNTIL=19180916T010000Z;BYMONTH=9;BYDAY=3MO
END:STANDARD
BEGIN:DAYLIGHT
TZNAME:CEST
TZOFFSETFROM:+0100
TZOFFSETTO:+0200
DTSTART:19440403T020000
RRULE:FREQ=YEARLY;UNTIL=19450402T010000Z;BYMONTH=4;BYDAY=1MO
END:DAYLIGHT
BEGIN:DAYLIGHT
TZNAME:CEMT
TZOFFSETFROM:+0200
TZOFFSETTO:+0300
DTSTART:19450524T020000
RDATE:19470511T030000
END:DAYLIGHT
BEGIN:DAYLIGHT
TZNAME:CEST
TZOFFSETFROM:+0300
TZOFFSETTO:+0200
DTSTART:19450924T030000
RDATE:19470629T030000
END:DAYLIGHT
BEGIN:STANDARD
TZNAME:CET
TZOFFSETFROM:+0100
TZOFFSETTO:+0100
DTSTART:19460101T000000
RDATE:19800101T000000
END:STANDARD
BEGIN:STANDARD
TZNAME:CET
TZOFFSETFROM:+0200
TZOFFSETTO:+0100
DTSTART:19471005T030000
RRULE:FREQ=YEARLY;UNTIL=19491002T010000Z;BYMONTH=10;BYDAY=1SU
END:STANDARD
BEGIN:STANDARD
TZNAME:CET
TZOFFSETFROM:+0200
TZOFFSETTO:+0100
DTSTART:19800928T030000
RRULE:FREQ=YEARLY;UNTIL=19950924T010000Z;BYMONTH=9;BYDAY=-1SU
END:STANDARD
BEGIN:DAYLIGHT
TZNAME:CEST
TZOFFSETFROM:+0100
TZOFFSETTO:+0200
DTSTART:19810329T020000
RRULE:FREQ=YEARLY;BYMONTH=3;BYDAY=-1SU
END:DAYLIGHT
BEGIN:STANDARD
TZNAME:CET
TZOFFSETFROM:+0200
TZOFFSETTO:+0100
DTSTART:19961027T030000
RRULE:FREQ=YEARLY;BYMONTH=10;BYDAY=-1SU
END:STANDARD
END:VTIMEZONE
BEGIN:VEVENT
DTSTAMP:20260424T135907Z
DTSTART;TZID=Europe/Berlin:20250830T160000
DTEND;TZID=Europe/Berlin:20250830T190000
SUMMARY:JUG\, 2.Li\, Gr.1\, VR Wil SG vs Weinfelden (6)
UID:ad9b0ec8-3fad-46c3-b562-a6dd6e760e59
STATUS:CONFIRMED
LAST-MODIFIED:20250902T094454Z
DESCRIPTION:Jugend\, 2. Liga\, Gruppe 1\, Vorrunde\nBegegnungs-Nr: 6\nHeim: Wil SG\nGast: Weinfelden\n\nAdresse: Lindenhofstr. 23\, 9500 Wil\n
LOCATION:Lindenhofstr. 23\, 9500 Wil
CATEGORIES:Saison 2025/26
END:VEVENT
BEGIN:VEVENT
DTSTAMP:20260424T135907Z
DTSTART;TZID=Europe/Berlin:20251115T143000
DTEND;TZID=Europe/Berlin:20251115T173000
SUMMARY:JUG\, 2.Li\, Gr.1\, ZR Wil SG vs Affoltern A/A (4)
UID:38603f37-c730-4153-9e85-0cdd193f5420
STATUS:CONFIRMED
LAST-MODIFIED:20251121T095320Z
DESCRIPTION:Jugend\, 2. Liga\, Gruppe 1\, Zwischenrunde\nBegegnungs-Nr: 4\nHeim: Wil SG\nGast: Affoltern A/A\n\nAdresse: Lindenhofstr. 23\, 9500 Wil\n
LOCATION:Lindenhofstr. 23\, 9500 Wil
CATEGORIES:Saison 2025/26
END:VEVENT
BEGIN:VEVENT
DTSTAMP:20260424T135907Z
DTSTART;TZID=Europe/Berlin:20251115T130000
DTEND;TZID=Europe/Berlin:20251115T160000
SUMMARY:JUG\, 2.Li\, Gr.1\, ZR Wil SG vs Bülach (1)
UID:c686e308-a43f-4743-afff-692ba2f07ae9
STATUS:CONFIRMED
LAST-MODIFIED:20251124T150513Z
DESCRIPTION:Jugend\, 2. Liga\, Gruppe 1\, Zwischenrunde\nBegegnungs-Nr: 1\nHeim: Wil SG\nGast: Bülach\nHalle: Poule in Wil SG\, Lindenhof\nAdresse: Lindenhofstr. 23\, 9500 Wil\n
LOCATION:Poule in Wil SG\, Lindenhof Lindenhofstr. 23\, 9500 Wil
CATEGORIES:Saison 2025/26
END:VEVENT
BEGIN:VEVENT
DTSTAMP:20260424T135907Z
DTSTART;TZID=Europe/Berlin:20260328T130000
DTEND;TZID=Europe/Berlin:20260328T160000
SUMMARY:JUG\, 2.Li\, Gr.2\, Final Wil SG vs Neuhausen II (2)
UID:07a89eb5-7944-4c45-8c99-08fab43ed3ca
STATUS:CONFIRMED
LAST-MODIFIED:20260401T133820Z
DESCRIPTION:Jugend\, 2. Liga\, Gruppe 2\, Final\nBegegnungs-Nr: 2\nHeim: Wil SG\nGast: Neuhausen II\n\nAdresse: Lindenhofstr. 23\, 9500 Wil\n
LOCATION:Lindenhofstr. 23\, 9500 Wil
CATEGORIES:Saison 2025/26
END:VEVENT
BEGIN:VEVENT
DTSTAMP:20260424T135907Z
DTSTART;TZID=Europe/Berlin:20260328T160000
DTEND;TZID=Europe/Berlin:20260328T190000
SUMMARY:JUG\, 2.Li\, Gr.2\, Final Wil SG vs Weinfelden (5)
UID:16e4c01d-8b0d-4cde-a75a-0f7eca9a5c73
STATUS:CONFIRMED
LAST-MODIFIED:20260401T133908Z
DESCRIPTION:Jugend\, 2. Liga\, Gruppe 2\, Final\nBegegnungs-Nr: 5\nHeim: Wil SG\nGast: Weinfelden\n\nAdresse: Lindenhofstr. 23\, 9500 Wil\n
LOCATION:Lindenhofstr. 23\, 9500 Wil
CATEGORIES:Saison 2025/26
END:VEVENT
BEGIN:VEVENT
DTSTAMP:20260424T135907Z
DTSTART;TZID=Europe/Berlin:20250830T130000
DTEND;TZID=Europe/Berlin:20250830T160000
SUMMARY:JUG\, 2.Li\, Gr.1\, VR Ettenhausen vs Wil SG (2)
UID:5f01e152-ab2a-46e4-be58-e281174f6919
STATUS:CONFIRMED
LAST-MODIFIED:20250902T094323Z
DESCRIPTION:Jugend\, 2. Liga\, Gruppe 1\, Vorrunde\nBegegnungs-Nr: 2\nHeim: Ettenhausen\nGast: Wil SG\n\nAdresse: Weidlistrasse 12\, 8356 Ettenhausen\n
LOCATION:Weidlistrasse 12\, 8356 Ettenhausen
CATEGORIES:Saison 2025/26
END:VEVENT
BEGIN:VEVENT
DTSTAMP:20260424T135907Z
DTSTART;TZID=Europe/Berlin:20250830T143000
DTEND;TZID=Europe/Berlin:20250830T173000
SUMMARY:JUG\, 2.Li\, Gr.1\, VR Steckborn-Homburg vs Wil SG (3)
UID:600d93fd-c7f3-4a76-9df0-9ddaf5e64ecd
STATUS:CONFIRMED
LAST-MODIFIED:20250908T141952Z
DESCRIPTION:Jugend\, 2. Liga\, Gruppe 1\, Vorrunde\nBegegnungs-Nr: 3\nHeim: Steckborn-Homburg\nGast: Wil SG\n\nAdresse: Feldbach\, 8266 Steckborn\n
LOCATION:Feldbach\, 8266 Steckborn
CATEGORIES:Saison 2025/26
END:VEVENT
BEGIN:VEVENT
DTSTAMP:20260424T135907Z
DTSTART;TZID=Europe/Berlin:20251115T160000
DTEND;TZID=Europe/Berlin:20251115T190000
SUMMARY:JUG\, 2.Li\, Gr.1\, ZR Wädenswil vs Wil SG (6)
UID:24fa00b1-9d4c-4d16-b18f-4764de7b4aba
STATUS:CONFIRMED
LAST-MODIFIED:20251121T095332Z
DESCRIPTION:Jugend\, 2. Liga\, Gruppe 1\, Zwischenrunde\nBegegnungs-Nr: 6\nHeim: Wädenswil\nGast: Wil SG\n\nAdresse: Fuhrstrasse 16b\, 8820 Wädenswil\n
LOCATION:Fuhrstrasse 16b\, 8820 Wädenswil
CATEGORIES:Saison 2025/26
END:VEVENT
BEGIN:VEVENT
DTSTAMP:20260424T135907Z
DTSTART;TZID=Europe/Berlin:20260328T143000
DTEND;TZID=Europe/Berlin:20260328T173000
SUMMARY:JUG\, 2.Li\, Gr.2\, Final Young Stars ZH II vs Wil SG (4)
UID:358af811-bb5e-4975-a6c4-e233ae2e1584
STATUS:CONFIRMED
LAST-MODIFIED:20260401T133857Z
DESCRIPTION:Jugend\, 2. Liga\, Gruppe 2\, Final\nBegegnungs-Nr: 4\nHeim: Young Stars ZH II\nGast: Wil SG\n\nAdresse: Balgriststrasse 55\, 8008 Zürich\n
LOCATION:Balgriststrasse 55\, 8008 Zürich
CATEGORIES:Saison 2025/26
END:VEVENT
END:VCALENDAR
