BEGIN:VCALENDAR
PRODID:-//nuDatenautomaten//framework iCal4j //DE
VERSION:2.0
CALSCALE:GREGORIAN
BEGIN:VTIMEZONE
TZID:Europe/Berlin
LAST-MODIFIED:20260306T231828Z
TZURL:https://www.tzurl.org/zoneinfo/Europe/Berlin
X-LIC-LOCATION:Europe/Berlin
X-PROLEPTIC-TZNAME:LMT
BEGIN:STANDARD
TZNAME:CET
TZOFFSETFROM:+005328
TZOFFSETTO:+0100
DTSTART:18930401T000000
END:STANDARD
BEGIN:DAYLIGHT
TZNAME:CEST
TZOFFSETFROM:+0100
TZOFFSETTO:+0200
DTSTART:19160430T230000
RDATE:19400401T020000
RDATE:19430329T020000
RDATE:19460414T020000
RDATE:19470406T030000
RDATE:19480418T020000
RDATE:19490410T020000
RDATE:19800406T020000
END:DAYLIGHT
BEGIN:STANDARD
TZNAME:CET
TZOFFSETFROM:+0200
TZOFFSETTO:+0100
DTSTART:19161001T010000
RDATE:19421102T030000
RDATE:19431004T030000
RDATE:19441002T030000
RDATE:19451118T030000
RDATE:19461007T030000
END:STANDARD
BEGIN:DAYLIGHT
TZNAME:CEST
TZOFFSETFROM:+0100
TZOFFSETTO:+0200
DTSTART:19170416T020000
RRULE:FREQ=YEARLY;UNTIL=19180415T010000Z;BYMONTH=4;BYDAY=3MO
END:DAYLIGHT
BEGIN:STANDARD
TZNAME:CET
TZOFFSETFROM:+0200
TZOFFSETTO:+0100
DTSTART:19170917T030000
RRULE:FREQ=YEARLY;UNTIL=19180916T010000Z;BYMONTH=9;BYDAY=3MO
END:STANDARD
BEGIN:DAYLIGHT
TZNAME:CEST
TZOFFSETFROM:+0100
TZOFFSETTO:+0200
DTSTART:19440403T020000
RRULE:FREQ=YEARLY;UNTIL=19450402T010000Z;BYMONTH=4;BYDAY=1MO
END:DAYLIGHT
BEGIN:DAYLIGHT
TZNAME:CEMT
TZOFFSETFROM:+0200
TZOFFSETTO:+0300
DTSTART:19450524T020000
RDATE:19470511T030000
END:DAYLIGHT
BEGIN:DAYLIGHT
TZNAME:CEST
TZOFFSETFROM:+0300
TZOFFSETTO:+0200
DTSTART:19450924T030000
RDATE:19470629T030000
END:DAYLIGHT
BEGIN:STANDARD
TZNAME:CET
TZOFFSETFROM:+0100
TZOFFSETTO:+0100
DTSTART:19460101T000000
RDATE:19800101T000000
END:STANDARD
BEGIN:STANDARD
TZNAME:CET
TZOFFSETFROM:+0200
TZOFFSETTO:+0100
DTSTART:19471005T030000
RRULE:FREQ=YEARLY;UNTIL=19491002T010000Z;BYMONTH=10;BYDAY=1SU
END:STANDARD
BEGIN:STANDARD
TZNAME:CET
TZOFFSETFROM:+0200
TZOFFSETTO:+0100
DTSTART:19800928T030000
RRULE:FREQ=YEARLY;UNTIL=19950924T010000Z;BYMONTH=9;BYDAY=-1SU
END:STANDARD
BEGIN:DAYLIGHT
TZNAME:CEST
TZOFFSETFROM:+0100
TZOFFSETTO:+0200
DTSTART:19810329T020000
RRULE:FREQ=YEARLY;BYMONTH=3;BYDAY=-1SU
END:DAYLIGHT
BEGIN:STANDARD
TZNAME:CET
TZOFFSETFROM:+0200
TZOFFSETTO:+0100
DTSTART:19961027T030000
RRULE:FREQ=YEARLY;BYMONTH=10;BYDAY=-1SU
END:STANDARD
END:VTIMEZONE
BEGIN:VEVENT
DTSTAMP:20260424T005440Z
DTSTART;TZID=Europe/Berlin:20250905T194500
DTEND;TZID=Europe/Berlin:20250905T224500
SUMMARY:HE 2. Liga Gr. 1 Grauholz vs Heimberg III (4)
UID:2737c646-9512-41e2-a039-537d7857e94f
STATUS:CONFIRMED
LAST-MODIFIED:20250907T200324Z
DESCRIPTION:2. Liga Herren Gruppe 1\nBegegnungs-Nr: 4\nHeim: Grauholz\nGast: Heimberg III\n\nAdresse: Schulhausweg 8\, 3324 Hindelbank\n
LOCATION:Schulhausweg 8\, 3324 Hindelbank
CATEGORIES:Saison 2025/26
END:VEVENT
BEGIN:VEVENT
DTSTAMP:20260424T005440Z
DTSTART;TZID=Europe/Berlin:20251216T194500
DTEND;TZID=Europe/Berlin:20251216T224500
SUMMARY:HE 2. Liga Gr. 1 Grauholz vs Burgdorf V (42)
UID:a4f7a3ee-1509-4a72-bcff-c73aba0c6fd5
STATUS:CONFIRMED
LAST-MODIFIED:20251217T100727Z
DESCRIPTION:2. Liga Herren Gruppe 1\nBegegnungs-Nr: 42\nHeim: Grauholz\nGast: Burgdorf V\n\nAdresse: Schulhausweg 8\, 3324 Hindelbank\n
LOCATION:Schulhausweg 8\, 3324 Hindelbank
CATEGORIES:Saison 2025/26
END:VEVENT
BEGIN:VEVENT
DTSTAMP:20260424T005440Z
DTSTART;TZID=Europe/Berlin:20251111T194500
DTEND;TZID=Europe/Berlin:20251111T224500
SUMMARY:HE 2. Liga Gr. 1 Grauholz vs Thun II (33)
UID:29d5bbcc-cd90-4a0b-9d95-d56923227abc
STATUS:CONFIRMED
LAST-MODIFIED:20251122T091714Z
DESCRIPTION:2. Liga Herren Gruppe 1\nBegegnungs-Nr: 33\nHeim: Grauholz\nGast: Thun II\n\nAdresse: Schulhausweg 8\, 3324 Hindelbank\n
LOCATION:Schulhausweg 8\, 3324 Hindelbank
CATEGORIES:Saison 2025/26
END:VEVENT
BEGIN:VEVENT
DTSTAMP:20260424T005440Z
DTSTART;TZID=Europe/Berlin:20251118T194500
DTEND;TZID=Europe/Berlin:20251118T224500
SUMMARY:HE 2. Liga Gr. 1 Grauholz vs Worb (27)
UID:a8e890f7-2732-4e2e-9246-24291b1d4d62
STATUS:CONFIRMED
LAST-MODIFIED:20251122T091641Z
DESCRIPTION:2. Liga Herren Gruppe 1\nBegegnungs-Nr: 27\nHeim: Grauholz\nGast: Worb\n\nAdresse: Schulhausweg 8\, 3324 Hindelbank\n
LOCATION:Schulhausweg 8\, 3324 Hindelbank
CATEGORIES:Saison 2025/26
END:VEVENT
BEGIN:VEVENT
DTSTAMP:20260424T005440Z
DTSTART;TZID=Europe/Berlin:20251010T194500
DTEND;TZID=Europe/Berlin:20251010T224500
SUMMARY:HE 2. Liga Gr. 1 Grauholz vs Solothurn II (14)
UID:622f244a-9a68-449c-b5fe-acf111103b0c
STATUS:CONFIRMED
LAST-MODIFIED:20251014T112914Z
DESCRIPTION:2. Liga Herren Gruppe 1\nBegegnungs-Nr: 14\nHeim: Grauholz\nGast: Solothurn II\n\nAdresse: Schulhausweg 8\, 3324 Hindelbank\n
LOCATION:Schulhausweg 8\, 3324 Hindelbank
CATEGORIES:Saison 2025/26
END:VEVENT
BEGIN:VEVENT
DTSTAMP:20260424T005440Z
DTSTART;TZID=Europe/Berlin:20260331T194500
DTEND;TZID=Europe/Berlin:20260331T224500
SUMMARY:HE 2. Liga Gr. 1 Grauholz vs Ostermundigen III (38)
UID:73a3a663-5c50-4fa7-9ca5-97bc7412e9d3
STATUS:CONFIRMED
LAST-MODIFIED:20260409T123819Z
DESCRIPTION:2. Liga Herren Gruppe 1\nBegegnungs-Nr: 38\nHeim: Grauholz\nGast: Ostermundigen III\n\nAdresse: Schulhausweg 8\, 3324 Hindelbank\n
LOCATION:Schulhausweg 8\, 3324 Hindelbank
CATEGORIES:Saison 2025/26
END:VEVENT
BEGIN:VEVENT
DTSTAMP:20260424T005440Z
DTSTART;TZID=Europe/Berlin:20260220T194500
DTEND;TZID=Europe/Berlin:20260220T224500
SUMMARY:HE 2. Liga Gr. 1 Grauholz vs Langnau (21)
UID:4ed1b86f-3f4c-4e56-b193-c68ac2cd2ec4
STATUS:CONFIRMED
LAST-MODIFIED:20260224T075024Z
DESCRIPTION:2. Liga Herren Gruppe 1\nBegegnungs-Nr: 21\nHeim: Grauholz\nGast: Langnau\n\nAdresse: Schulhausweg 8\, 3324 Hindelbank\n
LOCATION:Schulhausweg 8\, 3324 Hindelbank
CATEGORIES:Saison 2025/26
END:VEVENT
BEGIN:VEVENT
DTSTAMP:20260424T005440Z
DTSTART;TZID=Europe/Berlin:20260213T194500
DTEND;TZID=Europe/Berlin:20260213T224500
SUMMARY:HE 2. Liga Gr. 1 Grauholz vs Belp (19)
UID:75b908b6-2ea9-4390-ba8c-203b4b3d41ca
STATUS:CONFIRMED
LAST-MODIFIED:20260217T212223Z
DESCRIPTION:2. Liga Herren Gruppe 1\nBegegnungs-Nr: 19\nHeim: Grauholz\nGast: Belp\n\nAdresse: Schulhausweg 8\, 3324 Hindelbank\n
LOCATION:Schulhausweg 8\, 3324 Hindelbank
CATEGORIES:Saison 2025/26
END:VEVENT
BEGIN:VEVENT
DTSTAMP:20260424T005440Z
DTSTART;TZID=Europe/Berlin:20260123T194500
DTEND;TZID=Europe/Berlin:20260123T224500
SUMMARY:HE 2. Liga Gr. 1 Grauholz vs Bern III (9)
UID:886fe12e-ff51-470f-8ef2-f32ba5d399ce
STATUS:CONFIRMED
LAST-MODIFIED:20260125T000137Z
DESCRIPTION:2. Liga Herren Gruppe 1\nBegegnungs-Nr: 9\nHeim: Grauholz\nGast: Bern III\n\nAdresse: Schulhausweg 8\, 3324 Hindelbank\n
LOCATION:Schulhausweg 8\, 3324 Hindelbank
CATEGORIES:Saison 2025/26
END:VEVENT
BEGIN:VEVENT
DTSTAMP:20260424T005440Z
DTSTART;TZID=Europe/Berlin:20251008T193000
DTEND;TZID=Europe/Berlin:20251008T223000
SUMMARY:HE 2. Liga Gr. 1 Bern III vs Grauholz (9)
UID:b5e813ba-e8f4-4e41-bb73-aa06e24e756f
STATUS:CONFIRMED
LAST-MODIFIED:20251009T193735Z
DESCRIPTION:2. Liga Herren Gruppe 1\nBegegnungs-Nr: 9\nHeim: Bern III\nGast: Grauholz\n\nAdresse: Papiermühlestrasse 81\, 3014 Bern\n
LOCATION:Papiermühlestrasse 81\, 3014 Bern
CATEGORIES:Saison 2025/26
END:VEVENT
BEGIN:VEVENT
DTSTAMP:20260424T005440Z
DTSTART;TZID=Europe/Berlin:20251210T194500
DTEND;TZID=Europe/Berlin:20251210T224500
SUMMARY:HE 2. Liga Gr. 1 Ostermundigen III vs Grauholz (38)
UID:8c1ba3ac-dbd8-4dd5-bc7a-c25d2e1317ff
STATUS:CONFIRMED
LAST-MODIFIED:20251216T120215Z
DESCRIPTION:2. Liga Herren Gruppe 1\nBegegnungs-Nr: 38\nHeim: Ostermundigen III\nGast: Grauholz\n\nAdresse: Dennigkofenweg 169\, 3072 Ostermundigen\n
LOCATION:Dennigkofenweg 169\, 3072 Ostermundigen
CATEGORIES:Saison 2025/26
END:VEVENT
BEGIN:VEVENT
DTSTAMP:20260424T005440Z
DTSTART;TZID=Europe/Berlin:20251108T140000
DTEND;TZID=Europe/Berlin:20251108T170000
SUMMARY:HE 2. Liga Gr. 1 Langnau vs Grauholz (21)
UID:8bb32b7a-1afd-499b-9a88-8c1ad4bfde7c
STATUS:CONFIRMED
LAST-MODIFIED:20251122T091734Z
DESCRIPTION:2. Liga Herren Gruppe 1\nBegegnungs-Nr: 21\nHeim: Langnau\nGast: Grauholz\n\nAdresse: Bleicheweg 11\, 3550 Langnau\n
LOCATION:Bleicheweg 11\, 3550 Langnau
CATEGORIES:Saison 2025/26
END:VEVENT
BEGIN:VEVENT
DTSTAMP:20260424T005440Z
DTSTART;TZID=Europe/Berlin:20251029T193000
DTEND;TZID=Europe/Berlin:20251029T223000
SUMMARY:HE 2. Liga Gr. 1 Belp vs Grauholz (19)
UID:122d241f-7a0d-44a6-b57d-5251e49375c2
STATUS:CONFIRMED
LAST-MODIFIED:20251111T072208Z
DESCRIPTION:2. Liga Herren Gruppe 1\nBegegnungs-Nr: 19\nHeim: Belp\nGast: Grauholz\n\nAdresse: Neumattstrasse 39\, 3123 Belp\n
LOCATION:Neumattstrasse 39\, 3123 Belp
CATEGORIES:Saison 2025/26
END:VEVENT
BEGIN:VEVENT
DTSTAMP:20260424T005440Z
DTSTART;TZID=Europe/Berlin:20260318T190000
DTEND;TZID=Europe/Berlin:20260318T220000
SUMMARY:HE 2. Liga Gr. 1 Burgdorf V vs Grauholz (42)
UID:805ec407-2647-42f6-8339-73b75bb2a12a
STATUS:CONFIRMED
LAST-MODIFIED:20260327T143159Z
DESCRIPTION:2. Liga Herren Gruppe 1\nBegegnungs-Nr: 42\nHeim: Burgdorf V\nGast: Grauholz\n\nAdresse: Pestalozzistrasse 69\, 3400 Burgdorf\n
LOCATION:Pestalozzistrasse 69\, 3400 Burgdorf
CATEGORIES:Saison 2025/26
END:VEVENT
BEGIN:VEVENT
DTSTAMP:20260424T005440Z
DTSTART;TZID=Europe/Berlin:20260314T160000
DTEND;TZID=Europe/Berlin:20260314T190000
SUMMARY:HE 2. Liga Gr. 1 Thun II vs Grauholz (33)
UID:3c57e755-52c0-48b5-bbbf-e660a48d3ae4
STATUS:CONFIRMED
LAST-MODIFIED:20260315T225713Z
DESCRIPTION:2. Liga Herren Gruppe 1\nBegegnungs-Nr: 33\nHeim: Thun II\nGast: Grauholz\n\nAdresse: Hallerstrasse 28\, 3604 Thun\n
LOCATION:Hallerstrasse 28\, 3604 Thun
CATEGORIES:Saison 2025/26
END:VEVENT
BEGIN:VEVENT
DTSTAMP:20260424T005440Z
DTSTART;TZID=Europe/Berlin:20260227T194500
DTEND;TZID=Europe/Berlin:20260227T224500
SUMMARY:HE 2. Liga Gr. 1 Worb vs Grauholz (27)
UID:a273113b-afdb-4f0c-a0dd-7605dc029e21
STATUS:CONFIRMED
LAST-MODIFIED:20260302T144412Z
DESCRIPTION:2. Liga Herren Gruppe 1\nBegegnungs-Nr: 27\nHeim: Worb\nGast: Grauholz\n\nAdresse: Rosenweg 9\, 3075 Rüfenacht BE\n
LOCATION:Rosenweg 9\, 3075 Rüfenacht BE
CATEGORIES:Saison 2025/26
END:VEVENT
BEGIN:VEVENT
DTSTAMP:20260424T005440Z
DTSTART;TZID=Europe/Berlin:20260128T194500
DTEND;TZID=Europe/Berlin:20260128T224500
SUMMARY:HE 2. Liga Gr. 1 Solothurn II vs Grauholz (14)
UID:aa796cdd-2b6b-4dc5-8f81-5cf3d990216f
STATUS:CONFIRMED
LAST-MODIFIED:20260217T212053Z
DESCRIPTION:2. Liga Herren Gruppe 1\nBegegnungs-Nr: 14\nHeim: Solothurn II\nGast: Grauholz\n\nAdresse: Untere Sternengasse 24\, 4500 Solothurn\n
LOCATION:Untere Sternengasse 24\, 4500 Solothurn
CATEGORIES:Saison 2025/26
END:VEVENT
BEGIN:VEVENT
DTSTAMP:20260424T005440Z
DTSTART;TZID=Europe/Berlin:20260108T194500
DTEND;TZID=Europe/Berlin:20260108T224500
SUMMARY:HE 2. Liga Gr. 1 Heimberg III vs Grauholz (4)
UID:904d084d-1ef8-43f9-b327-c51e0af14748
STATUS:CONFIRMED
LAST-MODIFIED:20260125T000010Z
DESCRIPTION:2. Liga Herren Gruppe 1\nBegegnungs-Nr: 4\nHeim: Heimberg III\nGast: Grauholz\n\nAdresse: Niesenstrasse 38\, 3627 Heimberg\n
LOCATION:Niesenstrasse 38\, 3627 Heimberg
CATEGORIES:Saison 2025/26
END:VEVENT
END:VCALENDAR
