BEGIN:VCALENDAR
PRODID:-//nuDatenautomaten//framework iCal4j //DE
VERSION:2.0
CALSCALE:GREGORIAN
BEGIN:VTIMEZONE
TZID:Europe/Berlin
LAST-MODIFIED:20260306T231828Z
TZURL:https://www.tzurl.org/zoneinfo/Europe/Berlin
X-LIC-LOCATION:Europe/Berlin
X-PROLEPTIC-TZNAME:LMT
BEGIN:STANDARD
TZNAME:CET
TZOFFSETFROM:+005328
TZOFFSETTO:+0100
DTSTART:18930401T000000
END:STANDARD
BEGIN:DAYLIGHT
TZNAME:CEST
TZOFFSETFROM:+0100
TZOFFSETTO:+0200
DTSTART:19160430T230000
RDATE:19400401T020000
RDATE:19430329T020000
RDATE:19460414T020000
RDATE:19470406T030000
RDATE:19480418T020000
RDATE:19490410T020000
RDATE:19800406T020000
END:DAYLIGHT
BEGIN:STANDARD
TZNAME:CET
TZOFFSETFROM:+0200
TZOFFSETTO:+0100
DTSTART:19161001T010000
RDATE:19421102T030000
RDATE:19431004T030000
RDATE:19441002T030000
RDATE:19451118T030000
RDATE:19461007T030000
END:STANDARD
BEGIN:DAYLIGHT
TZNAME:CEST
TZOFFSETFROM:+0100
TZOFFSETTO:+0200
DTSTART:19170416T020000
RRULE:FREQ=YEARLY;UNTIL=19180415T010000Z;BYMONTH=4;BYDAY=3MO
END:DAYLIGHT
BEGIN:STANDARD
TZNAME:CET
TZOFFSETFROM:+0200
TZOFFSETTO:+0100
DTSTART:19170917T030000
RRULE:FREQ=YEARLY;UNTIL=19180916T010000Z;BYMONTH=9;BYDAY=3MO
END:STANDARD
BEGIN:DAYLIGHT
TZNAME:CEST
TZOFFSETFROM:+0100
TZOFFSETTO:+0200
DTSTART:19440403T020000
RRULE:FREQ=YEARLY;UNTIL=19450402T010000Z;BYMONTH=4;BYDAY=1MO
END:DAYLIGHT
BEGIN:DAYLIGHT
TZNAME:CEMT
TZOFFSETFROM:+0200
TZOFFSETTO:+0300
DTSTART:19450524T020000
RDATE:19470511T030000
END:DAYLIGHT
BEGIN:DAYLIGHT
TZNAME:CEST
TZOFFSETFROM:+0300
TZOFFSETTO:+0200
DTSTART:19450924T030000
RDATE:19470629T030000
END:DAYLIGHT
BEGIN:STANDARD
TZNAME:CET
TZOFFSETFROM:+0100
TZOFFSETTO:+0100
DTSTART:19460101T000000
RDATE:19800101T000000
END:STANDARD
BEGIN:STANDARD
TZNAME:CET
TZOFFSETFROM:+0200
TZOFFSETTO:+0100
DTSTART:19471005T030000
RRULE:FREQ=YEARLY;UNTIL=19491002T010000Z;BYMONTH=10;BYDAY=1SU
END:STANDARD
BEGIN:STANDARD
TZNAME:CET
TZOFFSETFROM:+0200
TZOFFSETTO:+0100
DTSTART:19800928T030000
RRULE:FREQ=YEARLY;UNTIL=19950924T010000Z;BYMONTH=9;BYDAY=-1SU
END:STANDARD
BEGIN:DAYLIGHT
TZNAME:CEST
TZOFFSETFROM:+0100
TZOFFSETTO:+0200
DTSTART:19810329T020000
RRULE:FREQ=YEARLY;BYMONTH=3;BYDAY=-1SU
END:DAYLIGHT
BEGIN:STANDARD
TZNAME:CET
TZOFFSETFROM:+0200
TZOFFSETTO:+0100
DTSTART:19961027T030000
RRULE:FREQ=YEARLY;BYMONTH=10;BYDAY=-1SU
END:STANDARD
END:VTIMEZONE
BEGIN:VEVENT
DTSTAMP:20260424T135212Z
DTSTART;TZID=Europe/Berlin:20260120T200000
DTEND;TZID=Europe/Berlin:20260120T230000
SUMMARY:HE 6. Liga Gr. 1 Rorschach III vs Horn III (0)
UID:74a1c9ce-ab05-4b81-ac9f-49462f9cd8f1
STATUS:CONFIRMED
LAST-MODIFIED:20260121T092753Z
DESCRIPTION:6. Liga Herren Gruppe 1\nBegegnungs-Nr: 0\nHeim: Rorschach III\nGast: Horn III\n\nAdresse: Mariabergstrasse 33\, 9400 Rorschach\n
LOCATION:Mariabergstrasse 33\, 9400 Rorschach
CATEGORIES:Saison 2025/26
END:VEVENT
BEGIN:VEVENT
DTSTAMP:20260424T135212Z
DTSTART;TZID=Europe/Berlin:20260303T200000
DTEND;TZID=Europe/Berlin:20260303T230000
SUMMARY:HE 6. Liga Gr. 1 Rorschach III vs Arbon II (0)
UID:c3ca5052-8b85-47d3-a3aa-464705d33338
STATUS:CONFIRMED
LAST-MODIFIED:20260304T104130Z
DESCRIPTION:6. Liga Herren Gruppe 1\nBegegnungs-Nr: 0\nHeim: Rorschach III\nGast: Arbon II\n\nAdresse: Mariabergstrasse 33\, 9400 Rorschach\n
LOCATION:Mariabergstrasse 33\, 9400 Rorschach
CATEGORIES:Saison 2025/26
END:VEVENT
BEGIN:VEVENT
DTSTAMP:20260424T135212Z
DTSTART;TZID=Europe/Berlin:20260324T200000
DTEND;TZID=Europe/Berlin:20260324T230000
SUMMARY:HE 6. Liga Gr. 1 Rorschach III vs Herisau III (0)
UID:50e69d8f-8a32-4d27-bcd7-f4646c336d6f
STATUS:CONFIRMED
LAST-MODIFIED:20260326T153312Z
DESCRIPTION:6. Liga Herren Gruppe 1\nBegegnungs-Nr: 0\nHeim: Rorschach III\nGast: Herisau III\n\nAdresse: Mariabergstrasse 33\, 9400 Rorschach\n
LOCATION:Mariabergstrasse 33\, 9400 Rorschach
CATEGORIES:Saison 2025/26
END:VEVENT
BEGIN:VEVENT
DTSTAMP:20260424T135212Z
DTSTART;TZID=Europe/Berlin:20260203T200000
DTEND;TZID=Europe/Berlin:20260203T230000
SUMMARY:HE 6. Liga Gr. 1 Rorschach III vs St. Gallen IX (0)
UID:614c24e6-56c3-4a29-a3fe-8886d30a9d7c
STATUS:CONFIRMED
LAST-MODIFIED:20260204T085730Z
DESCRIPTION:6. Liga Herren Gruppe 1\nBegegnungs-Nr: 0\nHeim: Rorschach III\nGast: St. Gallen IX\n\nAdresse: Mariabergstrasse 33\, 9400 Rorschach\n
LOCATION:Mariabergstrasse 33\, 9400 Rorschach
CATEGORIES:Saison 2025/26
END:VEVENT
BEGIN:VEVENT
DTSTAMP:20260424T135212Z
DTSTART;TZID=Europe/Berlin:20250916T200000
DTEND;TZID=Europe/Berlin:20250916T230000
SUMMARY:HE 6. Liga Gr. 1 Rorschach III vs Wolfhalden III (0)
UID:1fc38b15-9087-4a45-98d3-0e610a175326
STATUS:CONFIRMED
LAST-MODIFIED:20250926T132931Z
DESCRIPTION:6. Liga Herren Gruppe 1\nBegegnungs-Nr: 0\nHeim: Rorschach III\nGast: Wolfhalden III\n\nAdresse: Mariabergstrasse 33\, 9400 Rorschach\n
LOCATION:Mariabergstrasse 33\, 9400 Rorschach
CATEGORIES:Saison 2025/26
END:VEVENT
BEGIN:VEVENT
DTSTAMP:20260424T135212Z
DTSTART;TZID=Europe/Berlin:20251114T200000
DTEND;TZID=Europe/Berlin:20251114T230000
SUMMARY:HE 6. Liga Gr. 1 Rorschach III vs Oberriet V (0)
UID:df519439-6f27-4ec5-bbbc-a1fe11bfcd4f
STATUS:CONFIRMED
LAST-MODIFIED:20251118T111807Z
DESCRIPTION:6. Liga Herren Gruppe 1\nBegegnungs-Nr: 0\nHeim: Rorschach III\nGast: Oberriet V\n\nAdresse: Mariabergstrasse 33\, 9400 Rorschach\n
LOCATION:Mariabergstrasse 33\, 9400 Rorschach
CATEGORIES:Saison 2025/26
END:VEVENT
BEGIN:VEVENT
DTSTAMP:20260424T135212Z
DTSTART;TZID=Europe/Berlin:20250826T200000
DTEND;TZID=Europe/Berlin:20250826T230000
SUMMARY:HE 6. Liga Gr. 1 Rorschach III vs Gossau St.Gallen V (0)
UID:9dbbdde6-dadd-4cca-827c-10f808eaae7b
STATUS:CONFIRMED
LAST-MODIFIED:20250829T144204Z
DESCRIPTION:6. Liga Herren Gruppe 1\nBegegnungs-Nr: 0\nHeim: Rorschach III\nGast: Gossau St.Gallen V\n\nAdresse: Mariabergstrasse 33\, 9400 Rorschach\n
LOCATION:Mariabergstrasse 33\, 9400 Rorschach
CATEGORIES:Saison 2025/26
END:VEVENT
BEGIN:VEVENT
DTSTAMP:20260424T135212Z
DTSTART;TZID=Europe/Berlin:20260106T200000
DTEND;TZID=Europe/Berlin:20260106T230000
SUMMARY:HE 6. Liga Gr. 1 Gossau St.Gallen V vs Rorschach III (0)
UID:5edad91a-821d-4a6d-a9a2-319f8e4d9344
STATUS:CONFIRMED
LAST-MODIFIED:20260109T080233Z
DESCRIPTION:6. Liga Herren Gruppe 1\nBegegnungs-Nr: 0\nHeim: Gossau St.Gallen V\nGast: Rorschach III\n\nAdresse: Falkenstrasse 21\, 9200 Gossau\n
LOCATION:Falkenstrasse 21\, 9200 Gossau
CATEGORIES:Saison 2025/26
END:VEVENT
BEGIN:VEVENT
DTSTAMP:20260424T135212Z
DTSTART;TZID=Europe/Berlin:20260126T200000
DTEND;TZID=Europe/Berlin:20260126T230000
SUMMARY:HE 6. Liga Gr. 1 Wolfhalden III vs Rorschach III (0)
UID:39155db1-e74d-4278-9330-08969200ddb5
STATUS:CONFIRMED
LAST-MODIFIED:20260130T102728Z
DESCRIPTION:6. Liga Herren Gruppe 1\nBegegnungs-Nr: 0\nHeim: Wolfhalden III\nGast: Rorschach III\n\nAdresse: -\, 9427 Wolfhalden\n
LOCATION:-\, 9427 Wolfhalden
CATEGORIES:Saison 2025/26
END:VEVENT
BEGIN:VEVENT
DTSTAMP:20260424T135212Z
DTSTART;TZID=Europe/Berlin:20260313T201500
DTEND;TZID=Europe/Berlin:20260313T231500
SUMMARY:HE 6. Liga Gr. 1 Oberriet V vs Rorschach III (0)
UID:452b20c8-98bd-4020-8ac3-ed23cf8000c9
STATUS:CONFIRMED
LAST-MODIFIED:20260317T144801Z
DESCRIPTION:6. Liga Herren Gruppe 1\nBegegnungs-Nr: 0\nHeim: Oberriet V\nGast: Rorschach III\n\nAdresse: Neugutstrasse 2\, 9463 Oberriet SG\n
LOCATION:Neugutstrasse 2\, 9463 Oberriet SG
CATEGORIES:Saison 2025/26
END:VEVENT
BEGIN:VEVENT
DTSTAMP:20260424T135212Z
DTSTART;TZID=Europe/Berlin:20250902T200000
DTEND;TZID=Europe/Berlin:20250902T230000
SUMMARY:HE 6. Liga Gr. 1 Horn III vs Rorschach III (0)
UID:7798ee78-6faa-4fd3-8ad9-fab2bea98bbc
STATUS:CONFIRMED
LAST-MODIFIED:20250905T124537Z
DESCRIPTION:6. Liga Herren Gruppe 1\nBegegnungs-Nr: 0\nHeim: Horn III\nGast: Rorschach III\n\nAdresse: Feldstrasse 16\, 9326 Horn\n
LOCATION:Feldstrasse 16\, 9326 Horn
CATEGORIES:Saison 2025/26
END:VEVENT
BEGIN:VEVENT
DTSTAMP:20260424T135212Z
DTSTART;TZID=Europe/Berlin:20250925T200000
DTEND;TZID=Europe/Berlin:20250925T230000
SUMMARY:HE 6. Liga Gr. 1 Arbon II vs Rorschach III (0)
UID:06141fe2-bcd9-429a-a89d-45c7b955a412
STATUS:CONFIRMED
LAST-MODIFIED:20250926T133017Z
DESCRIPTION:6. Liga Herren Gruppe 1\nBegegnungs-Nr: 0\nHeim: Arbon II\nGast: Rorschach III\n\nAdresse: Promenadenstrasse 17\, 9320 Arbon\n
LOCATION:Promenadenstrasse 17\, 9320 Arbon
CATEGORIES:Saison 2025/26
END:VEVENT
BEGIN:VEVENT
DTSTAMP:20260424T135212Z
DTSTART;TZID=Europe/Berlin:20251104T200000
DTEND;TZID=Europe/Berlin:20251104T230000
SUMMARY:HE 6. Liga Gr. 1 Herisau III vs Rorschach III (0)
UID:d5af0dbb-d0cc-4a15-996b-9f5f69055958
STATUS:CONFIRMED
LAST-MODIFIED:20251107T145305Z
DESCRIPTION:6. Liga Herren Gruppe 1\nBegegnungs-Nr: 0\nHeim: Herisau III\nGast: Rorschach III\n\nAdresse: Schwellbrunnerstrasse 29\, 9100 Herisau\n
LOCATION:Schwellbrunnerstrasse 29\, 9100 Herisau
CATEGORIES:Saison 2025/26
END:VEVENT
BEGIN:VEVENT
DTSTAMP:20260424T135212Z
DTSTART;TZID=Europe/Berlin:20251205T200000
DTEND;TZID=Europe/Berlin:20251205T230000
SUMMARY:HE 6. Liga Gr. 1 St. Gallen IX vs Rorschach III (0)
UID:74ff0e37-e3b7-4fd5-b37d-82db9a1261f1
STATUS:CONFIRMED
LAST-MODIFIED:20251210T093135Z
DESCRIPTION:6. Liga Herren Gruppe 1\nBegegnungs-Nr: 0\nHeim: St. Gallen IX\nGast: Rorschach III\n\nAdresse: Zilstrasse 61\, 9016 St.Gallen\n
LOCATION:Zilstrasse 61\, 9016 St.Gallen
CATEGORIES:Saison 2025/26
END:VEVENT
END:VCALENDAR
